BEGIN:VCALENDAR
VERSION:2.0
PRODID:-//Bradley Beach - ECPv6.15.18//NONSGML v1.0//EN
CALSCALE:GREGORIAN
METHOD:PUBLISH
X-ORIGINAL-URL:https://www.bradleybeachnj.gov
X-WR-CALDESC:Events for Bradley Beach
REFRESH-INTERVAL;VALUE=DURATION:PT1H
X-Robots-Tag:noindex
X-PUBLISHED-TTL:PT1H
BEGIN:VTIMEZONE
TZID:America/New_York
BEGIN:DAYLIGHT
TZOFFSETFROM:-0500
TZOFFSETTO:-0400
TZNAME:EDT
DTSTART:20250309T070000
END:DAYLIGHT
BEGIN:STANDARD
TZOFFSETFROM:-0400
TZOFFSETTO:-0500
TZNAME:EST
DTSTART:20251102T060000
END:STANDARD
BEGIN:DAYLIGHT
TZOFFSETFROM:-0500
TZOFFSETTO:-0400
TZNAME:EDT
DTSTART:20260308T070000
END:DAYLIGHT
BEGIN:STANDARD
TZOFFSETFROM:-0400
TZOFFSETTO:-0500
TZNAME:EST
DTSTART:20261101T060000
END:STANDARD
BEGIN:DAYLIGHT
TZOFFSETFROM:-0500
TZOFFSETTO:-0400
TZNAME:EDT
DTSTART:20270314T070000
END:DAYLIGHT
BEGIN:STANDARD
TZOFFSETFROM:-0400
TZOFFSETTO:-0500
TZNAME:EST
DTSTART:20271107T060000
END:STANDARD
END:VTIMEZONE
BEGIN:VEVENT
DTSTART;TZID=America/New_York:20260327T130000
DTEND;TZID=America/New_York:20260327T150000
DTSTAMP:20260423T044654
CREATED:20260217T145947Z
LAST-MODIFIED:20260217T145947Z
UID:10002078-1774616400-1774623600@www.bradleybeachnj.gov
SUMMARY:Open Play Mahjong
DESCRIPTION:
URL:https://www.bradleybeachnj.gov/event/open-play-mahjong/2026-03-27/
LOCATION:Carmen Biase Center\, 719 Main St\, Bradley Beach\, NJ\, 07720\, United States
CATEGORIES:Recreation Calendar
END:VEVENT
BEGIN:VEVENT
DTSTART;TZID=America/New_York:20260327T190000
DTEND;TZID=America/New_York:20260327T203000
DTSTAMP:20260423T044654
CREATED:20260217T145543Z
LAST-MODIFIED:20260217T145827Z
UID:10002070-1774638000-1774643400@www.bradleybeachnj.gov
SUMMARY:Glow in the Dark Egg Hunt
DESCRIPTION:
URL:https://www.bradleybeachnj.gov/event/glow-in-the-dark-egg-hunt-2/
LOCATION:Bradley Beach Rec Center\, 39 1/2 Main St\, Bradley Beach\, NJ\, 07720\, United States
CATEGORIES:Recreation Calendar
END:VEVENT
END:VCALENDAR