BEGIN:VCALENDAR
VERSION:2.0
PRODID:-//Bradley Beach - ECPv6.15.18//NONSGML v1.0//EN
CALSCALE:GREGORIAN
METHOD:PUBLISH
X-WR-CALNAME:Bradley Beach
X-ORIGINAL-URL:https://www.bradleybeachnj.gov
X-WR-CALDESC:Events for Bradley Beach
REFRESH-INTERVAL;VALUE=DURATION:PT1H
X-Robots-Tag:noindex
X-PUBLISHED-TTL:PT1H
BEGIN:VTIMEZONE
TZID:America/New_York
BEGIN:DAYLIGHT
TZOFFSETFROM:-0500
TZOFFSETTO:-0400
TZNAME:EDT
DTSTART:20250309T070000
END:DAYLIGHT
BEGIN:STANDARD
TZOFFSETFROM:-0400
TZOFFSETTO:-0500
TZNAME:EST
DTSTART:20251102T060000
END:STANDARD
BEGIN:DAYLIGHT
TZOFFSETFROM:-0500
TZOFFSETTO:-0400
TZNAME:EDT
DTSTART:20260308T070000
END:DAYLIGHT
BEGIN:STANDARD
TZOFFSETFROM:-0400
TZOFFSETTO:-0500
TZNAME:EST
DTSTART:20261101T060000
END:STANDARD
BEGIN:DAYLIGHT
TZOFFSETFROM:-0500
TZOFFSETTO:-0400
TZNAME:EDT
DTSTART:20270314T070000
END:DAYLIGHT
BEGIN:STANDARD
TZOFFSETFROM:-0400
TZOFFSETTO:-0500
TZNAME:EST
DTSTART:20271107T060000
END:STANDARD
END:VTIMEZONE
BEGIN:VEVENT
DTSTART;VALUE=DATE:20260401
DTEND;VALUE=DATE:20260402
DTSTAMP:20260422T210110
CREATED:20260217T151041Z
LAST-MODIFIED:20260217T151041Z
UID:10002339-1775001600-1775087999@www.bradleybeachnj.gov
SUMMARY:Summer Camp Registration Opens For All
DESCRIPTION:Full Day Camp – https://register.capturepoint.com/reg/cat_program_list_detail.cfm?season_id=32296&program_id=2737833 \nCIT Program – https://register.capturepoint.com/reg/cat_program_list_detail.cfm?season_id=32296&program_id=2737834 \nHalf Day Camp BBES Students Only – https://register.capturepoint.com/reg/cat_program_list_detail.cfm?season_id=32296&program_id=2737835
URL:https://www.bradleybeachnj.gov/event/summer-camp-registration-opens-for-all/
LOCATION:NJ
CATEGORIES:Recreation Calendar
END:VEVENT
END:VCALENDAR