BEGIN:VCALENDAR
VERSION:2.0
PRODID:-//Bradley Beach - ECPv6.15.18//NONSGML v1.0//EN
CALSCALE:GREGORIAN
METHOD:PUBLISH
X-WR-CALNAME:Bradley Beach
X-ORIGINAL-URL:https://www.bradleybeachnj.gov
X-WR-CALDESC:Events for Bradley Beach
REFRESH-INTERVAL;VALUE=DURATION:PT1H
X-Robots-Tag:noindex
X-PUBLISHED-TTL:PT1H
BEGIN:VTIMEZONE
TZID:America/New_York
BEGIN:DAYLIGHT
TZOFFSETFROM:-0500
TZOFFSETTO:-0400
TZNAME:EDT
DTSTART:20250309T070000
END:DAYLIGHT
BEGIN:STANDARD
TZOFFSETFROM:-0400
TZOFFSETTO:-0500
TZNAME:EST
DTSTART:20251102T060000
END:STANDARD
BEGIN:DAYLIGHT
TZOFFSETFROM:-0500
TZOFFSETTO:-0400
TZNAME:EDT
DTSTART:20260308T070000
END:DAYLIGHT
BEGIN:STANDARD
TZOFFSETFROM:-0400
TZOFFSETTO:-0500
TZNAME:EST
DTSTART:20261101T060000
END:STANDARD
BEGIN:DAYLIGHT
TZOFFSETFROM:-0500
TZOFFSETTO:-0400
TZNAME:EDT
DTSTART:20270314T070000
END:DAYLIGHT
BEGIN:STANDARD
TZOFFSETFROM:-0400
TZOFFSETTO:-0500
TZNAME:EST
DTSTART:20271107T060000
END:STANDARD
END:VTIMEZONE
BEGIN:VEVENT
DTSTART;TZID=America/New_York:20260915T080000
DTEND;TZID=America/New_York:20260915T170000
DTSTAMP:20260423T045848
CREATED:20251224T180642Z
LAST-MODIFIED:20251224T180642Z
UID:10002043-1789459200-1789491600@www.bradleybeachnj.gov
SUMMARY:Council Business Meeting
DESCRIPTION:701 Main Street
URL:https://www.bradleybeachnj.gov/event/council-business-meeting-73/
LOCATION:NJ
CATEGORIES:Borough Meetings
END:VEVENT
END:VCALENDAR