BEGIN:VCALENDAR
VERSION:2.0
PRODID:-//Bradley Beach - ECPv6.15.18//NONSGML v1.0//EN
CALSCALE:GREGORIAN
METHOD:PUBLISH
X-WR-CALNAME:Bradley Beach
X-ORIGINAL-URL:https://www.bradleybeachnj.gov
X-WR-CALDESC:Events for Bradley Beach
REFRESH-INTERVAL;VALUE=DURATION:PT1H
X-Robots-Tag:noindex
X-PUBLISHED-TTL:PT1H
BEGIN:VTIMEZONE
TZID:America/New_York
BEGIN:DAYLIGHT
TZOFFSETFROM:-0500
TZOFFSETTO:-0400
TZNAME:EDT
DTSTART:20220313T070000
END:DAYLIGHT
BEGIN:STANDARD
TZOFFSETFROM:-0400
TZOFFSETTO:-0500
TZNAME:EST
DTSTART:20221106T060000
END:STANDARD
BEGIN:DAYLIGHT
TZOFFSETFROM:-0500
TZOFFSETTO:-0400
TZNAME:EDT
DTSTART:20230312T070000
END:DAYLIGHT
BEGIN:STANDARD
TZOFFSETFROM:-0400
TZOFFSETTO:-0500
TZNAME:EST
DTSTART:20231105T060000
END:STANDARD
BEGIN:DAYLIGHT
TZOFFSETFROM:-0500
TZOFFSETTO:-0400
TZNAME:EDT
DTSTART:20240310T070000
END:DAYLIGHT
BEGIN:STANDARD
TZOFFSETFROM:-0400
TZOFFSETTO:-0500
TZNAME:EST
DTSTART:20241103T060000
END:STANDARD
END:VTIMEZONE
BEGIN:VEVENT
DTSTART;TZID=America/New_York:20230401T120000
DTEND;TZID=America/New_York:20230401T120000
DTSTAMP:20260426T002048
CREATED:20230227T183614Z
LAST-MODIFIED:20230308T151154Z
UID:10001355-1680350400-1680350400@www.bradleybeachnj.gov
SUMMARY:Easter Egg Hunt 2023
DESCRIPTION:
URL:https://www.bradleybeachnj.gov/event/easter-egg-hunt-2023/
LOCATION:NJ
CATEGORIES:Borough Calendar
END:VEVENT
BEGIN:VEVENT
DTSTART;TZID=America/New_York:20230420T183000
DTEND;TZID=America/New_York:20230420T183000
DTSTAMP:20260426T002049
CREATED:20230126T182923Z
LAST-MODIFIED:20230126T182923Z
UID:10001317-1682015400-1682015400@www.bradleybeachnj.gov
SUMMARY:LAND USE BOARD MEETING
DESCRIPTION:LAND USE BOARD MEETING \n6:30 PM \nBorough Hall Meeting Room \n701 Main Street\, Bradley Beach\, NJ
URL:https://www.bradleybeachnj.gov/event/land-use-board-meeting-3/
LOCATION:NJ
CATEGORIES:Borough Calendar
END:VEVENT
BEGIN:VEVENT
DTSTART;TZID=America/New_York:20230422T100000
DTEND;TZID=America/New_York:20230422T150000
DTSTAMP:20260426T002049
CREATED:20230221T143223Z
LAST-MODIFIED:20230301T202103Z
UID:10001354-1682157600-1682175600@www.bradleybeachnj.gov
SUMMARY:EARTH DAY FESITVAL & GREEN FAIR 2023
DESCRIPTION:  \n  \n \nGreen Fair VENDOR APPLICATION.docx
URL:https://www.bradleybeachnj.gov/event/earth-day-fesitval-green-fair-2023/
LOCATION:NJ
CATEGORIES:Borough Calendar
END:VEVENT
BEGIN:VEVENT
DTSTART;TZID=America/New_York:20230428T190000
DTEND;TZID=America/New_York:20230428T190000
DTSTAMP:20260426T002049
CREATED:20230313T172515Z
LAST-MODIFIED:20230327T145330Z
UID:10001360-1682708400-1682708400@www.bradleybeachnj.gov
SUMMARY:BBAC presents Cats
DESCRIPTION:2023 BBAC Cats
URL:https://www.bradleybeachnj.gov/event/bbac-presents-cats/2023-04-28/
LOCATION:NJ
CATEGORIES:Borough Calendar
END:VEVENT
BEGIN:VEVENT
DTSTART;TZID=America/New_York:20230429T190000
DTEND;TZID=America/New_York:20230429T190000
DTSTAMP:20260426T002049
CREATED:20230313T172515Z
LAST-MODIFIED:20230327T145330Z
UID:10001361-1682794800-1682794800@www.bradleybeachnj.gov
SUMMARY:BBAC presents Cats
DESCRIPTION:2023 BBAC Cats
URL:https://www.bradleybeachnj.gov/event/bbac-presents-cats/2023-04-29/
LOCATION:NJ
CATEGORIES:Borough Calendar
END:VEVENT
BEGIN:VEVENT
DTSTART;TZID=America/New_York:20230430T150000
DTEND;TZID=America/New_York:20230430T150000
DTSTAMP:20260426T002049
CREATED:20230313T172958Z
LAST-MODIFIED:20230327T145214Z
UID:10001362-1682866800-1682866800@www.bradleybeachnj.gov
SUMMARY:BBAC presents Cats
DESCRIPTION:2023 BBAC Cats
URL:https://www.bradleybeachnj.gov/event/bbac-presents-cats-2/
LOCATION:NJ
CATEGORIES:Borough Calendar
END:VEVENT
END:VCALENDAR