BEGIN:VCALENDAR
VERSION:2.0
PRODID:-//Bradley Beach - ECPv6.15.18//NONSGML v1.0//EN
CALSCALE:GREGORIAN
METHOD:PUBLISH
X-ORIGINAL-URL:https://www.bradleybeachnj.gov
X-WR-CALDESC:Events for Bradley Beach
REFRESH-INTERVAL;VALUE=DURATION:PT1H
X-Robots-Tag:noindex
X-PUBLISHED-TTL:PT1H
BEGIN:VTIMEZONE
TZID:America/New_York
BEGIN:DAYLIGHT
TZOFFSETFROM:-0500
TZOFFSETTO:-0400
TZNAME:EDT
DTSTART:20220313T070000
END:DAYLIGHT
BEGIN:STANDARD
TZOFFSETFROM:-0400
TZOFFSETTO:-0500
TZNAME:EST
DTSTART:20221106T060000
END:STANDARD
BEGIN:DAYLIGHT
TZOFFSETFROM:-0500
TZOFFSETTO:-0400
TZNAME:EDT
DTSTART:20230312T070000
END:DAYLIGHT
BEGIN:STANDARD
TZOFFSETFROM:-0400
TZOFFSETTO:-0500
TZNAME:EST
DTSTART:20231105T060000
END:STANDARD
BEGIN:DAYLIGHT
TZOFFSETFROM:-0500
TZOFFSETTO:-0400
TZNAME:EDT
DTSTART:20240310T070000
END:DAYLIGHT
BEGIN:STANDARD
TZOFFSETFROM:-0400
TZOFFSETTO:-0500
TZNAME:EST
DTSTART:20241103T060000
END:STANDARD
END:VTIMEZONE
BEGIN:VEVENT
DTSTART;VALUE=DATE:20230801
DTEND;VALUE=DATE:20230802
DTSTAMP:20260425T120704
CREATED:20230609T142944Z
LAST-MODIFIED:20230614T185002Z
UID:10001427-1690848000-1690934399@www.bradleybeachnj.gov
SUMMARY:National Night Out at the Beachfront
DESCRIPTION:
URL:https://www.bradleybeachnj.gov/event/national-night-out-at-the-beachfront/
LOCATION:NJ
CATEGORIES:Borough Calendar
END:VEVENT
BEGIN:VEVENT
DTSTART;TZID=America/New_York:20230803T190000
DTEND;TZID=America/New_York:20230803T190000
DTSTAMP:20260425T120704
CREATED:20230609T145812Z
LAST-MODIFIED:20230612T004920Z
UID:10001465-1691089200-1691089200@www.bradleybeachnj.gov
SUMMARY:Summer Concert Series at Newark Avenue Beach
DESCRIPTION:SONGWRITERS ON THE BEACH 2023\nNewark Avenue Beach\, Bradley Beach\n\n\n \nThursday July 6\nSteve Forbert\nCranston Dean\n\n\n \nThursday July 13\nPete Francis (formerly of Dispatch)\nDave Vargo\n\n\n \nThursday July 20\nMediocre\nBaquenne\n\n\n \nThursday July 27\nBrian Dunne\nSpirit Fox (acoustic)\n\n\n \nThursday August 3\nPurr\nThe dt’s\n\n\n \nThursday August 10\nAri Hest\nMike Montali (of Hollis Brown and Fantastic Cat)\nJoseph Alton Miller\n\n\n \nThursday August 17\nMatthew Smith (of Hodera)\nMike Pellegrino (of latewaves)
URL:https://www.bradleybeachnj.gov/event/summer-concert-series-at-newark-ave-beach-2023-08-03/
LOCATION:NJ
CATEGORIES:Borough Calendar
END:VEVENT
BEGIN:VEVENT
DTSTART;TZID=America/New_York:20230804T180000
DTEND;TZID=America/New_York:20230804T180000
DTSTAMP:20260425T120704
CREATED:20230609T145533Z
LAST-MODIFIED:20230710T152551Z
UID:10001456-1691172000-1691172000@www.bradleybeachnj.gov
SUMMARY:DJ Jay at the Beachfront Gazebo
DESCRIPTION:
URL:https://www.bradleybeachnj.gov/event/dj-jay-at-the-beachfront-gazebo/2023-08-04/
LOCATION:NJ
CATEGORIES:Borough Calendar
END:VEVENT
BEGIN:VEVENT
DTSTART;TZID=America/New_York:20230805T170000
DTEND;TZID=America/New_York:20230805T190000
DTSTAMP:20260425T120704
CREATED:20230216T194650Z
LAST-MODIFIED:20230609T150200Z
UID:10001348-1691254800-1691262000@www.bradleybeachnj.gov
SUMMARY:Saturdays in the Park\, Saturday Night Concert Series at Riley Park
DESCRIPTION:Saturdays in the Park\, Saturday Night Concert Series at Riley Park \n 
URL:https://www.bradleybeachnj.gov/event/saturdays-in-the-park-saturday-night-concert-series/2023-08-05/
LOCATION:NJ
CATEGORIES:Borough Calendar
END:VEVENT
BEGIN:VEVENT
DTSTART;VALUE=DATE:20230806
DTEND;VALUE=DATE:20230807
DTSTAMP:20260425T120704
CREATED:20230609T144525Z
LAST-MODIFIED:20230808T140438Z
UID:10001429-1691280000-1691366399@www.bradleybeachnj.gov
SUMMARY:Concert in Riley Park
DESCRIPTION:
URL:https://www.bradleybeachnj.gov/event/concert-in-riley-park/2023-08-06/
LOCATION:NJ
CATEGORIES:Borough Calendar
END:VEVENT
BEGIN:VEVENT
DTSTART;TZID=America/New_York:20230808T180000
DTEND;TZID=America/New_York:20230808T180000
DTSTAMP:20260425T120704
CREATED:20230609T145345Z
LAST-MODIFIED:20230612T003724Z
UID:10001447-1691517600-1691517600@www.bradleybeachnj.gov
SUMMARY:Line Dancing at the Beachfront Gazebo
DESCRIPTION:
URL:https://www.bradleybeachnj.gov/event/salsa-line-dancing-at-the-beachfront-gazebo-2023-08-08/
LOCATION:NJ
CATEGORIES:Borough Calendar
END:VEVENT
BEGIN:VEVENT
DTSTART;TZID=America/New_York:20230810T190000
DTEND;TZID=America/New_York:20230810T190000
DTSTAMP:20260425T120704
CREATED:20230609T145812Z
LAST-MODIFIED:20230810T173634Z
UID:10001466-1691694000-1691694000@www.bradleybeachnj.gov
SUMMARY:CANCELLED        Summer Concert Series at Newark Avenue Beach
DESCRIPTION:SONGWRITERS ON THE BEACH 2023\nNewark Avenue Beach\, Bradley Beach\n\n\n\nThursday July 6\nSteve Forbert\nCranston Dean\n\n\n\nThursday July 13\nPete Francis (formerly of Dispatch)\nDave Vargo\n\n\n\nThursday July 20\nMediocre\nBaquenne\n\n\n\nThursday July 27\nBrian Dunne\nSpirit Fox (acoustic)\n\n\n\nThursday August 3\nPurr\nThe dt’s\n\n\n\nThursday August 10 CANCELLED\nAri Hest\nMike Montali (of Hollis Brown and Fantastic Cat)\nJoseph Alton Miller\n\n\n\nThursday August 17\nMatthew Smith (of Hodera)\nMike Pellegrino (of latewaves)
URL:https://www.bradleybeachnj.gov/event/summer-concert-series-at-newark-ave-beach-2023-08-10/
LOCATION:NJ
CATEGORIES:Borough Calendar
END:VEVENT
BEGIN:VEVENT
DTSTART;TZID=America/New_York:20230811T180000
DTEND;TZID=America/New_York:20230811T180000
DTSTAMP:20260425T120704
CREATED:20230609T145533Z
LAST-MODIFIED:20230710T152551Z
UID:10001457-1691776800-1691776800@www.bradleybeachnj.gov
SUMMARY:DJ Jay at the Beachfront Gazebo
DESCRIPTION:
URL:https://www.bradleybeachnj.gov/event/dj-jay-at-the-beachfront-gazebo/2023-08-11/
LOCATION:NJ
CATEGORIES:Borough Calendar
END:VEVENT
BEGIN:VEVENT
DTSTART;TZID=America/New_York:20230812T170000
DTEND;TZID=America/New_York:20230812T190000
DTSTAMP:20260425T120704
CREATED:20230216T194650Z
LAST-MODIFIED:20230609T150200Z
UID:10001349-1691859600-1691866800@www.bradleybeachnj.gov
SUMMARY:Saturdays in the Park\, Saturday Night Concert Series at Riley Park
DESCRIPTION:Saturdays in the Park\, Saturday Night Concert Series at Riley Park \n 
URL:https://www.bradleybeachnj.gov/event/saturdays-in-the-park-saturday-night-concert-series/2023-08-12/
LOCATION:NJ
CATEGORIES:Borough Calendar
END:VEVENT
BEGIN:VEVENT
DTSTART;TZID=America/New_York:20230814T180000
DTEND;TZID=America/New_York:20230814T200000
DTSTAMP:20260425T120704
CREATED:20230609T184555Z
LAST-MODIFIED:20230609T184555Z
UID:10001470-1692036000-1692043200@www.bradleybeachnj.gov
SUMMARY:Opera by the Sea\, Beachfront Gazebo
DESCRIPTION:
URL:https://www.bradleybeachnj.gov/event/opera-by-the-sea-beachfront-gazebo-2/
LOCATION:NJ
CATEGORIES:Borough Calendar
END:VEVENT
BEGIN:VEVENT
DTSTART;TZID=America/New_York:20230815T180000
DTEND;TZID=America/New_York:20230815T180000
DTSTAMP:20260425T120704
CREATED:20230609T145345Z
LAST-MODIFIED:20230612T003558Z
UID:10001448-1692122400-1692122400@www.bradleybeachnj.gov
SUMMARY:Salsa Lessons at the Beachfront Gazebo
DESCRIPTION:
URL:https://www.bradleybeachnj.gov/event/salsa-lessons-at-the-beachfront-gazebo-2023-08-15/
LOCATION:NJ
CATEGORIES:Borough Calendar
END:VEVENT
BEGIN:VEVENT
DTSTART;TZID=America/New_York:20230817T183000
DTEND;TZID=America/New_York:20230817T183000
DTSTAMP:20260425T120704
CREATED:20230126T183305Z
LAST-MODIFIED:20230126T183305Z
UID:10001321-1692297000-1692297000@www.bradleybeachnj.gov
SUMMARY:LAND USE BOARD MEETING
DESCRIPTION:LAND USE BOARD MEETING \n6:30 PM \nBorough Hall Meeting Room \n701 Main Street\, Bradley Beach\, NJ
URL:https://www.bradleybeachnj.gov/event/land-use-board-meeting-7/
LOCATION:NJ
CATEGORIES:Borough Calendar
END:VEVENT
BEGIN:VEVENT
DTSTART;TZID=America/New_York:20230817T190000
DTEND;TZID=America/New_York:20230817T190000
DTSTAMP:20260425T120704
CREATED:20230609T145812Z
LAST-MODIFIED:20230612T004734Z
UID:10001467-1692298800-1692298800@www.bradleybeachnj.gov
SUMMARY:Summer Concert Series at Newark Avenue Beach
DESCRIPTION:SONGWRITERS ON THE BEACH 2023\nNewark Avenue Beach\, Bradley Beach\n\n\n \nThursday July 6\nSteve Forbert\nCranston Dean\n\n\n \nThursday July 13\nPete Francis (formerly of Dispatch)\nDave Vargo\n\n\n \nThursday July 20\nMediocre\nBaquenne\n\n\n \nThursday July 27\nBrian Dunne\nSpirit Fox (acoustic)\n\n\n \nThursday August 3\nPurr\nThe dt’s\n\n\n \nThursday August 10\nAri Hest\nMike Montali (of Hollis Brown and Fantastic Cat)\nJoseph Alton Miller\n\n\n \nThursday August 17\nMatthew Smith (of Hodera)\nMike Pellegrino (of latewaves)
URL:https://www.bradleybeachnj.gov/event/summer-concert-series-at-newark-ave-beach-2023-08-17/
LOCATION:NJ
CATEGORIES:Borough Calendar
END:VEVENT
BEGIN:VEVENT
DTSTART;TZID=America/New_York:20230818T180000
DTEND;TZID=America/New_York:20230818T180000
DTSTAMP:20260425T120704
CREATED:20230609T145533Z
LAST-MODIFIED:20230710T152551Z
UID:10001458-1692381600-1692381600@www.bradleybeachnj.gov
SUMMARY:DJ Jay at the Beachfront Gazebo
DESCRIPTION:
URL:https://www.bradleybeachnj.gov/event/dj-jay-at-the-beachfront-gazebo/2023-08-18/
LOCATION:NJ
CATEGORIES:Borough Calendar
END:VEVENT
BEGIN:VEVENT
DTSTART;TZID=America/New_York:20230819T120000
DTEND;TZID=America/New_York:20230819T150000
DTSTAMP:20260425T120704
CREATED:20230609T143042Z
LAST-MODIFIED:20230609T143450Z
UID:10001428-1692446400-1692457200@www.bradleybeachnj.gov
SUMMARY:Pirate Day (Townwide)
DESCRIPTION:
URL:https://www.bradleybeachnj.gov/event/pirate-day-townwide/
LOCATION:NJ
CATEGORIES:Borough Calendar
END:VEVENT
BEGIN:VEVENT
DTSTART;TZID=America/New_York:20230819T170000
DTEND;TZID=America/New_York:20230819T190000
DTSTAMP:20260425T120704
CREATED:20230216T194650Z
LAST-MODIFIED:20230609T150200Z
UID:10001350-1692464400-1692471600@www.bradleybeachnj.gov
SUMMARY:Saturdays in the Park\, Saturday Night Concert Series at Riley Park
DESCRIPTION:Saturdays in the Park\, Saturday Night Concert Series at Riley Park \n 
URL:https://www.bradleybeachnj.gov/event/saturdays-in-the-park-saturday-night-concert-series/2023-08-19/
LOCATION:NJ
CATEGORIES:Borough Calendar
END:VEVENT
BEGIN:VEVENT
DTSTART;TZID=America/New_York:20230822T180000
DTEND;TZID=America/New_York:20230822T180000
DTSTAMP:20260425T120704
CREATED:20230609T145345Z
LAST-MODIFIED:20230612T003643Z
UID:10001449-1692727200-1692727200@www.bradleybeachnj.gov
SUMMARY:Line Dancing at the Beachfront Gazebo
DESCRIPTION:
URL:https://www.bradleybeachnj.gov/event/salsa-line-dancing-at-the-beachfront-gazebo-2023-08-22/
LOCATION:NJ
CATEGORIES:Borough Calendar
END:VEVENT
BEGIN:VEVENT
DTSTART;TZID=America/New_York:20230824T190000
DTEND;TZID=America/New_York:20230824T190000
DTSTAMP:20260425T120704
CREATED:20230810T173949Z
LAST-MODIFIED:20230810T173949Z
UID:10001497-1692903600-1692903600@www.bradleybeachnj.gov
SUMMARY:Summer Concert Series at Newark Avenue Beach
DESCRIPTION:  \n\n  \n \nThursday August 24\nAri Hest\nMike Montali (of Hollis Brown and Fantastic Cat)\nJoseph Alton Miller
URL:https://www.bradleybeachnj.gov/event/summer-concert-series-at-newark-avenue-beach/
LOCATION:NJ
CATEGORIES:Borough Calendar
END:VEVENT
BEGIN:VEVENT
DTSTART;TZID=America/New_York:20230825T180000
DTEND;TZID=America/New_York:20230825T180000
DTSTAMP:20260425T120704
CREATED:20230609T145533Z
LAST-MODIFIED:20230710T152551Z
UID:10001459-1692986400-1692986400@www.bradleybeachnj.gov
SUMMARY:DJ Jay at the Beachfront Gazebo
DESCRIPTION:
URL:https://www.bradleybeachnj.gov/event/dj-jay-at-the-beachfront-gazebo/2023-08-25/
LOCATION:NJ
CATEGORIES:Borough Calendar
END:VEVENT
BEGIN:VEVENT
DTSTART;TZID=America/New_York:20230826T170000
DTEND;TZID=America/New_York:20230826T190000
DTSTAMP:20260425T120705
CREATED:20230216T194650Z
LAST-MODIFIED:20230609T150200Z
UID:10001351-1693069200-1693076400@www.bradleybeachnj.gov
SUMMARY:Saturdays in the Park\, Saturday Night Concert Series at Riley Park
DESCRIPTION:Saturdays in the Park\, Saturday Night Concert Series at Riley Park \n 
URL:https://www.bradleybeachnj.gov/event/saturdays-in-the-park-saturday-night-concert-series/2023-08-26/
LOCATION:NJ
CATEGORIES:Borough Calendar
END:VEVENT
BEGIN:VEVENT
DTSTART;TZID=America/New_York:20230828T180000
DTEND;TZID=America/New_York:20230828T200000
DTSTAMP:20260425T120705
CREATED:20230609T144946Z
LAST-MODIFIED:20230609T183949Z
UID:10001432-1693245600-1693252800@www.bradleybeachnj.gov
SUMMARY:Opera by the Sea at the Beachfront Gazebo
DESCRIPTION:
URL:https://www.bradleybeachnj.gov/event/opera-by-the-sea-at-the-beachfront-gazebo-2023-08-28-2023-08-28/2023-08-28/
LOCATION:NJ
CATEGORIES:Borough Calendar
END:VEVENT
BEGIN:VEVENT
DTSTART;TZID=America/New_York:20230829T180000
DTEND;TZID=America/New_York:20230829T180000
DTSTAMP:20260425T120705
CREATED:20230609T145345Z
LAST-MODIFIED:20230612T003458Z
UID:10001450-1693332000-1693332000@www.bradleybeachnj.gov
SUMMARY:Salsa Lessons at the Beachfront Gazebo
DESCRIPTION:
URL:https://www.bradleybeachnj.gov/event/salsa-lessons-at-the-beachfront-gazebo-2023-08-29/
LOCATION:NJ
CATEGORIES:Borough Calendar
END:VEVENT
END:VCALENDAR