BEGIN:VCALENDAR
VERSION:2.0
PRODID:-//Bradley Beach - ECPv6.15.18//NONSGML v1.0//EN
CALSCALE:GREGORIAN
METHOD:PUBLISH
X-ORIGINAL-URL:https://www.bradleybeachnj.gov
X-WR-CALDESC:Events for Bradley Beach
REFRESH-INTERVAL;VALUE=DURATION:PT1H
X-Robots-Tag:noindex
X-PUBLISHED-TTL:PT1H
BEGIN:VTIMEZONE
TZID:America/New_York
BEGIN:DAYLIGHT
TZOFFSETFROM:-0500
TZOFFSETTO:-0400
TZNAME:EDT
DTSTART:20230312T070000
END:DAYLIGHT
BEGIN:STANDARD
TZOFFSETFROM:-0400
TZOFFSETTO:-0500
TZNAME:EST
DTSTART:20231105T060000
END:STANDARD
BEGIN:DAYLIGHT
TZOFFSETFROM:-0500
TZOFFSETTO:-0400
TZNAME:EDT
DTSTART:20240310T070000
END:DAYLIGHT
BEGIN:STANDARD
TZOFFSETFROM:-0400
TZOFFSETTO:-0500
TZNAME:EST
DTSTART:20241103T060000
END:STANDARD
BEGIN:DAYLIGHT
TZOFFSETFROM:-0500
TZOFFSETTO:-0400
TZNAME:EDT
DTSTART:20250309T070000
END:DAYLIGHT
BEGIN:STANDARD
TZOFFSETFROM:-0400
TZOFFSETTO:-0500
TZNAME:EST
DTSTART:20251102T060000
END:STANDARD
END:VTIMEZONE
BEGIN:VEVENT
DTSTART;TZID=America/New_York:20240202T190000
DTEND;TZID=America/New_York:20240202T200000
DTSTAMP:20260424T212510
CREATED:20231221T160103Z
LAST-MODIFIED:20231221T160103Z
UID:10001560-1706900400-1706904000@www.bradleybeachnj.gov
SUMMARY:Bradley Beach Arts Council Presents - Driving Miss Daisy
DESCRIPTION:
URL:https://www.bradleybeachnj.gov/event/bradley-beach-arts-council-presents-driving-miss-daisy-4/
LOCATION:NJ
CATEGORIES:Borough Calendar
END:VEVENT
BEGIN:VEVENT
DTSTART;TZID=America/New_York:20240203T190000
DTEND;TZID=America/New_York:20240203T200000
DTSTAMP:20260424T212510
CREATED:20231221T165603Z
LAST-MODIFIED:20231221T165603Z
UID:10001561-1706986800-1706990400@www.bradleybeachnj.gov
SUMMARY:Bradley Beach Arts Council Presents - Driving Miss Daisy
DESCRIPTION:
URL:https://www.bradleybeachnj.gov/event/bradley-beach-arts-council-presents-driving-miss-daisy-5/
LOCATION:NJ
CATEGORIES:Borough Calendar
END:VEVENT
BEGIN:VEVENT
DTSTART;VALUE=DATE:20240219
DTEND;VALUE=DATE:20240220
DTSTAMP:20260424T212510
CREATED:20240209T151316Z
LAST-MODIFIED:20240209T151316Z
UID:10001602-1708300800-1708387199@www.bradleybeachnj.gov
SUMMARY:PRESIDENTS' DAY BOROUGH CLOSED
DESCRIPTION:In observance of Presidents’ Day the Borough will be closed and will reopen on Tuesday\, February 20th at 9:00 am.
URL:https://www.bradleybeachnj.gov/event/presidents-day-borough-closed/
LOCATION:NJ
CATEGORIES:Borough Calendar
END:VEVENT
BEGIN:VEVENT
DTSTART;VALUE=DATE:20240229
DTEND;VALUE=DATE:20240301
DTSTAMP:20260424T212510
CREATED:20240209T151940Z
LAST-MODIFIED:20240209T152059Z
UID:10001618-1709164800-1709251199@www.bradleybeachnj.gov
SUMMARY:DOG LICENSING
DESCRIPTION:Dog Licenses are due by today.  Starting March 1st\,  a $10.00 late fee will incur per license renewal.
URL:https://www.bradleybeachnj.gov/event/dog-licensing/
LOCATION:NJ
CATEGORIES:Borough Calendar
END:VEVENT
END:VCALENDAR