BEGIN:VCALENDAR
VERSION:2.0
PRODID:-//Bradley Beach - ECPv6.15.18//NONSGML v1.0//EN
CALSCALE:GREGORIAN
METHOD:PUBLISH
X-WR-CALNAME:Bradley Beach
X-ORIGINAL-URL:https://www.bradleybeachnj.gov
X-WR-CALDESC:Events for Bradley Beach
REFRESH-INTERVAL;VALUE=DURATION:PT1H
X-Robots-Tag:noindex
X-PUBLISHED-TTL:PT1H
BEGIN:VTIMEZONE
TZID:America/New_York
BEGIN:DAYLIGHT
TZOFFSETFROM:-0500
TZOFFSETTO:-0400
TZNAME:EDT
DTSTART:20240310T070000
END:DAYLIGHT
BEGIN:STANDARD
TZOFFSETFROM:-0400
TZOFFSETTO:-0500
TZNAME:EST
DTSTART:20241103T060000
END:STANDARD
BEGIN:DAYLIGHT
TZOFFSETFROM:-0500
TZOFFSETTO:-0400
TZNAME:EDT
DTSTART:20250309T070000
END:DAYLIGHT
BEGIN:STANDARD
TZOFFSETFROM:-0400
TZOFFSETTO:-0500
TZNAME:EST
DTSTART:20251102T060000
END:STANDARD
BEGIN:DAYLIGHT
TZOFFSETFROM:-0500
TZOFFSETTO:-0400
TZNAME:EDT
DTSTART:20260308T070000
END:DAYLIGHT
BEGIN:STANDARD
TZOFFSETFROM:-0400
TZOFFSETTO:-0500
TZNAME:EST
DTSTART:20261101T060000
END:STANDARD
END:VTIMEZONE
BEGIN:VEVENT
DTSTART;TZID=America/New_York:20250705T200000
DTEND;TZID=America/New_York:20250705T210000
DTSTAMP:20260423T144008
CREATED:20250324T140852Z
LAST-MODIFIED:20250324T140852Z
UID:10001576-1751745600-1751749200@www.bradleybeachnj.gov
SUMMARY:4th of July Fireworks
DESCRIPTION:
URL:https://www.bradleybeachnj.gov/event/4th-of-july-fireworks/
LOCATION:NJ
CATEGORIES:Borough Calendar
END:VEVENT
BEGIN:VEVENT
DTSTART;TZID=America/New_York:20250706T200000
DTEND;TZID=America/New_York:20250706T210000
DTSTAMP:20260423T144008
CREATED:20250324T140932Z
LAST-MODIFIED:20250324T140932Z
UID:10001578-1751832000-1751835600@www.bradleybeachnj.gov
SUMMARY:4th of July Fireworks ( Raindate)
DESCRIPTION:
URL:https://www.bradleybeachnj.gov/event/4th-of-july-fireworks-raindate/
LOCATION:NJ
CATEGORIES:Borough Calendar
END:VEVENT
BEGIN:VEVENT
DTSTART;TZID=America/New_York:20250712T083000
DTEND;TZID=America/New_York:20250712T093000
DTSTAMP:20260423T144008
CREATED:20250522T164312Z
LAST-MODIFIED:20250602T202131Z
UID:10001874-1752309000-1752312600@www.bradleybeachnj.gov
SUMMARY:Jack Wright Ocean Mile Swim
DESCRIPTION:Click HERE to register 
URL:https://www.bradleybeachnj.gov/event/jack-wright-ocean-mile-swim-3/
LOCATION:NJ
CATEGORIES:Borough Calendar
END:VEVENT
BEGIN:VEVENT
DTSTART;TZID=America/New_York:20250720T090000
DTEND;TZID=America/New_York:20250720T100000
DTSTAMP:20260423T144008
CREATED:20250716T155039Z
LAST-MODIFIED:20250716T155039Z
UID:10001886-1753002000-1753005600@www.bradleybeachnj.gov
SUMMARY:MWC Walk Behavioral Health with Lynn Seward
DESCRIPTION:
URL:https://www.bradleybeachnj.gov/event/mwc-walk-behavioral-health-with-lynn-seward/
LOCATION:5th Ave Gazebo\, 5th ave\, Bradley Beach\, New Jersey\, 07720
CATEGORIES:Borough Calendar
END:VEVENT
END:VCALENDAR