BEGIN:VCALENDAR
VERSION:2.0
PRODID:-//Bradley Beach - ECPv6.15.18//NONSGML v1.0//EN
CALSCALE:GREGORIAN
METHOD:PUBLISH
X-ORIGINAL-URL:https://www.bradleybeachnj.gov
X-WR-CALDESC:Events for Bradley Beach
REFRESH-INTERVAL;VALUE=DURATION:PT1H
X-Robots-Tag:noindex
X-PUBLISHED-TTL:PT1H
BEGIN:VTIMEZONE
TZID:America/New_York
BEGIN:DAYLIGHT
TZOFFSETFROM:-0500
TZOFFSETTO:-0400
TZNAME:EDT
DTSTART:20220313T070000
END:DAYLIGHT
BEGIN:STANDARD
TZOFFSETFROM:-0400
TZOFFSETTO:-0500
TZNAME:EST
DTSTART:20221106T060000
END:STANDARD
BEGIN:DAYLIGHT
TZOFFSETFROM:-0500
TZOFFSETTO:-0400
TZNAME:EDT
DTSTART:20230312T070000
END:DAYLIGHT
BEGIN:STANDARD
TZOFFSETFROM:-0400
TZOFFSETTO:-0500
TZNAME:EST
DTSTART:20231105T060000
END:STANDARD
BEGIN:DAYLIGHT
TZOFFSETFROM:-0500
TZOFFSETTO:-0400
TZNAME:EDT
DTSTART:20240310T070000
END:DAYLIGHT
BEGIN:STANDARD
TZOFFSETFROM:-0400
TZOFFSETTO:-0500
TZNAME:EST
DTSTART:20241103T060000
END:STANDARD
END:VTIMEZONE
BEGIN:VEVENT
DTSTART;TZID=America/New_York:20230727T190000
DTEND;TZID=America/New_York:20230727T190000
DTSTAMP:20260425T193125
CREATED:20230609T145812Z
LAST-MODIFIED:20230612T005009Z
UID:10001464-1690484400-1690484400@www.bradleybeachnj.gov
SUMMARY:Summer Concert Series at Newark Avenue Beach
DESCRIPTION:SONGWRITERS ON THE BEACH 2023\nNewark Avenue Beach\, Bradley Beach\n\n\n \nThursday July 6\nSteve Forbert\nCranston Dean\n\n\n \nThursday July 13\nPete Francis (formerly of Dispatch)\nDave Vargo\n\n\n \nThursday July 20\nMediocre\nBaquenne\n\n\n \nThursday July 27\nBrian Dunne\nSpirit Fox (acoustic)\n\n\n \nThursday August 3\nPurr\nThe dt’s\n\n\n \nThursday August 10\nAri Hest\nMike Montali (of Hollis Brown and Fantastic Cat)\nJoseph Alton Miller\n\n\n \nThursday August 17\nMatthew Smith (of Hodera)\nMike Pellegrino (of latewaves)
URL:https://www.bradleybeachnj.gov/event/summer-concert-series-at-newark-ave-beach-2023-07-27/
LOCATION:NJ
CATEGORIES:Borough Calendar
END:VEVENT
END:VCALENDAR