BEGIN:VCALENDAR
VERSION:2.0
PRODID:-//Bradley Beach - ECPv6.15.18//NONSGML v1.0//EN
CALSCALE:GREGORIAN
METHOD:PUBLISH
X-WR-CALNAME:Bradley Beach
X-ORIGINAL-URL:https://www.bradleybeachnj.gov
X-WR-CALDESC:Events for Bradley Beach
REFRESH-INTERVAL;VALUE=DURATION:PT1H
X-Robots-Tag:noindex
X-PUBLISHED-TTL:PT1H
BEGIN:VTIMEZONE
TZID:America/New_York
BEGIN:DAYLIGHT
TZOFFSETFROM:-0500
TZOFFSETTO:-0400
TZNAME:EDT
DTSTART:20230312T070000
END:DAYLIGHT
BEGIN:STANDARD
TZOFFSETFROM:-0400
TZOFFSETTO:-0500
TZNAME:EST
DTSTART:20231105T060000
END:STANDARD
BEGIN:DAYLIGHT
TZOFFSETFROM:-0500
TZOFFSETTO:-0400
TZNAME:EDT
DTSTART:20240310T070000
END:DAYLIGHT
BEGIN:STANDARD
TZOFFSETFROM:-0400
TZOFFSETTO:-0500
TZNAME:EST
DTSTART:20241103T060000
END:STANDARD
BEGIN:DAYLIGHT
TZOFFSETFROM:-0500
TZOFFSETTO:-0400
TZNAME:EDT
DTSTART:20250309T070000
END:DAYLIGHT
BEGIN:STANDARD
TZOFFSETFROM:-0400
TZOFFSETTO:-0500
TZNAME:EST
DTSTART:20251102T060000
END:STANDARD
END:VTIMEZONE
BEGIN:VEVENT
DTSTART;TZID=America/New_York:20240525T090000
DTEND;TZID=America/New_York:20240525T190000
DTSTAMP:20260424T161711
CREATED:20240209T162436Z
LAST-MODIFIED:20240209T162654Z
UID:10001636-1716627600-1716663600@www.bradleybeachnj.gov
SUMMARY:MEMORIAL DAY WEEKEND FESTIVAL*RAIN OR SHINE*
DESCRIPTION:*RAIN OR SHINE* \nBEACH FRONT PROMENADE
URL:https://www.bradleybeachnj.gov/event/memorial-day-weekend-festivalrain-or-shine/
LOCATION:NJ
CATEGORIES:Borough Calendar,Community Events Calendar
END:VEVENT
BEGIN:VEVENT
DTSTART;TZID=America/New_York:20240525T100000
DTEND;TZID=America/New_York:20240525T120000
DTSTAMP:20260424T161711
CREATED:20240209T161935Z
LAST-MODIFIED:20240209T162012Z
UID:10001634-1716631200-1716638400@www.bradleybeachnj.gov
SUMMARY:MEMORIAL DAY PARADE
DESCRIPTION:Ocean Avenue 10 a.m.
URL:https://www.bradleybeachnj.gov/event/memorial-day-parade/
LOCATION:NJ
CATEGORIES:Borough Calendar,Community Events Calendar
END:VEVENT
END:VCALENDAR