BEGIN:VCALENDAR
VERSION:2.0
PRODID:-//Bradley Beach - ECPv6.15.18//NONSGML v1.0//EN
CALSCALE:GREGORIAN
METHOD:PUBLISH
X-WR-CALNAME:Bradley Beach
X-ORIGINAL-URL:https://www.bradleybeachnj.gov
X-WR-CALDESC:Events for Bradley Beach
REFRESH-INTERVAL;VALUE=DURATION:PT1H
X-Robots-Tag:noindex
X-PUBLISHED-TTL:PT1H
BEGIN:VTIMEZONE
TZID:America/New_York
BEGIN:DAYLIGHT
TZOFFSETFROM:-0500
TZOFFSETTO:-0400
TZNAME:EDT
DTSTART:20230312T070000
END:DAYLIGHT
BEGIN:STANDARD
TZOFFSETFROM:-0400
TZOFFSETTO:-0500
TZNAME:EST
DTSTART:20231105T060000
END:STANDARD
BEGIN:DAYLIGHT
TZOFFSETFROM:-0500
TZOFFSETTO:-0400
TZNAME:EDT
DTSTART:20240310T070000
END:DAYLIGHT
BEGIN:STANDARD
TZOFFSETFROM:-0400
TZOFFSETTO:-0500
TZNAME:EST
DTSTART:20241103T060000
END:STANDARD
BEGIN:DAYLIGHT
TZOFFSETFROM:-0500
TZOFFSETTO:-0400
TZNAME:EDT
DTSTART:20250309T070000
END:DAYLIGHT
BEGIN:STANDARD
TZOFFSETFROM:-0400
TZOFFSETTO:-0500
TZNAME:EST
DTSTART:20251102T060000
END:STANDARD
BEGIN:DAYLIGHT
TZOFFSETFROM:-0500
TZOFFSETTO:-0400
TZNAME:EDT
DTSTART:20260308T070000
END:DAYLIGHT
BEGIN:STANDARD
TZOFFSETFROM:-0400
TZOFFSETTO:-0500
TZNAME:EST
DTSTART:20261101T060000
END:STANDARD
BEGIN:DAYLIGHT
TZOFFSETFROM:-0500
TZOFFSETTO:-0400
TZNAME:EDT
DTSTART:20270314T070000
END:DAYLIGHT
BEGIN:STANDARD
TZOFFSETFROM:-0400
TZOFFSETTO:-0500
TZNAME:EST
DTSTART:20271107T060000
END:STANDARD
END:VTIMEZONE
BEGIN:VEVENT
DTSTART;TZID=America/New_York:20260416T183000
DTEND;TZID=America/New_York:20260416T220000
DTSTAMP:20260423T020502
CREATED:20260123T131033Z
LAST-MODIFIED:20260123T131033Z
UID:10002059-1776364200-1776376800@www.bradleybeachnj.gov
SUMMARY:Land Use Board Meeting
DESCRIPTION:
URL:https://www.bradleybeachnj.gov/event/land-use-board-meeting-14/
LOCATION:Borough Hall Meeting Room\, 701 Main Street\, Bradley Beach\, NJ\, 07720\, United States
CATEGORIES:Borough Calendar,Borough Meetings
END:VEVENT
BEGIN:VEVENT
DTSTART;TZID=America/New_York:20260319T183000
DTEND;TZID=America/New_York:20260319T220000
DTSTAMP:20260423T020502
CREATED:20260123T130840Z
LAST-MODIFIED:20260123T131144Z
UID:10002058-1773945000-1773957600@www.bradleybeachnj.gov
SUMMARY:Land Use Board Meeting
DESCRIPTION:
URL:https://www.bradleybeachnj.gov/event/land-use-board-meeting-13/
LOCATION:Borough Hall Meeting Room\, 701 Main Street\, Bradley Beach\, NJ\, 07720\, United States
CATEGORIES:Borough Calendar,Borough Meetings
END:VEVENT
BEGIN:VEVENT
DTSTART;TZID=America/New_York:20260219T183000
DTEND;TZID=America/New_York:20260219T220000
DTSTAMP:20260423T020502
CREATED:20260123T130614Z
LAST-MODIFIED:20260219T224108Z
UID:10002057-1771525800-1771538400@www.bradleybeachnj.gov
SUMMARY:Land Use Board Meeting - EMERGENCY RELOCATION TO BANQUET HALL AT FIREHOUSE - NO POWER @ BOROUGH HALL
DESCRIPTION:
URL:https://www.bradleybeachnj.gov/event/land-use-board-meeting-12/
LOCATION:Bradley Beach Fire House
CATEGORIES:Borough Calendar,Borough Meetings
END:VEVENT
BEGIN:VEVENT
DTSTART;TZID=America/New_York:20260108T183000
DTEND;TZID=America/New_York:20260108T220000
DTSTAMP:20260423T020502
CREATED:20260105T010837Z
LAST-MODIFIED:20260105T010958Z
UID:10002051-1767897000-1767909600@www.bradleybeachnj.gov
SUMMARY:Land Use Board Reorganization Meeting Immediately Followed by Regular Meeting
DESCRIPTION:
URL:https://www.bradleybeachnj.gov/event/land-use-board-reorganization-immediately-followed-by-regular-meeting/
LOCATION:Borough Hall Meeting Room\, 701 Main Street\, Bradley Beach\, NJ\, 07720\, United States
CATEGORIES:Borough Calendar
END:VEVENT
BEGIN:VEVENT
DTSTART;TZID=America/New_York:20251214T170000
DTEND;TZID=America/New_York:20251214T190000
DTSTAMP:20260423T020502
CREATED:20251118T171804Z
LAST-MODIFIED:20251118T171804Z
UID:10002024-1765731600-1765738800@www.bradleybeachnj.gov
SUMMARY:Menorah Lighting
DESCRIPTION:Lighting at dusk!
URL:https://www.bradleybeachnj.gov/event/menorah-lighting/
LOCATION:NJ
CATEGORIES:Borough Calendar,Community Events Calendar
ATTACH;FMTTYPE=image/jpeg:https://www.bradleybeachnj.gov/wp-content/uploads/2025/11/3BACA7A6-0824-4664-9380-FE4874959CAC.jpg
END:VEVENT
BEGIN:VEVENT
DTSTART;TZID=America/New_York:20251130T160000
DTEND;TZID=America/New_York:20251130T180000
DTSTAMP:20260423T020502
CREATED:20251118T171531Z
LAST-MODIFIED:20251118T171531Z
UID:10002022-1764518400-1764525600@www.bradleybeachnj.gov
SUMMARY:Annual Tree Lighting
DESCRIPTION:
URL:https://www.bradleybeachnj.gov/event/annual-tree-lighting/
LOCATION:Riley Park
CATEGORIES:Borough Calendar,Community Events Calendar,Recreation Calendar,Tourism Event Calendar
ATTACH;FMTTYPE=image/jpeg:https://www.bradleybeachnj.gov/wp-content/uploads/2025/11/3BACA7A6-0824-4664-9380-FE4874959CAC.jpg
END:VEVENT
BEGIN:VEVENT
DTSTART;TZID=America/New_York:20251128T180000
DTEND;TZID=America/New_York:20251128T210000
DTSTAMP:20260423T020502
CREATED:20251118T171658Z
LAST-MODIFIED:20251118T171658Z
UID:10002023-1764352800-1764363600@www.bradleybeachnj.gov
SUMMARY:Beach Bonfire
DESCRIPTION:
URL:https://www.bradleybeachnj.gov/event/beach-bonfire/
LOCATION:5th Ave Beach
CATEGORIES:Borough Calendar,Community Events Calendar
ATTACH;FMTTYPE=image/jpeg:https://www.bradleybeachnj.gov/wp-content/uploads/2025/11/3BACA7A6-0824-4664-9380-FE4874959CAC.jpg
END:VEVENT
BEGIN:VEVENT
DTSTART;TZID=America/New_York:20251026T120000
DTEND;TZID=America/New_York:20251026T180000
DTSTAMP:20260423T020502
CREATED:20251022T012603Z
LAST-MODIFIED:20251022T194139Z
UID:10002018-1761480000-1761501600@www.bradleybeachnj.gov
SUMMARY:Halloween Festivities- Bradley Boo\, Trunk or Treat\, Concert and Parade!
DESCRIPTION:Get ready for a Spooktacular Day in Bradley Beach!\n\nJoin us for a full day of Halloween fun on Saturday\, October 26\, starting at 12 PM! The Bradley Beach Tourism Commission\, Recreation Department\, and Fire Department are teaming up to bring you a day packed with festive activities for the whole family.\n\nSchedule of Events\n12 PM – 4 PM: 6th Annual Bradley BOO & Trick-or-Treat Down Main StreetThe Tourism Commission kicks things off with our annual trick-or-treat event. Bring your little ghouls and goblins to Main Street for some Halloween goodies!\n\n1 PM – 3 PM: 4th Annual Trunk-or-TreatHead over to the municipal lot for the Recreation Department’s popular Trunk-or-Treat event. Deck out your car and get ready to hand out candy\, or just come to enjoy the creative displays and collect some treats!\n\n3 PM – 5 PM: Halloween Concert with Strumberry PieWind down from trick-or-treating with a special Halloween concert presented by the Tourism Commission\, featuring local favorite Strumberry Pie.\n\n4 PM: Halloween Parade Registration at Firehouse\n\n5 PM: Halloween Parade Begins\nThe Bradley Beach Fire Department is hosting their annual Halloween Parade! Register at 4 PM at the Firehouse and show off your costumes. The parade begins promptly at 5 PM. Don’t forget\, the Ladies Auxiliary will be on hand with delicious cider and donuts to keep you warm!\n\n**List of participating businesses**\nGreen Lotus Lash and Brow Boutique Pasch Real Estate Your Flooring Center Bradley CafeFINSElbow RoomCountry Farms Hatch 44D’Arcy’s Tavern Hey Peach Bakery Vic’s Pizza The Buttered Biscuit The James Bradley Bradley Bleach Laundromat Patrick Parker Realty Lily’s Nail Salon UVAShore Movements Sabores lo NuestroThe Perfect Perk Katora RealtyBeach Plum Steady Hand CafeAnchors Aweigh TattooJersey Shore Fitness ShopGatto Acupuncture & Wellness
URL:https://www.bradleybeachnj.gov/event/fall-concert-series-tired-starlings/
LOCATION:Bradley Beach
CATEGORIES:Borough Calendar,Recreation Calendar,Tourism Event Calendar
ATTACH;FMTTYPE=image/png:https://www.bradleybeachnj.gov/wp-content/uploads/2025/10/Screenshot-2025-10-21-at-9.29.15-PM.png
END:VEVENT
BEGIN:VEVENT
DTSTART;TZID=America/New_York:20251026T090000
DTEND;TZID=America/New_York:20251026T100000
DTSTAMP:20260423T020502
CREATED:20251023T190020Z
LAST-MODIFIED:20251023T190020Z
UID:10002020-1761469200-1761472800@www.bradleybeachnj.gov
SUMMARY:Mayors Wellness Walk
DESCRIPTION:
URL:https://www.bradleybeachnj.gov/event/mayors-wellness-walk-3/
LOCATION:5th Ave Gazebo\, 5th ave\, Bradley Beach\, New Jersey\, 07720
CATEGORIES:Borough Calendar,Community Events Calendar
ATTACH;FMTTYPE=image/jpeg:https://www.bradleybeachnj.gov/wp-content/uploads/2025/10/554889755_1226627349509100_5260991561398228699_n.jpg
END:VEVENT
BEGIN:VEVENT
DTSTART;TZID=America/New_York:20250823T090000
DTEND;TZID=America/New_York:20250823T100000
DTSTAMP:20260423T020502
CREATED:20250814T134349Z
LAST-MODIFIED:20250814T134349Z
UID:10001887-1755939600-1755943200@www.bradleybeachnj.gov
SUMMARY:MWC Hydration for your health
DESCRIPTION:
URL:https://www.bradleybeachnj.gov/event/mwc-hydration-for-your-health/
LOCATION:NJ
CATEGORIES:Borough Calendar
END:VEVENT
BEGIN:VEVENT
DTSTART;TZID=America/New_York:20250819T113000
DTEND;TZID=America/New_York:20250819T170000
DTSTAMP:20260423T020502
CREATED:20250814T134819Z
LAST-MODIFIED:20250814T134819Z
UID:10001888-1755603000-1755622800@www.bradleybeachnj.gov
SUMMARY:Bradley Beach Community Blood Drive
DESCRIPTION:
URL:https://www.bradleybeachnj.gov/event/bradley-beach-community-blood-drive/
LOCATION:NJ
CATEGORIES:Borough Calendar
END:VEVENT
BEGIN:VEVENT
DTSTART;TZID=America/New_York:20250817T170000
DTEND;TZID=America/New_York:20250817T180000
DTSTAMP:20260423T020502
CREATED:20250606T130258Z
LAST-MODIFIED:20250808T132359Z
UID:10001876-1755450000-1755453600@www.bradleybeachnj.gov
SUMMARY:Jack Tar Brass Band
DESCRIPTION:
URL:https://www.bradleybeachnj.gov/event/jack-tar-brass-band/
LOCATION:Riley Park
CATEGORIES:Borough Calendar
ATTACH;FMTTYPE=image/png:https://www.bradleybeachnj.gov/wp-content/uploads/2025/07/Untitled-design-9.png
END:VEVENT
BEGIN:VEVENT
DTSTART;TZID=America/New_York:20250720T090000
DTEND;TZID=America/New_York:20250720T100000
DTSTAMP:20260423T020502
CREATED:20250716T155039Z
LAST-MODIFIED:20250716T155039Z
UID:10001886-1753002000-1753005600@www.bradleybeachnj.gov
SUMMARY:MWC Walk Behavioral Health with Lynn Seward
DESCRIPTION:
URL:https://www.bradleybeachnj.gov/event/mwc-walk-behavioral-health-with-lynn-seward/
LOCATION:5th Ave Gazebo\, 5th ave\, Bradley Beach\, New Jersey\, 07720
CATEGORIES:Borough Calendar
END:VEVENT
BEGIN:VEVENT
DTSTART;TZID=America/New_York:20250712T083000
DTEND;TZID=America/New_York:20250712T093000
DTSTAMP:20260423T020502
CREATED:20250522T164312Z
LAST-MODIFIED:20250602T202131Z
UID:10001874-1752309000-1752312600@www.bradleybeachnj.gov
SUMMARY:Jack Wright Ocean Mile Swim
DESCRIPTION:Click HERE to register 
URL:https://www.bradleybeachnj.gov/event/jack-wright-ocean-mile-swim-3/
LOCATION:NJ
CATEGORIES:Borough Calendar
END:VEVENT
BEGIN:VEVENT
DTSTART;TZID=America/New_York:20250706T200000
DTEND;TZID=America/New_York:20250706T210000
DTSTAMP:20260423T020502
CREATED:20250324T140932Z
LAST-MODIFIED:20250324T140932Z
UID:10001578-1751832000-1751835600@www.bradleybeachnj.gov
SUMMARY:4th of July Fireworks ( Raindate)
DESCRIPTION:
URL:https://www.bradleybeachnj.gov/event/4th-of-july-fireworks-raindate/
LOCATION:NJ
CATEGORIES:Borough Calendar
END:VEVENT
BEGIN:VEVENT
DTSTART;TZID=America/New_York:20250705T200000
DTEND;TZID=America/New_York:20250705T210000
DTSTAMP:20260423T020502
CREATED:20250324T140852Z
LAST-MODIFIED:20250324T140852Z
UID:10001576-1751745600-1751749200@www.bradleybeachnj.gov
SUMMARY:4th of July Fireworks
DESCRIPTION:
URL:https://www.bradleybeachnj.gov/event/4th-of-july-fireworks/
LOCATION:NJ
CATEGORIES:Borough Calendar
END:VEVENT
BEGIN:VEVENT
DTSTART;TZID=America/New_York:20250529T183000
DTEND;TZID=America/New_York:20250529T220000
DTSTAMP:20260423T020502
CREATED:20250516T173554Z
LAST-MODIFIED:20250516T173554Z
UID:10001868-1748543400-1748556000@www.bradleybeachnj.gov
SUMMARY:Special Meeting - Bradley Beach Land Use Board - Master Plan Elements
DESCRIPTION:
URL:https://www.bradleybeachnj.gov/event/special-meeting-bradley-beach-land-use-board-master-plan-elements/
LOCATION:Borough Hall Meeting Room\, 701 Main Street\, Bradley Beach\, NJ\, 07720\, United States
CATEGORIES:Borough Calendar,Borough Meetings
END:VEVENT
BEGIN:VEVENT
DTSTART;TZID=America/New_York:20250526T110000
DTEND;TZID=America/New_York:20250526T120000
DTSTAMP:20260423T020503
CREATED:20250324T140749Z
LAST-MODIFIED:20250324T140749Z
UID:10001574-1748257200-1748260800@www.bradleybeachnj.gov
SUMMARY:Memorial Day Ceremony
DESCRIPTION:
URL:https://www.bradleybeachnj.gov/event/memorial-day-ceremony-3/
LOCATION:NJ
CATEGORIES:Borough Calendar
END:VEVENT
BEGIN:VEVENT
DTSTART;TZID=America/New_York:20250525T090000
DTEND;TZID=America/New_York:20250525T190000
DTSTAMP:20260423T020503
CREATED:20250324T140658Z
LAST-MODIFIED:20250519T183345Z
UID:10001572-1748163600-1748199600@www.bradleybeachnj.gov
SUMMARY:2025 Memorial Day Festival
DESCRIPTION:  \nCLICK HERE FOR MORE INFORMATION!
URL:https://www.bradleybeachnj.gov/event/2025-memorial-day-festival-2/
LOCATION:NJ
CATEGORIES:Borough Calendar
ATTACH;FMTTYPE=image/png:https://www.bradleybeachnj.gov/wp-content/uploads/2025/05/Screenshot-2025-05-19-at-2.29.25 PM.png
END:VEVENT
BEGIN:VEVENT
DTSTART;TZID=America/New_York:20250524T100000
DTEND;TZID=America/New_York:20250524T110000
DTSTAMP:20260423T020503
CREATED:20250324T140547Z
LAST-MODIFIED:20250520T160228Z
UID:10001568-1748080800-1748084400@www.bradleybeachnj.gov
SUMMARY:Memorial Day Parade
DESCRIPTION:
URL:https://www.bradleybeachnj.gov/event/memorial-day-parade-2/
LOCATION:NJ
CATEGORIES:Borough Calendar
END:VEVENT
BEGIN:VEVENT
DTSTART;TZID=America/New_York:20250524T090000
DTEND;TZID=America/New_York:20250524T190000
DTSTAMP:20260423T020503
CREATED:20250324T140632Z
LAST-MODIFIED:20250401T124141Z
UID:10001570-1748077200-1748113200@www.bradleybeachnj.gov
SUMMARY:2025 Memorial Day Festival
DESCRIPTION:CLICK HERE FOR MORE INFORMATION! 
URL:https://www.bradleybeachnj.gov/event/2025-memorial-day-festival/
LOCATION:NJ
CATEGORIES:Borough Calendar
END:VEVENT
BEGIN:VEVENT
DTSTART;TZID=America/New_York:20250518T080000
DTEND;TZID=America/New_York:20250518T170000
DTSTAMP:20260423T020503
CREATED:20250324T152427Z
LAST-MODIFIED:20250324T152427Z
UID:10001783-1747555200-1747587600@www.bradleybeachnj.gov
SUMMARY:Town Wide Garage Sale
DESCRIPTION:
URL:https://www.bradleybeachnj.gov/event/town-wide-garage-sale-2/
LOCATION:NJ
CATEGORIES:Borough Calendar
END:VEVENT
BEGIN:VEVENT
DTSTART;TZID=America/New_York:20250517T080000
DTEND;TZID=America/New_York:20250517T170000
DTSTAMP:20260423T020503
CREATED:20250324T152359Z
LAST-MODIFIED:20250324T152359Z
UID:10001586-1747468800-1747501200@www.bradleybeachnj.gov
SUMMARY:Town Wide Garage Sale
DESCRIPTION:
URL:https://www.bradleybeachnj.gov/event/town-wide-garage-sale/
LOCATION:NJ
CATEGORIES:Borough Calendar
END:VEVENT
BEGIN:VEVENT
DTSTART;TZID=America/New_York:20250504T120000
DTEND;TZID=America/New_York:20250504T160000
DTSTAMP:20260423T020503
CREATED:20250410T131658Z
LAST-MODIFIED:20250410T131658Z
UID:10001865-1746360000-1746374400@www.bradleybeachnj.gov
SUMMARY:5th Annual Green Fair
DESCRIPTION:The Bradley Beach Green Fair is a free family-friendly event that promotes a healthy and sustainable lifestyle. The Green Fair will introduce sustainability to all members of the community\, help educate them about the difference that conscious efforts in conservation and recycling can make and provide them with tools that they can take home and use.\n\nThis free event for the whole family will provide information and activities to help residents learn about the small steps they can take at home\, work and in the community to improve our environment and make Bradley Beach a greener and healthier place to live.\n\nInterested vendors can email: tourism@bradleybeachnj.gov
URL:https://www.bradleybeachnj.gov/event/5th-annual-green-fair/
LOCATION:Riley Park
CATEGORIES:Borough Calendar,Community Events Calendar
ATTACH;FMTTYPE=image/jpeg:https://www.bradleybeachnj.gov/wp-content/uploads/2025/02/475307961_1036027781902392_8357339044880181851_n.jpg
END:VEVENT
BEGIN:VEVENT
DTSTART;TZID=America/New_York:20250412T120000
DTEND;TZID=America/New_York:20250412T140000
DTSTAMP:20260423T020503
CREATED:20250324T141458Z
LAST-MODIFIED:20250411T131523Z
UID:10001582-1744459200-1744466400@www.bradleybeachnj.gov
SUMMARY:Postponed to April 19th BBFD Easter Egg Hunt
DESCRIPTION:Due to rainy weather\, the Annual Egg Hunt has been Postponed to April 19th: Annual Easter Egg Hunt \n 
URL:https://www.bradleybeachnj.gov/event/bbfd-easter-egg-hunt/
LOCATION:NJ
CATEGORIES:Borough Calendar
ATTACH;FMTTYPE=image/png:https://www.bradleybeachnj.gov/wp-content/uploads/2025/03/Bradley-Beach-9.png
END:VEVENT
BEGIN:VEVENT
DTSTART;VALUE=DATE:20241225
DTEND;VALUE=DATE:20241226
DTSTAMP:20260423T020503
CREATED:20240209T204332Z
LAST-MODIFIED:20240209T204332Z
UID:10001433-1735084800-1735171199@www.bradleybeachnj.gov
SUMMARY:CHRISTMAS DAY - BOROUGH CLOSED
DESCRIPTION:In observance of Christmas Day the Borough will be closed and will reopen on Thursday\, December 26th at 9:00 a.m.
URL:https://www.bradleybeachnj.gov/event/christmas-day-borough-closed/
LOCATION:NJ
CATEGORIES:Borough Calendar
END:VEVENT
BEGIN:VEVENT
DTSTART;TZID=America/New_York:20241202T190000
DTEND;TZID=America/New_York:20241202T200000
DTSTAMP:20260423T020503
CREATED:20241115T142756Z
LAST-MODIFIED:20241118T194619Z
UID:10001732-1733166000-1733169600@www.bradleybeachnj.gov
SUMMARY:Jersey Shore Winter Outlook
DESCRIPTION:
URL:https://www.bradleybeachnj.gov/event/jersey-shore-winter-outlook/
LOCATION:Borough Hall Meeting Room\, 701 Main Street\, Bradley Beach\, NJ\, 07720\, United States
CATEGORIES:Borough Calendar
END:VEVENT
BEGIN:VEVENT
DTSTART;VALUE=DATE:20241128
DTEND;VALUE=DATE:20241130
DTSTAMP:20260423T020503
CREATED:20240209T204051Z
LAST-MODIFIED:20240209T204127Z
UID:10001653-1732752000-1732924799@www.bradleybeachnj.gov
SUMMARY:THANKSGIVING HOLIDAY - BOROUGH CLOSED
DESCRIPTION:In observance of Thanksgiving the Borough will be closed and will reopen on Monday\, December 2nd at 9:00 a.m.
URL:https://www.bradleybeachnj.gov/event/thanksgiving-holiday-borough-closed/
LOCATION:NJ
CATEGORIES:Borough Calendar
END:VEVENT
BEGIN:VEVENT
DTSTART;TZID=America/New_York:20241111T110000
DTEND;TZID=America/New_York:20241111T123000
DTSTAMP:20260423T020503
CREATED:20240209T203709Z
LAST-MODIFIED:20240209T203709Z
UID:10001652-1731322800-1731328200@www.bradleybeachnj.gov
SUMMARY:VETERANS' DAY CEREMONY
DESCRIPTION:Riley Park
URL:https://www.bradleybeachnj.gov/event/veterans-day-ceremony-3/
LOCATION:NJ
CATEGORIES:Borough Calendar,Community Events Calendar
END:VEVENT
BEGIN:VEVENT
DTSTART;VALUE=DATE:20241111
DTEND;VALUE=DATE:20241112
DTSTAMP:20260423T020503
CREATED:20240209T203604Z
LAST-MODIFIED:20240209T203614Z
UID:10001651-1731283200-1731369599@www.bradleybeachnj.gov
SUMMARY:VETERANS' DAY - BOROUGH CLOSED
DESCRIPTION:In observance of Veterans’ Day the Borough will be closed and will reopen on Tuesday\, November 11th at 9:00 a.m.
URL:https://www.bradleybeachnj.gov/event/veterans-day-borough-closed/
LOCATION:NJ
CATEGORIES:Borough Calendar
END:VEVENT
END:VCALENDAR