BEGIN:VCALENDAR
VERSION:2.0
PRODID:-//Bradley Beach - ECPv6.15.18//NONSGML v1.0//EN
CALSCALE:GREGORIAN
METHOD:PUBLISH
X-ORIGINAL-URL:https://www.bradleybeachnj.gov
X-WR-CALDESC:Events for Bradley Beach
REFRESH-INTERVAL;VALUE=DURATION:PT1H
X-Robots-Tag:noindex
X-PUBLISHED-TTL:PT1H
BEGIN:VTIMEZONE
TZID:America/New_York
BEGIN:DAYLIGHT
TZOFFSETFROM:-0500
TZOFFSETTO:-0400
TZNAME:EDT
DTSTART:20220313T070000
END:DAYLIGHT
BEGIN:STANDARD
TZOFFSETFROM:-0400
TZOFFSETTO:-0500
TZNAME:EST
DTSTART:20221106T060000
END:STANDARD
BEGIN:DAYLIGHT
TZOFFSETFROM:-0500
TZOFFSETTO:-0400
TZNAME:EDT
DTSTART:20230312T070000
END:DAYLIGHT
BEGIN:STANDARD
TZOFFSETFROM:-0400
TZOFFSETTO:-0500
TZNAME:EST
DTSTART:20231105T060000
END:STANDARD
BEGIN:DAYLIGHT
TZOFFSETFROM:-0500
TZOFFSETTO:-0400
TZNAME:EDT
DTSTART:20240310T070000
END:DAYLIGHT
BEGIN:STANDARD
TZOFFSETFROM:-0400
TZOFFSETTO:-0500
TZNAME:EST
DTSTART:20241103T060000
END:STANDARD
END:VTIMEZONE
BEGIN:VEVENT
DTSTART;VALUE=DATE:20230806
DTEND;VALUE=DATE:20230807
DTSTAMP:20260424T010001
CREATED:20230609T144525Z
LAST-MODIFIED:20230808T140438Z
UID:10001429-1691280000-1691366399@www.bradleybeachnj.gov
SUMMARY:Concert in Riley Park
DESCRIPTION:
URL:https://www.bradleybeachnj.gov/event/concert-in-riley-park/2023-08-06/
CATEGORIES:Borough Calendar
END:VEVENT
BEGIN:VEVENT
DTSTART;TZID=America/New_York:20230805T170000
DTEND;TZID=America/New_York:20230805T190000
DTSTAMP:20260424T010001
CREATED:20230216T194650Z
LAST-MODIFIED:20230609T150200Z
UID:10001348-1691254800-1691262000@www.bradleybeachnj.gov
SUMMARY:Saturdays in the Park\, Saturday Night Concert Series at Riley Park
DESCRIPTION:Saturdays in the Park\, Saturday Night Concert Series at Riley Park \n 
URL:https://www.bradleybeachnj.gov/event/saturdays-in-the-park-saturday-night-concert-series/2023-08-05/
CATEGORIES:Borough Calendar
END:VEVENT
BEGIN:VEVENT
DTSTART;TZID=America/New_York:20230804T180000
DTEND;TZID=America/New_York:20230804T180000
DTSTAMP:20260424T010001
CREATED:20230609T145533Z
LAST-MODIFIED:20230710T152551Z
UID:10001456-1691172000-1691172000@www.bradleybeachnj.gov
SUMMARY:DJ Jay at the Beachfront Gazebo
DESCRIPTION:
URL:https://www.bradleybeachnj.gov/event/dj-jay-at-the-beachfront-gazebo/2023-08-04/
CATEGORIES:Borough Calendar
END:VEVENT
BEGIN:VEVENT
DTSTART;TZID=America/New_York:20230803T190000
DTEND;TZID=America/New_York:20230803T190000
DTSTAMP:20260424T010001
CREATED:20230609T145812Z
LAST-MODIFIED:20230612T004920Z
UID:10001465-1691089200-1691089200@www.bradleybeachnj.gov
SUMMARY:Summer Concert Series at Newark Avenue Beach
DESCRIPTION:SONGWRITERS ON THE BEACH 2023\nNewark Avenue Beach\, Bradley Beach\n\n\n \nThursday July 6\nSteve Forbert\nCranston Dean\n\n\n \nThursday July 13\nPete Francis (formerly of Dispatch)\nDave Vargo\n\n\n \nThursday July 20\nMediocre\nBaquenne\n\n\n \nThursday July 27\nBrian Dunne\nSpirit Fox (acoustic)\n\n\n \nThursday August 3\nPurr\nThe dt’s\n\n\n \nThursday August 10\nAri Hest\nMike Montali (of Hollis Brown and Fantastic Cat)\nJoseph Alton Miller\n\n\n \nThursday August 17\nMatthew Smith (of Hodera)\nMike Pellegrino (of latewaves)
URL:https://www.bradleybeachnj.gov/event/summer-concert-series-at-newark-ave-beach-2023-08-03/
CATEGORIES:Borough Calendar
END:VEVENT
BEGIN:VEVENT
DTSTART;VALUE=DATE:20230801
DTEND;VALUE=DATE:20230802
DTSTAMP:20260424T010001
CREATED:20230609T142944Z
LAST-MODIFIED:20230614T185002Z
UID:10001427-1690848000-1690934399@www.bradleybeachnj.gov
SUMMARY:National Night Out at the Beachfront
DESCRIPTION:
URL:https://www.bradleybeachnj.gov/event/national-night-out-at-the-beachfront/
CATEGORIES:Borough Calendar
END:VEVENT
BEGIN:VEVENT
DTSTART;TZID=America/New_York:20230729T170000
DTEND;TZID=America/New_York:20230729T190000
DTSTAMP:20260424T010001
CREATED:20230216T194650Z
LAST-MODIFIED:20230609T150200Z
UID:10001347-1690650000-1690657200@www.bradleybeachnj.gov
SUMMARY:Saturdays in the Park\, Saturday Night Concert Series at Riley Park
DESCRIPTION:Saturdays in the Park\, Saturday Night Concert Series at Riley Park \n 
URL:https://www.bradleybeachnj.gov/event/saturdays-in-the-park-saturday-night-concert-series/2023-07-29/
CATEGORIES:Borough Calendar
END:VEVENT
BEGIN:VEVENT
DTSTART;TZID=America/New_York:20230728T180000
DTEND;TZID=America/New_York:20230728T180000
DTSTAMP:20260424T010001
CREATED:20230609T145533Z
LAST-MODIFIED:20230710T152551Z
UID:10001455-1690567200-1690567200@www.bradleybeachnj.gov
SUMMARY:DJ Jay at the Beachfront Gazebo
DESCRIPTION:
URL:https://www.bradleybeachnj.gov/event/dj-jay-at-the-beachfront-gazebo/2023-07-28/
CATEGORIES:Borough Calendar
END:VEVENT
BEGIN:VEVENT
DTSTART;TZID=America/New_York:20230727T190000
DTEND;TZID=America/New_York:20230727T190000
DTSTAMP:20260424T010001
CREATED:20230609T145812Z
LAST-MODIFIED:20230612T005009Z
UID:10001464-1690484400-1690484400@www.bradleybeachnj.gov
SUMMARY:Summer Concert Series at Newark Avenue Beach
DESCRIPTION:SONGWRITERS ON THE BEACH 2023\nNewark Avenue Beach\, Bradley Beach\n\n\n \nThursday July 6\nSteve Forbert\nCranston Dean\n\n\n \nThursday July 13\nPete Francis (formerly of Dispatch)\nDave Vargo\n\n\n \nThursday July 20\nMediocre\nBaquenne\n\n\n \nThursday July 27\nBrian Dunne\nSpirit Fox (acoustic)\n\n\n \nThursday August 3\nPurr\nThe dt’s\n\n\n \nThursday August 10\nAri Hest\nMike Montali (of Hollis Brown and Fantastic Cat)\nJoseph Alton Miller\n\n\n \nThursday August 17\nMatthew Smith (of Hodera)\nMike Pellegrino (of latewaves)
URL:https://www.bradleybeachnj.gov/event/summer-concert-series-at-newark-ave-beach-2023-07-27/
CATEGORIES:Borough Calendar
END:VEVENT
BEGIN:VEVENT
DTSTART;TZID=America/New_York:20230725T180000
DTEND;TZID=America/New_York:20230725T180000
DTSTAMP:20260424T010001
CREATED:20230609T145345Z
LAST-MODIFIED:20230612T003240Z
UID:10001446-1690308000-1690308000@www.bradleybeachnj.gov
SUMMARY:Salsa Lessons at the Beachfront Gazebo
DESCRIPTION:
URL:https://www.bradleybeachnj.gov/event/salsa-lessons-at-the-beachfront-gazebo-2023-07-25/
CATEGORIES:Borough Calendar
END:VEVENT
BEGIN:VEVENT
DTSTART;TZID=America/New_York:20230724T180000
DTEND;TZID=America/New_York:20230724T200000
DTSTAMP:20260424T010001
CREATED:20230609T144946Z
LAST-MODIFIED:20230609T183712Z
UID:10001431-1690221600-1690228800@www.bradleybeachnj.gov
SUMMARY:Opera by the Sea at the Beachfront Gazebo
DESCRIPTION:
URL:https://www.bradleybeachnj.gov/event/opera-by-the-sea-at-the-beachfront-gazebo/2023-07-24/
CATEGORIES:Borough Calendar
END:VEVENT
BEGIN:VEVENT
DTSTART;TZID=America/New_York:20230722T170000
DTEND;TZID=America/New_York:20230722T190000
DTSTAMP:20260424T010001
CREATED:20230216T194650Z
LAST-MODIFIED:20230609T150200Z
UID:10001346-1690045200-1690052400@www.bradleybeachnj.gov
SUMMARY:Saturdays in the Park\, Saturday Night Concert Series at Riley Park
DESCRIPTION:Saturdays in the Park\, Saturday Night Concert Series at Riley Park \n 
URL:https://www.bradleybeachnj.gov/event/saturdays-in-the-park-saturday-night-concert-series/2023-07-22/
CATEGORIES:Borough Calendar
END:VEVENT
BEGIN:VEVENT
DTSTART;TZID=America/New_York:20230721T180000
DTEND;TZID=America/New_York:20230721T180000
DTSTAMP:20260424T010001
CREATED:20230609T145533Z
LAST-MODIFIED:20230710T152551Z
UID:10001454-1689962400-1689962400@www.bradleybeachnj.gov
SUMMARY:DJ Jay at the Beachfront Gazebo
DESCRIPTION:
URL:https://www.bradleybeachnj.gov/event/dj-jay-at-the-beachfront-gazebo/2023-07-21/
CATEGORIES:Borough Calendar
END:VEVENT
BEGIN:VEVENT
DTSTART;TZID=America/New_York:20230720T190000
DTEND;TZID=America/New_York:20230720T190000
DTSTAMP:20260424T010001
CREATED:20230609T145812Z
LAST-MODIFIED:20230612T005051Z
UID:10001463-1689879600-1689879600@www.bradleybeachnj.gov
SUMMARY:Summer Concert Series at Newark Avenue Beach
DESCRIPTION:SONGWRITERS ON THE BEACH 2023\nNewark Avenue Beach\, Bradley Beach\n\n\n \nThursday July 6\nSteve Forbert\nCranston Dean\n\n\n \nThursday July 13\nPete Francis (formerly of Dispatch)\nDave Vargo\n\n\n \nThursday July 20\nMediocre\nBaquenne\n\n\n \nThursday July 27\nBrian Dunne\nSpirit Fox (acoustic)\n\n\n \nThursday August 3\nPurr\nThe dt’s\n\n\n \nThursday August 10\nAri Hest\nMike Montali (of Hollis Brown and Fantastic Cat)\nJoseph Alton Miller\n\n\n \nThursday August 17\nMatthew Smith (of Hodera)\nMike Pellegrino (of latewaves)
URL:https://www.bradleybeachnj.gov/event/summer-concert-series-at-newark-ave-beach-2023-07-20/
CATEGORIES:Borough Calendar
END:VEVENT
BEGIN:VEVENT
DTSTART;TZID=America/New_York:20230720T183000
DTEND;TZID=America/New_York:20230720T183000
DTSTAMP:20260424T010001
CREATED:20230126T183217Z
LAST-MODIFIED:20230126T183217Z
UID:10001320-1689877800-1689877800@www.bradleybeachnj.gov
SUMMARY:LAND USE BOARD MEETING
DESCRIPTION:LAND USE BOARD MEETING \n6:30 PM \nBorough Hall Meeting Room \n701 Main Street\, Bradley Beach\, NJ
URL:https://www.bradleybeachnj.gov/event/land-use-board-meeting-6/
CATEGORIES:Borough Calendar
END:VEVENT
BEGIN:VEVENT
DTSTART;TZID=America/New_York:20230718T180000
DTEND;TZID=America/New_York:20230718T180000
DTSTAMP:20260424T010001
CREATED:20230609T145345Z
LAST-MODIFIED:20230612T003836Z
UID:10001445-1689703200-1689703200@www.bradleybeachnj.gov
SUMMARY:Line Dancing at the Beachfront Gazebo
DESCRIPTION:
URL:https://www.bradleybeachnj.gov/event/salsa-line-dancing-at-the-beachfront-gazebo-2023-07-18/
CATEGORIES:Borough Calendar
END:VEVENT
BEGIN:VEVENT
DTSTART;TZID=America/New_York:20230715T183000
DTEND;TZID=America/New_York:20230715T213000
DTSTAMP:20260424T010001
CREATED:20230609T142826Z
LAST-MODIFIED:20230714T162515Z
UID:10001426-1689445800-1689456600@www.bradleybeachnj.gov
SUMMARY:Shakespeare Festival
DESCRIPTION:The Shakespeare Festival is July 14 & 15 @ 6:30 PM. \nThe arts council performance of King Lear will be moved to the banquet hall at 815 Main Street for performances. We hope to see you. \n \n \n 
URL:https://www.bradleybeachnj.gov/event/shakespeare-festival-beachfront-gazebo/2023-07-15/
CATEGORIES:Borough Calendar
END:VEVENT
BEGIN:VEVENT
DTSTART;TZID=America/New_York:20230715T170000
DTEND;TZID=America/New_York:20230715T190000
DTSTAMP:20260424T010001
CREATED:20230216T194650Z
LAST-MODIFIED:20230609T150200Z
UID:10001345-1689440400-1689447600@www.bradleybeachnj.gov
SUMMARY:Saturdays in the Park\, Saturday Night Concert Series at Riley Park
DESCRIPTION:Saturdays in the Park\, Saturday Night Concert Series at Riley Park \n 
URL:https://www.bradleybeachnj.gov/event/saturdays-in-the-park-saturday-night-concert-series/2023-07-15/
CATEGORIES:Borough Calendar
END:VEVENT
BEGIN:VEVENT
DTSTART;TZID=America/New_York:20230714T183000
DTEND;TZID=America/New_York:20230714T213000
DTSTAMP:20260424T010001
CREATED:20230609T142826Z
LAST-MODIFIED:20230714T162515Z
UID:10001425-1689359400-1689370200@www.bradleybeachnj.gov
SUMMARY:Shakespeare Festival
DESCRIPTION:The Shakespeare Festival is July 14 & 15 @ 6:30 PM. \nThe arts council performance of King Lear will be moved to the banquet hall at 815 Main Street for performances. We hope to see you. \n \n \n 
URL:https://www.bradleybeachnj.gov/event/shakespeare-festival-beachfront-gazebo/2023-07-14/
CATEGORIES:Borough Calendar
END:VEVENT
BEGIN:VEVENT
DTSTART;TZID=America/New_York:20230713T190000
DTEND;TZID=America/New_York:20230713T190000
DTSTAMP:20260424T010001
CREATED:20230609T145812Z
LAST-MODIFIED:20230612T005147Z
UID:10001462-1689274800-1689274800@www.bradleybeachnj.gov
SUMMARY:Summer Concert Series at Newark Avenue Beach
DESCRIPTION:SONGWRITERS ON THE BEACH 2023\nNewark Avenue Beach\, Bradley Beach\n\n\n \nThursday July 6\nSteve Forbert\nCranston Dean\n\n\n \nThursday July 13\nPete Francis (formerly of Dispatch)\nDave Vargo\n\n\n \nThursday July 20\nMediocre\nBaquenne\n\n\n \nThursday July 27\nBrian Dunne\nSpirit Fox (acoustic)\n\n\n \nThursday August 3\nPurr\nThe dt’s\n\n\n \nThursday August 10\nAri Hest\nMike Montali (of Hollis Brown and Fantastic Cat)\nJoseph Alton Miller\n\n\n \nThursday August 17\nMatthew Smith (of Hodera)\nMike Pellegrino (of latewaves)
URL:https://www.bradleybeachnj.gov/event/summer-concert-series-at-newark-ave-beach-2023-07-13/
CATEGORIES:Borough Calendar
END:VEVENT
BEGIN:VEVENT
DTSTART;TZID=America/New_York:20230711T180000
DTEND;TZID=America/New_York:20230711T180000
DTSTAMP:20260424T010001
CREATED:20230609T145345Z
LAST-MODIFIED:20230612T003353Z
UID:10001443-1689098400-1689098400@www.bradleybeachnj.gov
SUMMARY:Salsa Lessons at the Beachfront Gazebo
DESCRIPTION:
URL:https://www.bradleybeachnj.gov/event/salsa-lessons-at-the-beachfront-gazebo-2023-07-11/
CATEGORIES:Borough Calendar
END:VEVENT
BEGIN:VEVENT
DTSTART;TZID=America/New_York:20230710T180000
DTEND;TZID=America/New_York:20230710T200000
DTSTAMP:20260424T010001
CREATED:20230609T184348Z
LAST-MODIFIED:20230609T184444Z
UID:10001468-1689012000-1689019200@www.bradleybeachnj.gov
SUMMARY:Opera by the Sea\, Beachfront Gazebo
DESCRIPTION:
URL:https://www.bradleybeachnj.gov/event/opera-by-the-sea-beachfront-gazebo/
CATEGORIES:Borough Calendar
END:VEVENT
BEGIN:VEVENT
DTSTART;TZID=America/New_York:20230709T110000
DTEND;TZID=America/New_York:20230709T190000
DTSTAMP:20260424T010001
CREATED:20230511T185613Z
LAST-MODIFIED:20230511T185613Z
UID:10001158-1688900400-1688929200@www.bradleybeachnj.gov
SUMMARY:Parkfest 2023
DESCRIPTION:
URL:https://www.bradleybeachnj.gov/event/parkfest-2023/
CATEGORIES:Borough Calendar
END:VEVENT
BEGIN:VEVENT
DTSTART;TZID=America/New_York:20230707T180000
DTEND;TZID=America/New_York:20230707T180000
DTSTAMP:20260424T010001
CREATED:20230609T145533Z
LAST-MODIFIED:20230710T152551Z
UID:10001453-1688752800-1688752800@www.bradleybeachnj.gov
SUMMARY:DJ Jay at the Beachfront Gazebo
DESCRIPTION:
URL:https://www.bradleybeachnj.gov/event/dj-jay-at-the-beachfront-gazebo/2023-07-07/
CATEGORIES:Borough Calendar
END:VEVENT
BEGIN:VEVENT
DTSTART;TZID=America/New_York:20230706T190000
DTEND;TZID=America/New_York:20230706T190000
DTSTAMP:20260424T010001
CREATED:20230609T145812Z
LAST-MODIFIED:20230612T005239Z
UID:10001461-1688670000-1688670000@www.bradleybeachnj.gov
SUMMARY:Summer Concert Series at Newark Avenue Beach
DESCRIPTION:SONGWRITERS ON THE BEACH 2023\nNewark Avenue Beach\, Bradley Beach\n\n\n \nThursday July 6\nSteve Forbert\nCranston Dean\n\n\n \nThursday July 13\nPete Francis (formerly of Dispatch)\nDave Vargo\n\n\n \nThursday July 20\nMediocre\nBaquenne\n\n\n \nThursday July 27\nBrian Dunne\nSpirit Fox (acoustic)\n\n\n \nThursday August 3\nPurr\nThe dt’s\n\n\n \nThursday August 10\nAri Hest\nMike Montali (of Hollis Brown and Fantastic Cat)\nJoseph Alton Miller\n\n\n \nThursday August 17\nMatthew Smith (of Hodera)\nMike Pellegrino (of latewaves)
URL:https://www.bradleybeachnj.gov/event/summer-concert-series-at-newark-ave-beach/
CATEGORIES:Borough Calendar
END:VEVENT
BEGIN:VEVENT
DTSTART;TZID=America/New_York:20230704T180000
DTEND;TZID=America/New_York:20230704T180000
DTSTAMP:20260424T010001
CREATED:20230609T141847Z
LAST-MODIFIED:20230609T141847Z
UID:10001424-1688493600-1688493600@www.bradleybeachnj.gov
SUMMARY:Chuck Lambert Band BeachFront Gazebo
DESCRIPTION:
URL:https://www.bradleybeachnj.gov/event/chuck-lambert-band-beachfront-gazebo/
CATEGORIES:Borough Calendar
END:VEVENT
BEGIN:VEVENT
DTSTART;VALUE=DATE:20230703
DTEND;VALUE=DATE:20230704
DTSTAMP:20260424T010001
CREATED:20230609T140152Z
LAST-MODIFIED:20230620T172151Z
UID:10001423-1688342400-1688428799@www.bradleybeachnj.gov
SUMMARY:Fireworks at Dusk
DESCRIPTION:
URL:https://www.bradleybeachnj.gov/event/fireworks-at-dusk/
CATEGORIES:Borough Calendar
END:VEVENT
BEGIN:VEVENT
DTSTART;TZID=America/New_York:20230702T190000
DTEND;TZID=America/New_York:20230702T190000
DTSTAMP:20260424T010001
CREATED:20230612T161447Z
LAST-MODIFIED:20230623T161400Z
UID:10001472-1688324400-1688324400@www.bradleybeachnj.gov
SUMMARY:BBBCA Alliance Week Celebration Sunday Dinner & Movie in Riley Park
DESCRIPTION:  \nBBBCA Alliance Week \n 
URL:https://www.bradleybeachnj.gov/event/bbbca-alliance-week-dinner-movie-in-riley-park/
CATEGORIES:Borough Calendar
END:VEVENT
BEGIN:VEVENT
DTSTART;TZID=America/New_York:20230702T160000
DTEND;TZID=America/New_York:20230702T190000
DTSTAMP:20260424T010001
CREATED:20230612T161732Z
LAST-MODIFIED:20230623T161220Z
UID:10001474-1688313600-1688324400@www.bradleybeachnj.gov
SUMMARY:BBBCA Alliance Week Celebration Sunday in Riley Park: Music\, Wellness & Community
DESCRIPTION:  \n \nBBBCA Alliance Week
URL:https://www.bradleybeachnj.gov/event/bbbca-alliance-week-celebration-sunday-in-riley-park/
CATEGORIES:Borough Calendar
END:VEVENT
BEGIN:VEVENT
DTSTART;TZID=America/New_York:20230630T180000
DTEND;TZID=America/New_York:20230630T180000
DTSTAMP:20260424T010001
CREATED:20230609T145533Z
LAST-MODIFIED:20230710T152551Z
UID:10001452-1688148000-1688148000@www.bradleybeachnj.gov
SUMMARY:DJ Jay at the Beachfront Gazebo
DESCRIPTION:
URL:https://www.bradleybeachnj.gov/event/dj-jay-at-the-beachfront-gazebo/2023-06-30/
CATEGORIES:Borough Calendar
END:VEVENT
BEGIN:VEVENT
DTSTART;TZID=America/New_York:20230629T170000
DTEND;TZID=America/New_York:20230629T203000
DTSTAMP:20260424T010001
CREATED:20230612T163134Z
LAST-MODIFIED:20230623T135957Z
UID:10001482-1688058000-1688070600@www.bradleybeachnj.gov
SUMMARY:BBBCA Alliance Week Music at 5th Avenue Gazebo
DESCRIPTION:  \n \nBBBCA Alliance Week
URL:https://www.bradleybeachnj.gov/event/bbbca-alliance-week-music-at-5th-avenue-gazebo/
CATEGORIES:Borough Calendar
END:VEVENT
END:VCALENDAR