BEGIN:VCALENDAR
VERSION:2.0
PRODID:-//Bradley Beach - ECPv6.15.18//NONSGML v1.0//EN
CALSCALE:GREGORIAN
METHOD:PUBLISH
X-WR-CALNAME:Bradley Beach
X-ORIGINAL-URL:https://www.bradleybeachnj.gov
X-WR-CALDESC:Events for Bradley Beach
REFRESH-INTERVAL;VALUE=DURATION:PT1H
X-Robots-Tag:noindex
X-PUBLISHED-TTL:PT1H
BEGIN:VTIMEZONE
TZID:America/New_York
BEGIN:DAYLIGHT
TZOFFSETFROM:-0500
TZOFFSETTO:-0400
TZNAME:EDT
DTSTART:20220313T070000
END:DAYLIGHT
BEGIN:STANDARD
TZOFFSETFROM:-0400
TZOFFSETTO:-0500
TZNAME:EST
DTSTART:20221106T060000
END:STANDARD
BEGIN:DAYLIGHT
TZOFFSETFROM:-0500
TZOFFSETTO:-0400
TZNAME:EDT
DTSTART:20230312T070000
END:DAYLIGHT
BEGIN:STANDARD
TZOFFSETFROM:-0400
TZOFFSETTO:-0500
TZNAME:EST
DTSTART:20231105T060000
END:STANDARD
BEGIN:DAYLIGHT
TZOFFSETFROM:-0500
TZOFFSETTO:-0400
TZNAME:EDT
DTSTART:20240310T070000
END:DAYLIGHT
BEGIN:STANDARD
TZOFFSETFROM:-0400
TZOFFSETTO:-0500
TZNAME:EST
DTSTART:20241103T060000
END:STANDARD
END:VTIMEZONE
BEGIN:VEVENT
DTSTART;TZID=America/New_York:20230630T180000
DTEND;TZID=America/New_York:20230630T180000
DTSTAMP:20260424T072447
CREATED:20230609T145533Z
LAST-MODIFIED:20230710T152551Z
UID:10001452-1688148000-1688148000@www.bradleybeachnj.gov
SUMMARY:DJ Jay at the Beachfront Gazebo
DESCRIPTION:
URL:https://www.bradleybeachnj.gov/event/dj-jay-at-the-beachfront-gazebo/2023-06-30/
CATEGORIES:Borough Calendar
END:VEVENT
BEGIN:VEVENT
DTSTART;TZID=America/New_York:20230629T170000
DTEND;TZID=America/New_York:20230629T203000
DTSTAMP:20260424T072447
CREATED:20230612T163134Z
LAST-MODIFIED:20230623T135957Z
UID:10001482-1688058000-1688070600@www.bradleybeachnj.gov
SUMMARY:BBBCA Alliance Week Music at 5th Avenue Gazebo
DESCRIPTION:  \n \nBBBCA Alliance Week
URL:https://www.bradleybeachnj.gov/event/bbbca-alliance-week-music-at-5th-avenue-gazebo/
CATEGORIES:Borough Calendar
END:VEVENT
BEGIN:VEVENT
DTSTART;TZID=America/New_York:20230628T163000
DTEND;TZID=America/New_York:20230628T183000
DTSTAMP:20260424T072447
CREATED:20230612T162900Z
LAST-MODIFIED:20230623T135852Z
UID:10001480-1687969800-1687977000@www.bradleybeachnj.gov
SUMMARY:BBBCA Alliance Week Mini-Golf Magic at Shipwreck Island
DESCRIPTION:  \n \nBBBCA Alliance Week
URL:https://www.bradleybeachnj.gov/event/bbbca-alliance-week-mini-golf-magic-at-shipwreck-island/
CATEGORIES:Borough Calendar
END:VEVENT
BEGIN:VEVENT
DTSTART;TZID=America/New_York:20230627T150000
DTEND;TZID=America/New_York:20230627T180000
DTSTAMP:20260424T072447
CREATED:20230612T162658Z
LAST-MODIFIED:20230623T135741Z
UID:10001478-1687878000-1687888800@www.bradleybeachnj.gov
SUMMARY:BBBCA Alliance Week Members Event at UVA Tiki Bar
DESCRIPTION:  \n \nBBBCA Alliance Week
URL:https://www.bradleybeachnj.gov/event/bbbca-alliance-week-members-event-at-uva-tiki-bar/
CATEGORIES:Borough Calendar
END:VEVENT
BEGIN:VEVENT
DTSTART;TZID=America/New_York:20230626T160000
DTEND;TZID=America/New_York:20230626T173000
DTSTAMP:20260424T072447
CREATED:20230612T162037Z
LAST-MODIFIED:20230623T135237Z
UID:10001476-1687795200-1687800600@www.bradleybeachnj.gov
SUMMARY:BBBCA Alliance Week Historical Society Virtual Stroll Along Main Street
DESCRIPTION:Monday 4-5:30pm Virtual Stroll along Main Street- BBHS will host a virtual Stroll along Main Street.  The  Zoom program will feature stories and memories from the 1950s through the 1970s. Contemporary photographs by Mia Mutascio and Rich Despins will officially launch Mapping Main Street and serve as a starting point for the stroll back in time. To register and receive a Zoom link\, send at email to mappingmainstreet@bbhs.org.\n \n  \nBBBCA Alliance Week
URL:https://www.bradleybeachnj.gov/event/bbbca-alliance-week-historical-society-virtual-stroll-along-main-street/
CATEGORIES:Borough Calendar
END:VEVENT
BEGIN:VEVENT
DTSTART;TZID=America/New_York:20230623T180000
DTEND;TZID=America/New_York:20230623T180000
DTSTAMP:20260424T072447
CREATED:20230609T145533Z
LAST-MODIFIED:20230710T152551Z
UID:10001451-1687543200-1687543200@www.bradleybeachnj.gov
SUMMARY:DJ Jay at the Beachfront Gazebo
DESCRIPTION:
URL:https://www.bradleybeachnj.gov/event/dj-jay-at-the-beachfront-gazebo/2023-06-23/
CATEGORIES:Borough Calendar
END:VEVENT
BEGIN:VEVENT
DTSTART;TZID=America/New_York:20230620T180000
DTEND;TZID=America/New_York:20230620T180000
DTSTAMP:20260424T072447
CREATED:20230609T145345Z
LAST-MODIFIED:20230612T004008Z
UID:10001441-1687284000-1687284000@www.bradleybeachnj.gov
SUMMARY:Line Dancing at the Beachfront Gazebo
DESCRIPTION:
URL:https://www.bradleybeachnj.gov/event/salsa-line-dancing-at-the-beachfront-gazebo/
CATEGORIES:Borough Calendar
END:VEVENT
BEGIN:VEVENT
DTSTART;TZID=America/New_York:20230615T183000
DTEND;TZID=America/New_York:20230615T183000
DTSTAMP:20260424T072447
CREATED:20230126T183119Z
LAST-MODIFIED:20230126T183119Z
UID:10001319-1686853800-1686853800@www.bradleybeachnj.gov
SUMMARY:LAND USE BOARD MEETING
DESCRIPTION:LAND USE BOARD MEETING \n6:30 PM \nBorough Hall Meeting Room \n701 Main Street\, Bradley Beach\, NJ
URL:https://www.bradleybeachnj.gov/event/land-use-board-meeting-5/
CATEGORIES:Borough Calendar
END:VEVENT
BEGIN:VEVENT
DTSTART;TZID=America/New_York:20230610T183000
DTEND;TZID=America/New_York:20230610T213000
DTSTAMP:20260424T072447
CREATED:20230502T175718Z
LAST-MODIFIED:20230502T175718Z
UID:10001408-1686421800-1686432600@www.bradleybeachnj.gov
SUMMARY:Flavors of Bradley Beach
DESCRIPTION:
URL:https://www.bradleybeachnj.gov/event/flavors-of-bradley-beach/
CATEGORIES:Borough Calendar
END:VEVENT
BEGIN:VEVENT
DTSTART;TZID=America/New_York:20230609T170000
DTEND;TZID=America/New_York:20230609T200000
DTSTAMP:20260424T072447
CREATED:20230606T122630Z
LAST-MODIFIED:20230606T122754Z
UID:10001270-1686330000-1686340800@www.bradleybeachnj.gov
SUMMARY:BBES PTA Carnival
DESCRIPTION:
URL:https://www.bradleybeachnj.gov/event/bbes-pta-carnival/
CATEGORIES:Borough Calendar
END:VEVENT
BEGIN:VEVENT
DTSTART;TZID=America/New_York:20230529T110000
DTEND;TZID=America/New_York:20230529T110000
DTSTAMP:20260424T072447
CREATED:20230316T191356Z
LAST-MODIFIED:20230316T191356Z
UID:10001365-1685358000-1685358000@www.bradleybeachnj.gov
SUMMARY:Borough Of Bradley Beach Memorial Day Weekend Festival May 27-29\, 2023
DESCRIPTION:*Rain or Shine*
URL:https://www.bradleybeachnj.gov/event/borough-of-bradley-beach-memorial-day-weekend-festival-may-27-29-2023/
CATEGORIES:Borough Calendar
END:VEVENT
BEGIN:VEVENT
DTSTART;TZID=America/New_York:20230528T090000
DTEND;TZID=America/New_York:20230528T090000
DTSTAMP:20260424T072447
CREATED:20230316T185946Z
LAST-MODIFIED:20230316T191245Z
UID:10001364-1685264400-1685264400@www.bradleybeachnj.gov
SUMMARY:Borough Of Bradley Beach Memorial Day Weekend Festival May 27-29\, 2023
DESCRIPTION:  \n*RAIN OR SHINE*
URL:https://www.bradleybeachnj.gov/event/memorial-day-weekend-festival-2023/2023-05-28/
CATEGORIES:Borough Calendar
END:VEVENT
BEGIN:VEVENT
DTSTART;TZID=America/New_York:20230527T090000
DTEND;TZID=America/New_York:20230527T090000
DTSTAMP:20260424T072447
CREATED:20230316T185946Z
LAST-MODIFIED:20230316T191245Z
UID:10001363-1685178000-1685178000@www.bradleybeachnj.gov
SUMMARY:Borough Of Bradley Beach Memorial Day Weekend Festival May 27-29\, 2023
DESCRIPTION:  \n*RAIN OR SHINE*
URL:https://www.bradleybeachnj.gov/event/memorial-day-weekend-festival-2023/2023-05-27/
CATEGORIES:Borough Calendar
END:VEVENT
BEGIN:VEVENT
DTSTART;TZID=America/New_York:20230519T134500
DTEND;TZID=America/New_York:20230519T134500
DTSTAMP:20260424T072447
CREATED:20230412T145232Z
LAST-MODIFIED:20230412T183213Z
UID:10001394-1684503900-1684503900@www.bradleybeachnj.gov
SUMMARY:One Beach\, One Read 2023
DESCRIPTION:
URL:https://www.bradleybeachnj.gov/event/one-book-one-read-2023/
CATEGORIES:Borough Calendar
END:VEVENT
BEGIN:VEVENT
DTSTART;TZID=America/New_York:20230518T183000
DTEND;TZID=America/New_York:20230518T183000
DTSTAMP:20260424T072447
CREATED:20230126T183013Z
LAST-MODIFIED:20230126T183013Z
UID:10001318-1684434600-1684434600@www.bradleybeachnj.gov
SUMMARY:LAND USE BOARD MEETING
DESCRIPTION:LAND USE BOARD MEETING \n6:30 PM \nBorough Hall Meeting Room \n701 Main Street\, Bradley Beach\, NJ
URL:https://www.bradleybeachnj.gov/event/land-use-board-meeting-4/
CATEGORIES:Borough Calendar
END:VEVENT
BEGIN:VEVENT
DTSTART;TZID=America/New_York:20230516T180000
DTEND;TZID=America/New_York:20230516T200000
DTSTAMP:20260424T072447
CREATED:20230412T145255Z
LAST-MODIFIED:20230412T183110Z
UID:10001396-1684260000-1684267200@www.bradleybeachnj.gov
SUMMARY:One Beach\, One Read 2023
DESCRIPTION:
URL:https://www.bradleybeachnj.gov/event/one-book-one-read-2023-2/
CATEGORIES:Borough Calendar
END:VEVENT
BEGIN:VEVENT
DTSTART;TZID=America/New_York:20230513T110000
DTEND;TZID=America/New_York:20230513T160000
DTSTAMP:20260424T072447
CREATED:20230510T170345Z
LAST-MODIFIED:20230510T170345Z
UID:10001421-1683975600-1683993600@www.bradleybeachnj.gov
SUMMARY:Bradley Beach Business Alliance Market and Music in the Park
DESCRIPTION:Bradley Beach Business Alliance \nMarket and Music in the Park \n11am to 4pm
URL:https://www.bradleybeachnj.gov/event/bradley-beach-business-alliance-market-and-music-in-the-park/
CATEGORIES:Borough Calendar
END:VEVENT
BEGIN:VEVENT
DTSTART;TZID=America/New_York:20230511T173000
DTEND;TZID=America/New_York:20230511T173000
DTSTAMP:20260424T072447
CREATED:20230412T145331Z
LAST-MODIFIED:20230412T183037Z
UID:10001399-1683826200-1683826200@www.bradleybeachnj.gov
SUMMARY:One Beach\, One Read 2023
DESCRIPTION:
URL:https://www.bradleybeachnj.gov/event/one-book-one-read-2023-3/2023-05-11/
CATEGORIES:Borough Calendar
END:VEVENT
BEGIN:VEVENT
DTSTART;TZID=America/New_York:20230507T090000
DTEND;TZID=America/New_York:20230507T150000
DTSTAMP:20260424T072447
CREATED:20230417T141445Z
LAST-MODIFIED:20230417T141445Z
UID:10001402-1683450000-1683471600@www.bradleybeachnj.gov
SUMMARY:Town Wide Yard Sale
DESCRIPTION:BB Ladies AUX May 2023 Yard Sale Application
URL:https://www.bradleybeachnj.gov/event/town-wide-yard-sale/2023-05-07/
CATEGORIES:Borough Calendar
END:VEVENT
BEGIN:VEVENT
DTSTART;TZID=America/New_York:20230506T090000
DTEND;TZID=America/New_York:20230506T150000
DTSTAMP:20260424T072447
CREATED:20230417T141445Z
LAST-MODIFIED:20230417T141445Z
UID:10001401-1683363600-1683385200@www.bradleybeachnj.gov
SUMMARY:Town Wide Yard Sale
DESCRIPTION:BB Ladies AUX May 2023 Yard Sale Application
URL:https://www.bradleybeachnj.gov/event/town-wide-yard-sale/2023-05-06/
CATEGORIES:Borough Calendar
END:VEVENT
BEGIN:VEVENT
DTSTART;TZID=America/New_York:20230502T173000
DTEND;TZID=America/New_York:20230502T173000
DTSTAMP:20260424T072447
CREATED:20230412T145331Z
LAST-MODIFIED:20230412T183037Z
UID:10001398-1683048600-1683048600@www.bradleybeachnj.gov
SUMMARY:One Beach\, One Read 2023
DESCRIPTION:
URL:https://www.bradleybeachnj.gov/event/one-book-one-read-2023-3/2023-05-02/
CATEGORIES:Borough Calendar
END:VEVENT
BEGIN:VEVENT
DTSTART;TZID=America/New_York:20230430T150000
DTEND;TZID=America/New_York:20230430T150000
DTSTAMP:20260424T072447
CREATED:20230313T172958Z
LAST-MODIFIED:20230327T145214Z
UID:10001362-1682866800-1682866800@www.bradleybeachnj.gov
SUMMARY:BBAC presents Cats
DESCRIPTION:2023 BBAC Cats
URL:https://www.bradleybeachnj.gov/event/bbac-presents-cats-2/
CATEGORIES:Borough Calendar
END:VEVENT
BEGIN:VEVENT
DTSTART;TZID=America/New_York:20230429T190000
DTEND;TZID=America/New_York:20230429T190000
DTSTAMP:20260424T072447
CREATED:20230313T172515Z
LAST-MODIFIED:20230327T145330Z
UID:10001361-1682794800-1682794800@www.bradleybeachnj.gov
SUMMARY:BBAC presents Cats
DESCRIPTION:2023 BBAC Cats
URL:https://www.bradleybeachnj.gov/event/bbac-presents-cats/2023-04-29/
CATEGORIES:Borough Calendar
END:VEVENT
BEGIN:VEVENT
DTSTART;TZID=America/New_York:20230428T190000
DTEND;TZID=America/New_York:20230428T190000
DTSTAMP:20260424T072447
CREATED:20230313T172515Z
LAST-MODIFIED:20230327T145330Z
UID:10001360-1682708400-1682708400@www.bradleybeachnj.gov
SUMMARY:BBAC presents Cats
DESCRIPTION:2023 BBAC Cats
URL:https://www.bradleybeachnj.gov/event/bbac-presents-cats/2023-04-28/
CATEGORIES:Borough Calendar
END:VEVENT
BEGIN:VEVENT
DTSTART;TZID=America/New_York:20230422T100000
DTEND;TZID=America/New_York:20230422T150000
DTSTAMP:20260424T072447
CREATED:20230221T143223Z
LAST-MODIFIED:20230301T202103Z
UID:10001354-1682157600-1682175600@www.bradleybeachnj.gov
SUMMARY:EARTH DAY FESITVAL & GREEN FAIR 2023
DESCRIPTION:  \n  \n \nGreen Fair VENDOR APPLICATION.docx
URL:https://www.bradleybeachnj.gov/event/earth-day-fesitval-green-fair-2023/
CATEGORIES:Borough Calendar
END:VEVENT
BEGIN:VEVENT
DTSTART;TZID=America/New_York:20230420T183000
DTEND;TZID=America/New_York:20230420T183000
DTSTAMP:20260424T072447
CREATED:20230126T182923Z
LAST-MODIFIED:20230126T182923Z
UID:10001317-1682015400-1682015400@www.bradleybeachnj.gov
SUMMARY:LAND USE BOARD MEETING
DESCRIPTION:LAND USE BOARD MEETING \n6:30 PM \nBorough Hall Meeting Room \n701 Main Street\, Bradley Beach\, NJ
URL:https://www.bradleybeachnj.gov/event/land-use-board-meeting-3/
CATEGORIES:Borough Calendar
END:VEVENT
BEGIN:VEVENT
DTSTART;TZID=America/New_York:20230401T120000
DTEND;TZID=America/New_York:20230401T120000
DTSTAMP:20260424T072447
CREATED:20230227T183614Z
LAST-MODIFIED:20230308T151154Z
UID:10001355-1680350400-1680350400@www.bradleybeachnj.gov
SUMMARY:Easter Egg Hunt 2023
DESCRIPTION:
URL:https://www.bradleybeachnj.gov/event/easter-egg-hunt-2023/
CATEGORIES:Borough Calendar
END:VEVENT
BEGIN:VEVENT
DTSTART;TZID=America/New_York:20230318T110000
DTEND;TZID=America/New_York:20230318T140000
DTSTAMP:20260424T072447
CREATED:20230117T150149Z
LAST-MODIFIED:20230118T131909Z
UID:10001291-1679137200-1679148000@www.bradleybeachnj.gov
SUMMARY:Bradley Beach Business Community Alliance Food Pantry Pick-Up
DESCRIPTION:Bradley Beach Business Community Alliance Food Pantry Pick-Up \n3/18/2023 11:00am to 2:00pm
URL:https://www.bradleybeachnj.gov/event/bradley-beach-business-community-alliance-food-pantry-pick-up/
CATEGORIES:Borough Calendar
END:VEVENT
BEGIN:VEVENT
DTSTART;TZID=America/New_York:20230316T183000
DTEND;TZID=America/New_York:20230316T183000
DTSTAMP:20260424T072447
CREATED:20230126T182354Z
LAST-MODIFIED:20230126T182354Z
UID:10001316-1678991400-1678991400@www.bradleybeachnj.gov
SUMMARY:LAND USE BOARD MEETING
DESCRIPTION:LAND USE BOARD MEETING \n6:30 PM \nBorough Hall Meeting Room \n701 Main Street\, Bradley Beach\, NJ \n 
URL:https://www.bradleybeachnj.gov/event/land-use-board-meeting-2/
CATEGORIES:Borough Calendar
END:VEVENT
BEGIN:VEVENT
DTSTART;TZID=America/New_York:20230310T000000
DTEND;TZID=America/New_York:20230317T000000
DTSTAMP:20260424T072447
CREATED:20230131T183231Z
LAST-MODIFIED:20230315T151859Z
UID:10001117-1678406400-1679011200@www.bradleybeachnj.gov
SUMMARY:SHAMROCK HUNT
DESCRIPTION:During the week leading up to St. Patrick’s Day\, magic rocks with shamrocks painted on them will be hidden all around Bradley Beach! The boardwalk\, Main Street\, Riley Park and more! \n  \nIf you find a lucky rock please email tourism@bradleybeachnj.gov to claim your prize!!
URL:https://www.bradleybeachnj.gov/event/shamrock-hunt/
CATEGORIES:Borough Calendar
END:VEVENT
END:VCALENDAR