BEGIN:VCALENDAR
VERSION:2.0
PRODID:-//Bradley Beach - ECPv6.15.18//NONSGML v1.0//EN
CALSCALE:GREGORIAN
METHOD:PUBLISH
X-WR-CALNAME:Bradley Beach
X-ORIGINAL-URL:https://www.bradleybeachnj.gov
X-WR-CALDESC:Events for Bradley Beach
REFRESH-INTERVAL;VALUE=DURATION:PT1H
X-Robots-Tag:noindex
X-PUBLISHED-TTL:PT1H
BEGIN:VTIMEZONE
TZID:America/New_York
BEGIN:DAYLIGHT
TZOFFSETFROM:-0500
TZOFFSETTO:-0400
TZNAME:EDT
DTSTART:20220313T070000
END:DAYLIGHT
BEGIN:STANDARD
TZOFFSETFROM:-0400
TZOFFSETTO:-0500
TZNAME:EST
DTSTART:20221106T060000
END:STANDARD
BEGIN:DAYLIGHT
TZOFFSETFROM:-0500
TZOFFSETTO:-0400
TZNAME:EDT
DTSTART:20230312T070000
END:DAYLIGHT
BEGIN:STANDARD
TZOFFSETFROM:-0400
TZOFFSETTO:-0500
TZNAME:EST
DTSTART:20231105T060000
END:STANDARD
BEGIN:DAYLIGHT
TZOFFSETFROM:-0500
TZOFFSETTO:-0400
TZNAME:EDT
DTSTART:20240310T070000
END:DAYLIGHT
BEGIN:STANDARD
TZOFFSETFROM:-0400
TZOFFSETTO:-0500
TZNAME:EST
DTSTART:20241103T060000
END:STANDARD
BEGIN:DAYLIGHT
TZOFFSETFROM:-0500
TZOFFSETTO:-0400
TZNAME:EDT
DTSTART:20250309T070000
END:DAYLIGHT
BEGIN:STANDARD
TZOFFSETFROM:-0400
TZOFFSETTO:-0500
TZNAME:EST
DTSTART:20251102T060000
END:STANDARD
END:VTIMEZONE
BEGIN:VEVENT
DTSTART;TZID=America/New_York:20240127T070000
DTEND;TZID=America/New_York:20240127T200000
DTSTAMP:20260423T160843
CREATED:20231221T153232Z
LAST-MODIFIED:20231221T153232Z
UID:10001558-1706338800-1706385600@www.bradleybeachnj.gov
SUMMARY:Bradley Beach Arts Council Presents - Driving Miss Daisy
DESCRIPTION:
URL:https://www.bradleybeachnj.gov/event/bradley-beach-arts-council-presents-driving-miss-daisy-2/
CATEGORIES:Borough Calendar
END:VEVENT
BEGIN:VEVENT
DTSTART;TZID=America/New_York:20240126T190000
DTEND;TZID=America/New_York:20240126T200000
DTSTAMP:20260423T160843
CREATED:20231221T152906Z
LAST-MODIFIED:20231221T152906Z
UID:10001557-1706295600-1706299200@www.bradleybeachnj.gov
SUMMARY:Bradley Beach Arts Council Presents - Driving Miss Daisy
DESCRIPTION:
URL:https://www.bradleybeachnj.gov/event/bradley-beach-arts-council-presents-driving-miss-daisy/
CATEGORIES:Borough Calendar
END:VEVENT
BEGIN:VEVENT
DTSTART;TZID=America/New_York:20231221T183000
DTEND;TZID=America/New_York:20231221T183000
DTSTAMP:20260423T160843
CREATED:20230126T185312Z
LAST-MODIFIED:20231211T183620Z
UID:10001325-1703183400-1703183400@www.bradleybeachnj.gov
SUMMARY:LAND USE BOARD MEETING  ZOOM ONLY
DESCRIPTION:LAND USE BOARD MEETING \n6:30 PM via ZOOM ONLY  \n 
URL:https://www.bradleybeachnj.gov/event/land-use-board-meeting-11/
CATEGORIES:Borough Calendar
END:VEVENT
BEGIN:VEVENT
DTSTART;TZID=America/New_York:20231203T110000
DTEND;TZID=America/New_York:20231203T160000
DTSTAMP:20260423T160843
CREATED:20231012T182651Z
LAST-MODIFIED:20231012T182651Z
UID:10001303-1701601200-1701619200@www.bradleybeachnj.gov
SUMMARY:Market and Music in Riley Park
DESCRIPTION:
URL:https://www.bradleybeachnj.gov/event/market-and-music-in-riley-park/
CATEGORIES:Borough Calendar
END:VEVENT
BEGIN:VEVENT
DTSTART;TZID=America/New_York:20231126T160000
DTEND;TZID=America/New_York:20231126T180000
DTSTAMP:20260423T160843
CREATED:20231107T174505Z
LAST-MODIFIED:20231108T185339Z
UID:10001517-1701014400-1701021600@www.bradleybeachnj.gov
SUMMARY:Bradley Beach Tree Lighting Ceremony
DESCRIPTION:
URL:https://www.bradleybeachnj.gov/event/bradley-beach-tree-lighting-ceremony/
LOCATION:Riley Park
CATEGORIES:Borough Calendar
END:VEVENT
BEGIN:VEVENT
DTSTART;TZID=America/New_York:20231124T170000
DTEND;TZID=America/New_York:20231124T170000
DTSTAMP:20260423T160843
CREATED:20231107T181135Z
LAST-MODIFIED:20231108T185417Z
UID:10001519-1700845200-1700845200@www.bradleybeachnj.gov
SUMMARY:Bradley Beach Annual Beachfront Bonfire
DESCRIPTION:
URL:https://www.bradleybeachnj.gov/event/bradley-beach-annual-beachfront-bonfire/
CATEGORIES:Borough Calendar
END:VEVENT
BEGIN:VEVENT
DTSTART;TZID=America/New_York:20231116T183000
DTEND;TZID=America/New_York:20231116T183000
DTSTAMP:20260423T160843
CREATED:20230126T183751Z
LAST-MODIFIED:20230126T183751Z
UID:10001324-1700159400-1700159400@www.bradleybeachnj.gov
SUMMARY:LAND USE BOARD MEETING
DESCRIPTION:LAND USE BOARD MEETING \n6:30 PM \nBorough Hall Meeting Room \n701 Main Street\, Bradley Beach\, NJ
URL:https://www.bradleybeachnj.gov/event/land-use-board-meeting-10/
CATEGORIES:Borough Calendar
END:VEVENT
BEGIN:VEVENT
DTSTART;TZID=America/New_York:20231111T110000
DTEND;TZID=America/New_York:20231111T110000
DTSTAMP:20260423T160843
CREATED:20231106T183024Z
LAST-MODIFIED:20231106T183024Z
UID:10001515-1699700400-1699700400@www.bradleybeachnj.gov
SUMMARY:Veterans Day Ceremony
DESCRIPTION:
URL:https://www.bradleybeachnj.gov/event/veterans-day-ceremony-2/
LOCATION:Riley Park
CATEGORIES:Borough Calendar
END:VEVENT
BEGIN:VEVENT
DTSTART;TZID=America/New_York:20231109T183000
DTEND;TZID=America/New_York:20231109T203000
DTSTAMP:20260423T160843
CREATED:20231103T141328Z
LAST-MODIFIED:20231103T141328Z
UID:10001513-1699554600-1699561800@www.bradleybeachnj.gov
SUMMARY:Special Meeting of Land Use Board
DESCRIPTION:
URL:https://www.bradleybeachnj.gov/event/special-meeting-of-land-use-board/
CATEGORIES:Borough Calendar
END:VEVENT
BEGIN:VEVENT
DTSTART;TZID=America/New_York:20231101T190000
DTEND;TZID=America/New_York:20231101T203000
DTSTAMP:20260423T160843
CREATED:20231020T135621Z
LAST-MODIFIED:20231020T135621Z
UID:10001510-1698865200-1698870600@www.bradleybeachnj.gov
SUMMARY:Sylvan Lake Restoration Stakeholder's Meeting
DESCRIPTION:
URL:https://www.bradleybeachnj.gov/event/sylvan-lake-restoration-stakeholders-meeting/
CATEGORIES:Borough Calendar
END:VEVENT
BEGIN:VEVENT
DTSTART;TZID=America/New_York:20231029T120000
DTEND;TZID=America/New_York:20231029T180000
DTSTAMP:20260423T160843
CREATED:20231005T132418Z
LAST-MODIFIED:20231005T132501Z
UID:10001292-1698580800-1698602400@www.bradleybeachnj.gov
SUMMARY:The Bradley Boo
DESCRIPTION:
URL:https://www.bradleybeachnj.gov/event/the-bradley-boo/
CATEGORIES:Borough Calendar
END:VEVENT
BEGIN:VEVENT
DTSTART;TZID=America/New_York:20231021T090000
DTEND;TZID=America/New_York:20231021T123000
DTSTAMP:20260423T160843
CREATED:20231005T165934Z
LAST-MODIFIED:20231005T165934Z
UID:10001293-1697878800-1697891400@www.bradleybeachnj.gov
SUMMARY:Clean Ocean Action Beach Sweep
DESCRIPTION:
URL:https://www.bradleybeachnj.gov/event/clean-ocean-action-beach-sweep/
CATEGORIES:Borough Calendar
END:VEVENT
BEGIN:VEVENT
DTSTART;TZID=America/New_York:20231021T080000
DTEND;TZID=America/New_York:20231022T170000
DTSTAMP:20260423T160843
CREATED:20231012T182518Z
LAST-MODIFIED:20231012T182518Z
UID:10001302-1697875200-1697994000@www.bradleybeachnj.gov
SUMMARY:Wellness Weekend
DESCRIPTION:
URL:https://www.bradleybeachnj.gov/event/wellness-weekend/
CATEGORIES:Borough Calendar
END:VEVENT
BEGIN:VEVENT
DTSTART;TZID=America/New_York:20231019T183000
DTEND;TZID=America/New_York:20231019T183000
DTSTAMP:20260423T160843
CREATED:20230126T183636Z
LAST-MODIFIED:20230126T183636Z
UID:10001323-1697740200-1697740200@www.bradleybeachnj.gov
SUMMARY:LAND USE BOARD MEETING
DESCRIPTION:LAND USE BOARD MEETING \n6:30 PM \nBorough Hall Meeting Room \n701 Main Street\, Bradley Beach\, NJ
URL:https://www.bradleybeachnj.gov/event/land-use-board-meeting-9/
CATEGORIES:Borough Calendar
END:VEVENT
BEGIN:VEVENT
DTSTART;TZID=America/New_York:20231008T090000
DTEND;TZID=America/New_York:20231008T150000
DTSTAMP:20260423T160843
CREATED:20230918T183935Z
LAST-MODIFIED:20231005T143322Z
UID:10001290-1696755600-1696777200@www.bradleybeachnj.gov
SUMMARY:BRADLEY BEACH “TOUR THE TOWN” GARAGE SALE
DESCRIPTION:LADIES AUXILIARY OF THE BRADLEY BEACH FIRE DEPT. \nSATURDAY & SUNDAY\nOCTOBER 7 & 8\, 2023\n9:00 a.m. – 3:00 p.m. \nLADIES AUXILIARY OF THE BRADLEY BEACH FIRE DEPT. OCTOBER 2023 Yard Sale Application \n 
URL:https://www.bradleybeachnj.gov/event/bradley-beach-tour-the-town-garage-sale/2023-10-08/
CATEGORIES:Borough Calendar
END:VEVENT
BEGIN:VEVENT
DTSTART;TZID=America/New_York:20231007T090000
DTEND;TZID=America/New_York:20231007T150000
DTSTAMP:20260423T160843
CREATED:20230918T183935Z
LAST-MODIFIED:20231005T143322Z
UID:10001289-1696669200-1696690800@www.bradleybeachnj.gov
SUMMARY:BRADLEY BEACH “TOUR THE TOWN” GARAGE SALE
DESCRIPTION:LADIES AUXILIARY OF THE BRADLEY BEACH FIRE DEPT. \nSATURDAY & SUNDAY\nOCTOBER 7 & 8\, 2023\n9:00 a.m. – 3:00 p.m. \nLADIES AUXILIARY OF THE BRADLEY BEACH FIRE DEPT. OCTOBER 2023 Yard Sale Application \n 
URL:https://www.bradleybeachnj.gov/event/bradley-beach-tour-the-town-garage-sale/2023-10-07/
CATEGORIES:Borough Calendar
END:VEVENT
BEGIN:VEVENT
DTSTART;TZID=America/New_York:20230930T183000
DTEND;TZID=America/New_York:20230930T233000
DTSTAMP:20260423T160843
CREATED:20230727T180504Z
LAST-MODIFIED:20230727T180504Z
UID:10001492-1696098600-1696116600@www.bradleybeachnj.gov
SUMMARY:Bradley Beach Business & Community Alliance\, Dinner and Movie
DESCRIPTION:
URL:https://www.bradleybeachnj.gov/event/bradley-beach-business-community-alliance-dinner-and-movie/
CATEGORIES:Borough Calendar
END:VEVENT
BEGIN:VEVENT
DTSTART;TZID=America/New_York:20230921T183000
DTEND;TZID=America/New_York:20230921T183000
DTSTAMP:20260423T160843
CREATED:20230126T183431Z
LAST-MODIFIED:20230126T183431Z
UID:10001322-1695321000-1695321000@www.bradleybeachnj.gov
SUMMARY:LAND USE BOARD MEETING
DESCRIPTION:LAND USE BOARD MEETING \n6:30 PM \nBorough Hall Meeting Room \n701 Main Street\, Bradley Beach\, NJ
URL:https://www.bradleybeachnj.gov/event/land-use-board-meeting-8/
CATEGORIES:Borough Calendar
END:VEVENT
BEGIN:VEVENT
DTSTART;TZID=America/New_York:20230918T120000
DTEND;TZID=America/New_York:20230918T180000
DTSTAMP:20260423T160843
CREATED:20230915T192355Z
LAST-MODIFIED:20230915T192355Z
UID:10001287-1695038400-1695060000@www.bradleybeachnj.gov
SUMMARY:Bradley Beach Community Blood and Platelet Drive
DESCRIPTION:Here is the direct link to register: https://tinyurl.com/pesy8rc6
URL:https://www.bradleybeachnj.gov/event/bradley-beach-community-blood-and-platelet-drive/
CATEGORIES:Borough Calendar
END:VEVENT
BEGIN:VEVENT
DTSTART;TZID=America/New_York:20230917T170000
DTEND;TZID=America/New_York:20230917T193000
DTSTAMP:20260423T160843
CREATED:20230727T181254Z
LAST-MODIFIED:20230911T134635Z
UID:10001494-1694970000-1694979000@www.bradleybeachnj.gov
SUMMARY:Borough of Bradley Beach & Bradley Beach Business & Community Alliance Local Summer Event
DESCRIPTION:We are celebrating our 130th Anniversary !\n\nOpen to All Bradley Beach Residents !  Free!  Bring Your Own Food\n\nYou can also purchase food from Shore Good Eats and Treats \, a very popular food truck on the Jersey Shore. Their eclectic menu is always a hit and we are excited that they have included Bradley Beach in their busy schedule.\n\nCheck out www.FeelGood Shuttles.com to book a free ride.\n\nThere will be games and prizes. Bring your 2023 beach badge for special prizes .\n\nAnd of course\, bring your favorite beach chair !\n\nSunday September 17 will a great celebration of our 130th Bradley Beach Anniversary of our special town with great neighbors.\n\n\nSponsored by Borough of Bradley Beach and Bradley Beach Business & Community Alliance.
URL:https://www.bradleybeachnj.gov/event/bradley-beach-business-community-alliance-local-summer-event-rain-date/
CATEGORIES:Borough Calendar
END:VEVENT
BEGIN:VEVENT
DTSTART;TZID=America/New_York:20230910T170000
DTEND;TZID=America/New_York:20230910T193000
DTSTAMP:20260423T160843
CREATED:20230727T181047Z
LAST-MODIFIED:20230911T134712Z
UID:10001493-1694365200-1694374200@www.bradleybeachnj.gov
SUMMARY:CANCELLED Borough of Bradley Beach & Bradley Beach Business & Community Alliance Local Summer Event
DESCRIPTION:LocalSummer 2023 –  Sunday\, September 10 5pm – 7:30pm at Brinley Avenue Beach\n\nWe are celebrating our 130th Anniversary !\n\nOpen to All Bradley Beach Residents !  Free!  Bring Your Own Food\n\nYou can also purchase food from Shore Good Eats and Treats \, a very popular food truck on the Jersey Shore. Their eclectic menu is always a hit and we are excited that they have included Bradley Beach in their busy schedule.\n\nCheck out www.FeelGood Shuttles.com to book a free ride.\n\nThere will be games and prizes. Bring your 2023 beach badge for special prizes .\n\nAnd of course\, bring your favorite beach chair !\n\nSunday September 10 will a great celebration of our 130th Bradley Beach Anniversary of our special town with great neighbors.\n\n\nSponsored by Borough of Bradley Beach and Bradley Beach Business & Community Alliance.
URL:https://www.bradleybeachnj.gov/event/bradley-beach-business-community-alliance-local-summer-event/
CATEGORIES:Borough Calendar
END:VEVENT
BEGIN:VEVENT
DTSTART;TZID=America/New_York:20230909T150000
DTEND;TZID=America/New_York:20230909T200000
DTSTAMP:20260423T160843
CREATED:20230901T165512Z
LAST-MODIFIED:20230901T165512Z
UID:10001500-1694271600-1694289600@www.bradleybeachnj.gov
SUMMARY:Latin Festival 2023
DESCRIPTION:Sept. 9\, 2023 \nRiley Park\, 615 Main St. \n3pm-8pm
URL:https://www.bradleybeachnj.gov/event/latin-festival-2023/
CATEGORIES:Borough Calendar
END:VEVENT
BEGIN:VEVENT
DTSTART;TZID=America/New_York:20230902T170000
DTEND;TZID=America/New_York:20230902T190000
DTSTAMP:20260423T160843
CREATED:20230216T194650Z
LAST-MODIFIED:20230609T150200Z
UID:10001352-1693674000-1693681200@www.bradleybeachnj.gov
SUMMARY:Saturdays in the Park\, Saturday Night Concert Series at Riley Park
DESCRIPTION:Saturdays in the Park\, Saturday Night Concert Series at Riley Park \n 
URL:https://www.bradleybeachnj.gov/event/saturdays-in-the-park-saturday-night-concert-series/2023-09-02/
CATEGORIES:Borough Calendar
END:VEVENT
BEGIN:VEVENT
DTSTART;VALUE=DATE:20230902
DTEND;VALUE=DATE:20230903
DTSTAMP:20260423T160843
CREATED:20230609T144525Z
LAST-MODIFIED:20230808T140438Z
UID:10001430-1693612800-1693699199@www.bradleybeachnj.gov
SUMMARY:Concert in Riley Park
DESCRIPTION:
URL:https://www.bradleybeachnj.gov/event/concert-in-riley-park/2023-09-02/
CATEGORIES:Borough Calendar
END:VEVENT
BEGIN:VEVENT
DTSTART;TZID=America/New_York:20230901T180000
DTEND;TZID=America/New_York:20230901T180000
DTSTAMP:20260423T160843
CREATED:20230609T145533Z
LAST-MODIFIED:20230710T152551Z
UID:10001460-1693591200-1693591200@www.bradleybeachnj.gov
SUMMARY:DJ Jay at the Beachfront Gazebo
DESCRIPTION:
URL:https://www.bradleybeachnj.gov/event/dj-jay-at-the-beachfront-gazebo/2023-09-01/
CATEGORIES:Borough Calendar
END:VEVENT
BEGIN:VEVENT
DTSTART;TZID=America/New_York:20230829T180000
DTEND;TZID=America/New_York:20230829T180000
DTSTAMP:20260423T160843
CREATED:20230609T145345Z
LAST-MODIFIED:20230612T003458Z
UID:10001450-1693332000-1693332000@www.bradleybeachnj.gov
SUMMARY:Salsa Lessons at the Beachfront Gazebo
DESCRIPTION:
URL:https://www.bradleybeachnj.gov/event/salsa-lessons-at-the-beachfront-gazebo-2023-08-29/
CATEGORIES:Borough Calendar
END:VEVENT
BEGIN:VEVENT
DTSTART;TZID=America/New_York:20230828T180000
DTEND;TZID=America/New_York:20230828T200000
DTSTAMP:20260423T160843
CREATED:20230609T144946Z
LAST-MODIFIED:20230609T183949Z
UID:10001432-1693245600-1693252800@www.bradleybeachnj.gov
SUMMARY:Opera by the Sea at the Beachfront Gazebo
DESCRIPTION:
URL:https://www.bradleybeachnj.gov/event/opera-by-the-sea-at-the-beachfront-gazebo-2023-08-28-2023-08-28/2023-08-28/
CATEGORIES:Borough Calendar
END:VEVENT
BEGIN:VEVENT
DTSTART;TZID=America/New_York:20230826T170000
DTEND;TZID=America/New_York:20230826T190000
DTSTAMP:20260423T160843
CREATED:20230216T194650Z
LAST-MODIFIED:20230609T150200Z
UID:10001351-1693069200-1693076400@www.bradleybeachnj.gov
SUMMARY:Saturdays in the Park\, Saturday Night Concert Series at Riley Park
DESCRIPTION:Saturdays in the Park\, Saturday Night Concert Series at Riley Park \n 
URL:https://www.bradleybeachnj.gov/event/saturdays-in-the-park-saturday-night-concert-series/2023-08-26/
CATEGORIES:Borough Calendar
END:VEVENT
BEGIN:VEVENT
DTSTART;TZID=America/New_York:20230825T180000
DTEND;TZID=America/New_York:20230825T180000
DTSTAMP:20260423T160843
CREATED:20230609T145533Z
LAST-MODIFIED:20230710T152551Z
UID:10001459-1692986400-1692986400@www.bradleybeachnj.gov
SUMMARY:DJ Jay at the Beachfront Gazebo
DESCRIPTION:
URL:https://www.bradleybeachnj.gov/event/dj-jay-at-the-beachfront-gazebo/2023-08-25/
CATEGORIES:Borough Calendar
END:VEVENT
BEGIN:VEVENT
DTSTART;TZID=America/New_York:20230824T190000
DTEND;TZID=America/New_York:20230824T190000
DTSTAMP:20260423T160843
CREATED:20230810T173949Z
LAST-MODIFIED:20230810T173949Z
UID:10001497-1692903600-1692903600@www.bradleybeachnj.gov
SUMMARY:Summer Concert Series at Newark Avenue Beach
DESCRIPTION:  \n\n  \n \nThursday August 24\nAri Hest\nMike Montali (of Hollis Brown and Fantastic Cat)\nJoseph Alton Miller
URL:https://www.bradleybeachnj.gov/event/summer-concert-series-at-newark-avenue-beach/
CATEGORIES:Borough Calendar
END:VEVENT
END:VCALENDAR