BEGIN:VCALENDAR
VERSION:2.0
PRODID:-//Bradley Beach - ECPv6.15.18//NONSGML v1.0//EN
CALSCALE:GREGORIAN
METHOD:PUBLISH
X-WR-CALNAME:Bradley Beach
X-ORIGINAL-URL:https://www.bradleybeachnj.gov
X-WR-CALDESC:Events for Bradley Beach
REFRESH-INTERVAL;VALUE=DURATION:PT1H
X-Robots-Tag:noindex
X-PUBLISHED-TTL:PT1H
BEGIN:VTIMEZONE
TZID:America/New_York
BEGIN:DAYLIGHT
TZOFFSETFROM:-0500
TZOFFSETTO:-0400
TZNAME:EDT
DTSTART:20240310T070000
END:DAYLIGHT
BEGIN:STANDARD
TZOFFSETFROM:-0400
TZOFFSETTO:-0500
TZNAME:EST
DTSTART:20241103T060000
END:STANDARD
BEGIN:DAYLIGHT
TZOFFSETFROM:-0500
TZOFFSETTO:-0400
TZNAME:EDT
DTSTART:20250309T070000
END:DAYLIGHT
BEGIN:STANDARD
TZOFFSETFROM:-0400
TZOFFSETTO:-0500
TZNAME:EST
DTSTART:20251102T060000
END:STANDARD
BEGIN:DAYLIGHT
TZOFFSETFROM:-0500
TZOFFSETTO:-0400
TZNAME:EDT
DTSTART:20260308T070000
END:DAYLIGHT
BEGIN:STANDARD
TZOFFSETFROM:-0400
TZOFFSETTO:-0500
TZNAME:EST
DTSTART:20261101T060000
END:STANDARD
BEGIN:DAYLIGHT
TZOFFSETFROM:-0500
TZOFFSETTO:-0400
TZNAME:EDT
DTSTART:20270314T070000
END:DAYLIGHT
BEGIN:STANDARD
TZOFFSETFROM:-0400
TZOFFSETTO:-0500
TZNAME:EST
DTSTART:20271107T060000
END:STANDARD
END:VTIMEZONE
BEGIN:VEVENT
DTSTART;TZID=America/New_York:20260325T120000
DTEND;TZID=America/New_York:20260325T150000
DTSTAMP:20260423T031443
CREATED:20260217T150200Z
LAST-MODIFIED:20260217T150200Z
UID:10002335-1774440000-1774450800@www.bradleybeachnj.gov
SUMMARY:Senior Club Meeting
DESCRIPTION:
URL:https://www.bradleybeachnj.gov/event/senior-club-meeting-16/
LOCATION:Carmen Biase Center\, 719 Main St\, Bradley Beach\, NJ\, 07720\, United States
CATEGORIES:Recreation Calendar
END:VEVENT
BEGIN:VEVENT
DTSTART;TZID=America/New_York:20260321T180000
DTEND;TZID=America/New_York:20260321T210000
DTSTAMP:20260423T031443
CREATED:20260217T145141Z
LAST-MODIFIED:20260217T145141Z
UID:10002068-1774116000-1774126800@www.bradleybeachnj.gov
SUMMARY:Radio BINGO
DESCRIPTION:
URL:https://www.bradleybeachnj.gov/event/radio-bingo-2/
LOCATION:Bradley Beach Fire House
CATEGORIES:Recreation Calendar
END:VEVENT
BEGIN:VEVENT
DTSTART;TZID=America/New_York:20260320T130000
DTEND;TZID=America/New_York:20260320T150000
DTSTAMP:20260423T031443
CREATED:20260217T145947Z
LAST-MODIFIED:20260217T145947Z
UID:10002077-1774011600-1774018800@www.bradleybeachnj.gov
SUMMARY:Open Play Mahjong
DESCRIPTION:
URL:https://www.bradleybeachnj.gov/event/open-play-mahjong/2026-03-20/
LOCATION:Carmen Biase Center\, 719 Main St\, Bradley Beach\, NJ\, 07720\, United States
CATEGORIES:Recreation Calendar
END:VEVENT
BEGIN:VEVENT
DTSTART;VALUE=DATE:20260316
DTEND;VALUE=DATE:20260317
DTSTAMP:20260423T031443
CREATED:20260217T145445Z
LAST-MODIFIED:20260217T150753Z
UID:10002069-1773619200-1773705599@www.bradleybeachnj.gov
SUMMARY:Summer Camp 2026 Registration Opens for Residents
DESCRIPTION:Full Day Camp – https://register.capturepoint.com/reg/cat_program_list_detail.cfm?season_id=32296&program_id=2737833 \nCIT Program – https://register.capturepoint.com/reg/cat_program_list_detail.cfm?season_id=32296&program_id=2737834 \nHalf Day Camp For BBES Students Only – https://register.capturepoint.com/reg/cat_program_list_detail.cfm?season_id=32296&program_id=2737835 \n  \n 
URL:https://www.bradleybeachnj.gov/event/summer-camp-2026-registration-opens-for-residents/
LOCATION:NJ
CATEGORIES:Recreation Calendar
END:VEVENT
BEGIN:VEVENT
DTSTART;TZID=America/New_York:20260313T130000
DTEND;TZID=America/New_York:20260313T150000
DTSTAMP:20260423T031443
CREATED:20260217T145947Z
LAST-MODIFIED:20260217T145947Z
UID:10002076-1773406800-1773414000@www.bradleybeachnj.gov
SUMMARY:Open Play Mahjong
DESCRIPTION:
URL:https://www.bradleybeachnj.gov/event/open-play-mahjong/2026-03-13/
LOCATION:Carmen Biase Center\, 719 Main St\, Bradley Beach\, NJ\, 07720\, United States
CATEGORIES:Recreation Calendar
END:VEVENT
BEGIN:VEVENT
DTSTART;TZID=America/New_York:20260306T130000
DTEND;TZID=America/New_York:20260306T150000
DTSTAMP:20260423T031443
CREATED:20260217T145947Z
LAST-MODIFIED:20260217T145947Z
UID:10002075-1772802000-1772809200@www.bradleybeachnj.gov
SUMMARY:Open Play Mahjong
DESCRIPTION:
URL:https://www.bradleybeachnj.gov/event/open-play-mahjong/2026-03-06/
LOCATION:Carmen Biase Center\, 719 Main St\, Bradley Beach\, NJ\, 07720\, United States
CATEGORIES:Recreation Calendar
END:VEVENT
BEGIN:VEVENT
DTSTART;TZID=America/New_York:20260227T130000
DTEND;TZID=America/New_York:20260227T150000
DTSTAMP:20260423T031443
CREATED:20260217T145947Z
LAST-MODIFIED:20260217T145947Z
UID:10002074-1772197200-1772204400@www.bradleybeachnj.gov
SUMMARY:Open Play Mahjong
DESCRIPTION:
URL:https://www.bradleybeachnj.gov/event/open-play-mahjong/2026-02-27/
LOCATION:Carmen Biase Center\, 719 Main St\, Bradley Beach\, NJ\, 07720\, United States
CATEGORIES:Recreation Calendar
END:VEVENT
BEGIN:VEVENT
DTSTART;TZID=America/New_York:20260225T120000
DTEND;TZID=America/New_York:20260225T150000
DTSTAMP:20260423T031443
CREATED:20260217T150109Z
LAST-MODIFIED:20260217T150109Z
UID:10002334-1772020800-1772031600@www.bradleybeachnj.gov
SUMMARY:Senior Club Meeting
DESCRIPTION:
URL:https://www.bradleybeachnj.gov/event/senior-club-meeting-15/
LOCATION:Bradley Beach Fire House
CATEGORIES:Recreation Calendar
END:VEVENT
BEGIN:VEVENT
DTSTART;TZID=America/New_York:20260220T130000
DTEND;TZID=America/New_York:20260220T150000
DTSTAMP:20260423T031443
CREATED:20260217T145947Z
LAST-MODIFIED:20260217T145947Z
UID:10002073-1771592400-1771599600@www.bradleybeachnj.gov
SUMMARY:Open Play Mahjong
DESCRIPTION:
URL:https://www.bradleybeachnj.gov/event/open-play-mahjong/2026-02-20/
LOCATION:Carmen Biase Center\, 719 Main St\, Bradley Beach\, NJ\, 07720\, United States
CATEGORIES:Recreation Calendar
END:VEVENT
BEGIN:VEVENT
DTSTART;TZID=America/New_York:20260213T130000
DTEND;TZID=America/New_York:20260213T150000
DTSTAMP:20260423T031443
CREATED:20260217T145947Z
LAST-MODIFIED:20260217T145947Z
UID:10002072-1770987600-1770994800@www.bradleybeachnj.gov
SUMMARY:Open Play Mahjong
DESCRIPTION:
URL:https://www.bradleybeachnj.gov/event/open-play-mahjong/2026-02-13/
LOCATION:Carmen Biase Center\, 719 Main St\, Bradley Beach\, NJ\, 07720\, United States
CATEGORIES:Recreation Calendar
END:VEVENT
BEGIN:VEVENT
DTSTART;TZID=America/New_York:20260206T130000
DTEND;TZID=America/New_York:20260206T150000
DTSTAMP:20260423T031443
CREATED:20260217T145947Z
LAST-MODIFIED:20260217T145947Z
UID:10002071-1770382800-1770390000@www.bradleybeachnj.gov
SUMMARY:Open Play Mahjong
DESCRIPTION:
URL:https://www.bradleybeachnj.gov/event/open-play-mahjong/2026-02-06/
LOCATION:Carmen Biase Center\, 719 Main St\, Bradley Beach\, NJ\, 07720\, United States
CATEGORIES:Recreation Calendar
END:VEVENT
BEGIN:VEVENT
DTSTART;TZID=America/New_York:20251219T130000
DTEND;TZID=America/New_York:20251219T150000
DTSTAMP:20260423T031443
CREATED:20250409T133333Z
LAST-MODIFIED:20250409T133333Z
UID:10001849-1766149200-1766156400@www.bradleybeachnj.gov
SUMMARY:Mah Jong Open Play
DESCRIPTION:
URL:https://www.bradleybeachnj.gov/event/mah-jong-open-play/2025-12-19/
LOCATION:Carmen Biase Center\, 719 Main St\, Bradley Beach\, NJ\, 07720\, United States
CATEGORIES:Recreation Calendar
END:VEVENT
BEGIN:VEVENT
DTSTART;TZID=America/New_York:20251212T130000
DTEND;TZID=America/New_York:20251212T150000
DTSTAMP:20260423T031443
CREATED:20250409T133333Z
LAST-MODIFIED:20250409T133333Z
UID:10001848-1765544400-1765551600@www.bradleybeachnj.gov
SUMMARY:Mah Jong Open Play
DESCRIPTION:
URL:https://www.bradleybeachnj.gov/event/mah-jong-open-play/2025-12-12/
LOCATION:Carmen Biase Center\, 719 Main St\, Bradley Beach\, NJ\, 07720\, United States
CATEGORIES:Recreation Calendar
END:VEVENT
BEGIN:VEVENT
DTSTART;TZID=America/New_York:20251205T130000
DTEND;TZID=America/New_York:20251205T150000
DTSTAMP:20260423T031443
CREATED:20250409T133333Z
LAST-MODIFIED:20250409T133333Z
UID:10001847-1764939600-1764946800@www.bradleybeachnj.gov
SUMMARY:Mah Jong Open Play
DESCRIPTION:
URL:https://www.bradleybeachnj.gov/event/mah-jong-open-play/2025-12-05/
LOCATION:Carmen Biase Center\, 719 Main St\, Bradley Beach\, NJ\, 07720\, United States
CATEGORIES:Recreation Calendar
END:VEVENT
BEGIN:VEVENT
DTSTART;TZID=America/New_York:20251130T160000
DTEND;TZID=America/New_York:20251130T180000
DTSTAMP:20260423T031443
CREATED:20251118T171531Z
LAST-MODIFIED:20251118T171531Z
UID:10002022-1764518400-1764525600@www.bradleybeachnj.gov
SUMMARY:Annual Tree Lighting
DESCRIPTION:
URL:https://www.bradleybeachnj.gov/event/annual-tree-lighting/
LOCATION:Riley Park
CATEGORIES:Borough Calendar,Community Events Calendar,Recreation Calendar,Tourism Event Calendar
ATTACH;FMTTYPE=image/jpeg:https://www.bradleybeachnj.gov/wp-content/uploads/2025/11/3BACA7A6-0824-4664-9380-FE4874959CAC.jpg
END:VEVENT
BEGIN:VEVENT
DTSTART;TZID=America/New_York:20251128T130000
DTEND;TZID=America/New_York:20251128T150000
DTSTAMP:20260423T031443
CREATED:20250409T133333Z
LAST-MODIFIED:20250409T133333Z
UID:10001846-1764334800-1764342000@www.bradleybeachnj.gov
SUMMARY:Mah Jong Open Play
DESCRIPTION:
URL:https://www.bradleybeachnj.gov/event/mah-jong-open-play/2025-11-28/
LOCATION:Carmen Biase Center\, 719 Main St\, Bradley Beach\, NJ\, 07720\, United States
CATEGORIES:Recreation Calendar
END:VEVENT
BEGIN:VEVENT
DTSTART;TZID=America/New_York:20251121T130000
DTEND;TZID=America/New_York:20251121T150000
DTSTAMP:20260423T031443
CREATED:20250409T133333Z
LAST-MODIFIED:20250409T133333Z
UID:10001845-1763730000-1763737200@www.bradleybeachnj.gov
SUMMARY:Mah Jong Open Play
DESCRIPTION:
URL:https://www.bradleybeachnj.gov/event/mah-jong-open-play/2025-11-21/
LOCATION:Carmen Biase Center\, 719 Main St\, Bradley Beach\, NJ\, 07720\, United States
CATEGORIES:Recreation Calendar
END:VEVENT
BEGIN:VEVENT
DTSTART;TZID=America/New_York:20251119T120000
DTEND;TZID=America/New_York:20251119T150000
DTSTAMP:20260423T031443
CREATED:20250828T152744Z
LAST-MODIFIED:20250828T152744Z
UID:10001893-1763553600-1763564400@www.bradleybeachnj.gov
SUMMARY:Senior Club Meeting
DESCRIPTION:
URL:https://www.bradleybeachnj.gov/event/senior-club-meeting-14/
LOCATION:NJ
CATEGORIES:Recreation Calendar
END:VEVENT
BEGIN:VEVENT
DTSTART;TZID=America/New_York:20251114T130000
DTEND;TZID=America/New_York:20251114T150000
DTSTAMP:20260423T031443
CREATED:20250409T133333Z
LAST-MODIFIED:20250409T133333Z
UID:10001844-1763125200-1763132400@www.bradleybeachnj.gov
SUMMARY:Mah Jong Open Play
DESCRIPTION:
URL:https://www.bradleybeachnj.gov/event/mah-jong-open-play/2025-11-14/
LOCATION:Carmen Biase Center\, 719 Main St\, Bradley Beach\, NJ\, 07720\, United States
CATEGORIES:Recreation Calendar
END:VEVENT
BEGIN:VEVENT
DTSTART;TZID=America/New_York:20251107T130000
DTEND;TZID=America/New_York:20251107T150000
DTSTAMP:20260423T031443
CREATED:20250409T133333Z
LAST-MODIFIED:20250409T133333Z
UID:10001843-1762520400-1762527600@www.bradleybeachnj.gov
SUMMARY:Mah Jong Open Play
DESCRIPTION:
URL:https://www.bradleybeachnj.gov/event/mah-jong-open-play/2025-11-07/
LOCATION:Carmen Biase Center\, 719 Main St\, Bradley Beach\, NJ\, 07720\, United States
CATEGORIES:Recreation Calendar
END:VEVENT
BEGIN:VEVENT
DTSTART;TZID=America/New_York:20251031T130000
DTEND;TZID=America/New_York:20251031T150000
DTSTAMP:20260423T031443
CREATED:20250409T133333Z
LAST-MODIFIED:20250409T133333Z
UID:10001842-1761915600-1761922800@www.bradleybeachnj.gov
SUMMARY:Mah Jong Open Play
DESCRIPTION:
URL:https://www.bradleybeachnj.gov/event/mah-jong-open-play/2025-10-31/
LOCATION:Carmen Biase Center\, 719 Main St\, Bradley Beach\, NJ\, 07720\, United States
CATEGORIES:Recreation Calendar
END:VEVENT
BEGIN:VEVENT
DTSTART;TZID=America/New_York:20251026T130000
DTEND;TZID=America/New_York:20251026T150000
DTSTAMP:20260423T031443
CREATED:20250828T151136Z
LAST-MODIFIED:20250828T151136Z
UID:10001891-1761483600-1761490800@www.bradleybeachnj.gov
SUMMARY:Trunk or Treat
DESCRIPTION:
URL:https://www.bradleybeachnj.gov/event/trunk-or-treat-2/
LOCATION:NJ
CATEGORIES:Recreation Calendar
END:VEVENT
BEGIN:VEVENT
DTSTART;TZID=America/New_York:20251026T120000
DTEND;TZID=America/New_York:20251026T180000
DTSTAMP:20260423T031443
CREATED:20251022T012603Z
LAST-MODIFIED:20251022T194139Z
UID:10002018-1761480000-1761501600@www.bradleybeachnj.gov
SUMMARY:Halloween Festivities- Bradley Boo\, Trunk or Treat\, Concert and Parade!
DESCRIPTION:Get ready for a Spooktacular Day in Bradley Beach!\n\nJoin us for a full day of Halloween fun on Saturday\, October 26\, starting at 12 PM! The Bradley Beach Tourism Commission\, Recreation Department\, and Fire Department are teaming up to bring you a day packed with festive activities for the whole family.\n\nSchedule of Events\n12 PM – 4 PM: 6th Annual Bradley BOO & Trick-or-Treat Down Main StreetThe Tourism Commission kicks things off with our annual trick-or-treat event. Bring your little ghouls and goblins to Main Street for some Halloween goodies!\n\n1 PM – 3 PM: 4th Annual Trunk-or-TreatHead over to the municipal lot for the Recreation Department’s popular Trunk-or-Treat event. Deck out your car and get ready to hand out candy\, or just come to enjoy the creative displays and collect some treats!\n\n3 PM – 5 PM: Halloween Concert with Strumberry PieWind down from trick-or-treating with a special Halloween concert presented by the Tourism Commission\, featuring local favorite Strumberry Pie.\n\n4 PM: Halloween Parade Registration at Firehouse\n\n5 PM: Halloween Parade Begins\nThe Bradley Beach Fire Department is hosting their annual Halloween Parade! Register at 4 PM at the Firehouse and show off your costumes. The parade begins promptly at 5 PM. Don’t forget\, the Ladies Auxiliary will be on hand with delicious cider and donuts to keep you warm!\n\n**List of participating businesses**\nGreen Lotus Lash and Brow Boutique Pasch Real Estate Your Flooring Center Bradley CafeFINSElbow RoomCountry Farms Hatch 44D’Arcy’s Tavern Hey Peach Bakery Vic’s Pizza The Buttered Biscuit The James Bradley Bradley Bleach Laundromat Patrick Parker Realty Lily’s Nail Salon UVAShore Movements Sabores lo NuestroThe Perfect Perk Katora RealtyBeach Plum Steady Hand CafeAnchors Aweigh TattooJersey Shore Fitness ShopGatto Acupuncture & Wellness
URL:https://www.bradleybeachnj.gov/event/fall-concert-series-tired-starlings/
LOCATION:Bradley Beach
CATEGORIES:Borough Calendar,Recreation Calendar,Tourism Event Calendar
ATTACH;FMTTYPE=image/png:https://www.bradleybeachnj.gov/wp-content/uploads/2025/10/Screenshot-2025-10-21-at-9.29.15-PM.png
END:VEVENT
BEGIN:VEVENT
DTSTART;TZID=America/New_York:20251024T160000
DTEND;TZID=America/New_York:20251024T180000
DTSTAMP:20260423T031443
CREATED:20250828T151015Z
LAST-MODIFIED:20251006T200619Z
UID:10001890-1761321600-1761328800@www.bradleybeachnj.gov
SUMMARY:BB Rec Center's Ghoulish Gathering
DESCRIPTION:
URL:https://www.bradleybeachnj.gov/event/bb-rec-centers-ghoulish-gathering/
LOCATION:Bradley Beach Rec Center\, 39 1/2 Main St\, Bradley Beach\, NJ\, 07720\, United States
CATEGORIES:Recreation Calendar
END:VEVENT
BEGIN:VEVENT
DTSTART;TZID=America/New_York:20251024T130000
DTEND;TZID=America/New_York:20251024T150000
DTSTAMP:20260423T031443
CREATED:20250409T133333Z
LAST-MODIFIED:20250409T133333Z
UID:10001841-1761310800-1761318000@www.bradleybeachnj.gov
SUMMARY:Mah Jong Open Play
DESCRIPTION:
URL:https://www.bradleybeachnj.gov/event/mah-jong-open-play/2025-10-24/
LOCATION:Carmen Biase Center\, 719 Main St\, Bradley Beach\, NJ\, 07720\, United States
CATEGORIES:Recreation Calendar
END:VEVENT
BEGIN:VEVENT
DTSTART;TZID=America/New_York:20251022T120000
DTEND;TZID=America/New_York:20251022T150000
DTSTAMP:20260423T031443
CREATED:20250828T152645Z
LAST-MODIFIED:20250828T152645Z
UID:10001892-1761134400-1761145200@www.bradleybeachnj.gov
SUMMARY:Senior Club Meeting
DESCRIPTION:
URL:https://www.bradleybeachnj.gov/event/senior-club-meeting-13/
LOCATION:NJ
CATEGORIES:Recreation Calendar
END:VEVENT
BEGIN:VEVENT
DTSTART;TZID=America/New_York:20251017T130000
DTEND;TZID=America/New_York:20251017T150000
DTSTAMP:20260423T031443
CREATED:20250409T133333Z
LAST-MODIFIED:20250409T133333Z
UID:10001840-1760706000-1760713200@www.bradleybeachnj.gov
SUMMARY:Mah Jong Open Play
DESCRIPTION:
URL:https://www.bradleybeachnj.gov/event/mah-jong-open-play/2025-10-17/
LOCATION:Carmen Biase Center\, 719 Main St\, Bradley Beach\, NJ\, 07720\, United States
CATEGORIES:Recreation Calendar
END:VEVENT
BEGIN:VEVENT
DTSTART;TZID=America/New_York:20251010T130000
DTEND;TZID=America/New_York:20251010T150000
DTSTAMP:20260423T031443
CREATED:20250409T133333Z
LAST-MODIFIED:20250409T133333Z
UID:10001839-1760101200-1760108400@www.bradleybeachnj.gov
SUMMARY:Mah Jong Open Play
DESCRIPTION:
URL:https://www.bradleybeachnj.gov/event/mah-jong-open-play/2025-10-10/
LOCATION:Carmen Biase Center\, 719 Main St\, Bradley Beach\, NJ\, 07720\, United States
CATEGORIES:Recreation Calendar
END:VEVENT
BEGIN:VEVENT
DTSTART;TZID=America/New_York:20251003T130000
DTEND;TZID=America/New_York:20251003T150000
DTSTAMP:20260423T031443
CREATED:20250409T133333Z
LAST-MODIFIED:20250409T133333Z
UID:10001838-1759496400-1759503600@www.bradleybeachnj.gov
SUMMARY:Mah Jong Open Play
DESCRIPTION:
URL:https://www.bradleybeachnj.gov/event/mah-jong-open-play/2025-10-03/
LOCATION:Carmen Biase Center\, 719 Main St\, Bradley Beach\, NJ\, 07720\, United States
CATEGORIES:Recreation Calendar
END:VEVENT
BEGIN:VEVENT
DTSTART;TZID=America/New_York:20250926T130000
DTEND;TZID=America/New_York:20250926T150000
DTSTAMP:20260423T031443
CREATED:20250409T133333Z
LAST-MODIFIED:20250409T133333Z
UID:10001837-1758891600-1758898800@www.bradleybeachnj.gov
SUMMARY:Mah Jong Open Play
DESCRIPTION:
URL:https://www.bradleybeachnj.gov/event/mah-jong-open-play/2025-09-26/
LOCATION:Carmen Biase Center\, 719 Main St\, Bradley Beach\, NJ\, 07720\, United States
CATEGORIES:Recreation Calendar
END:VEVENT
END:VCALENDAR