BEGIN:VCALENDAR
VERSION:2.0
PRODID:-//Bradley Beach - ECPv6.15.18//NONSGML v1.0//EN
CALSCALE:GREGORIAN
METHOD:PUBLISH
X-ORIGINAL-URL:https://www.bradleybeachnj.gov
X-WR-CALDESC:Events for Bradley Beach
REFRESH-INTERVAL;VALUE=DURATION:PT1H
X-Robots-Tag:noindex
X-PUBLISHED-TTL:PT1H
BEGIN:VTIMEZONE
TZID:America/New_York
BEGIN:DAYLIGHT
TZOFFSETFROM:-0500
TZOFFSETTO:-0400
TZNAME:EDT
DTSTART:20270314T070000
END:DAYLIGHT
BEGIN:STANDARD
TZOFFSETFROM:-0400
TZOFFSETTO:-0500
TZNAME:EST
DTSTART:20271107T060000
END:STANDARD
BEGIN:DAYLIGHT
TZOFFSETFROM:-0500
TZOFFSETTO:-0400
TZNAME:EDT
DTSTART:20280312T070000
END:DAYLIGHT
BEGIN:STANDARD
TZOFFSETFROM:-0400
TZOFFSETTO:-0500
TZNAME:EST
DTSTART:20281105T060000
END:STANDARD
BEGIN:DAYLIGHT
TZOFFSETFROM:-0500
TZOFFSETTO:-0400
TZNAME:EDT
DTSTART:20290311T070000
END:DAYLIGHT
BEGIN:STANDARD
TZOFFSETFROM:-0400
TZOFFSETTO:-0500
TZNAME:EST
DTSTART:20291104T060000
END:STANDARD
BEGIN:DAYLIGHT
TZOFFSETFROM:-0500
TZOFFSETTO:-0400
TZNAME:EDT
DTSTART:20300310T070000
END:DAYLIGHT
BEGIN:STANDARD
TZOFFSETFROM:-0400
TZOFFSETTO:-0500
TZNAME:EST
DTSTART:20301103T060000
END:STANDARD
END:VTIMEZONE
BEGIN:VEVENT
DTSTART;TZID=America/New_York:20280825T130000
DTEND;TZID=America/New_York:20280825T150000
DTSTAMP:20260425T085629
CREATED:20260217T145947Z
LAST-MODIFIED:20260217T145947Z
UID:10002204-1850821200-1850828400@www.bradleybeachnj.gov
SUMMARY:Open Play Mahjong
DESCRIPTION:
URL:https://www.bradleybeachnj.gov/event/open-play-mahjong/2028-08-25/
LOCATION:Carmen Biase Center\, 719 Main St\, Bradley Beach\, NJ\, 07720\, United States
CATEGORIES:Recreation Calendar
END:VEVENT
BEGIN:VEVENT
DTSTART;TZID=America/New_York:20280901T130000
DTEND;TZID=America/New_York:20280901T150000
DTSTAMP:20260425T085630
CREATED:20260217T145947Z
LAST-MODIFIED:20260217T145947Z
UID:10002205-1851426000-1851433200@www.bradleybeachnj.gov
SUMMARY:Open Play Mahjong
DESCRIPTION:
URL:https://www.bradleybeachnj.gov/event/open-play-mahjong/2028-09-01/
LOCATION:Carmen Biase Center\, 719 Main St\, Bradley Beach\, NJ\, 07720\, United States
CATEGORIES:Recreation Calendar
END:VEVENT
BEGIN:VEVENT
DTSTART;TZID=America/New_York:20280908T130000
DTEND;TZID=America/New_York:20280908T150000
DTSTAMP:20260425T085630
CREATED:20260217T145947Z
LAST-MODIFIED:20260217T145947Z
UID:10002206-1852030800-1852038000@www.bradleybeachnj.gov
SUMMARY:Open Play Mahjong
DESCRIPTION:
URL:https://www.bradleybeachnj.gov/event/open-play-mahjong/2028-09-08/
LOCATION:Carmen Biase Center\, 719 Main St\, Bradley Beach\, NJ\, 07720\, United States
CATEGORIES:Recreation Calendar
END:VEVENT
BEGIN:VEVENT
DTSTART;TZID=America/New_York:20280915T130000
DTEND;TZID=America/New_York:20280915T150000
DTSTAMP:20260425T085630
CREATED:20260217T145947Z
LAST-MODIFIED:20260217T145947Z
UID:10002207-1852635600-1852642800@www.bradleybeachnj.gov
SUMMARY:Open Play Mahjong
DESCRIPTION:
URL:https://www.bradleybeachnj.gov/event/open-play-mahjong/2028-09-15/
LOCATION:Carmen Biase Center\, 719 Main St\, Bradley Beach\, NJ\, 07720\, United States
CATEGORIES:Recreation Calendar
END:VEVENT
BEGIN:VEVENT
DTSTART;TZID=America/New_York:20280922T130000
DTEND;TZID=America/New_York:20280922T150000
DTSTAMP:20260425T085630
CREATED:20260217T145947Z
LAST-MODIFIED:20260217T145947Z
UID:10002208-1853240400-1853247600@www.bradleybeachnj.gov
SUMMARY:Open Play Mahjong
DESCRIPTION:
URL:https://www.bradleybeachnj.gov/event/open-play-mahjong/2028-09-22/
LOCATION:Carmen Biase Center\, 719 Main St\, Bradley Beach\, NJ\, 07720\, United States
CATEGORIES:Recreation Calendar
END:VEVENT
BEGIN:VEVENT
DTSTART;TZID=America/New_York:20280929T130000
DTEND;TZID=America/New_York:20280929T150000
DTSTAMP:20260425T085630
CREATED:20260217T145947Z
LAST-MODIFIED:20260217T145947Z
UID:10002209-1853845200-1853852400@www.bradleybeachnj.gov
SUMMARY:Open Play Mahjong
DESCRIPTION:
URL:https://www.bradleybeachnj.gov/event/open-play-mahjong/2028-09-29/
LOCATION:Carmen Biase Center\, 719 Main St\, Bradley Beach\, NJ\, 07720\, United States
CATEGORIES:Recreation Calendar
END:VEVENT
BEGIN:VEVENT
DTSTART;TZID=America/New_York:20281006T130000
DTEND;TZID=America/New_York:20281006T150000
DTSTAMP:20260425T085630
CREATED:20260217T145947Z
LAST-MODIFIED:20260217T145947Z
UID:10002210-1854450000-1854457200@www.bradleybeachnj.gov
SUMMARY:Open Play Mahjong
DESCRIPTION:
URL:https://www.bradleybeachnj.gov/event/open-play-mahjong/2028-10-06/
LOCATION:Carmen Biase Center\, 719 Main St\, Bradley Beach\, NJ\, 07720\, United States
CATEGORIES:Recreation Calendar
END:VEVENT
BEGIN:VEVENT
DTSTART;TZID=America/New_York:20281013T130000
DTEND;TZID=America/New_York:20281013T150000
DTSTAMP:20260425T085630
CREATED:20260217T145947Z
LAST-MODIFIED:20260217T145947Z
UID:10002211-1855054800-1855062000@www.bradleybeachnj.gov
SUMMARY:Open Play Mahjong
DESCRIPTION:
URL:https://www.bradleybeachnj.gov/event/open-play-mahjong/2028-10-13/
LOCATION:Carmen Biase Center\, 719 Main St\, Bradley Beach\, NJ\, 07720\, United States
CATEGORIES:Recreation Calendar
END:VEVENT
BEGIN:VEVENT
DTSTART;TZID=America/New_York:20281020T130000
DTEND;TZID=America/New_York:20281020T150000
DTSTAMP:20260425T085630
CREATED:20260217T145947Z
LAST-MODIFIED:20260217T145947Z
UID:10002212-1855659600-1855666800@www.bradleybeachnj.gov
SUMMARY:Open Play Mahjong
DESCRIPTION:
URL:https://www.bradleybeachnj.gov/event/open-play-mahjong/2028-10-20/
LOCATION:Carmen Biase Center\, 719 Main St\, Bradley Beach\, NJ\, 07720\, United States
CATEGORIES:Recreation Calendar
END:VEVENT
BEGIN:VEVENT
DTSTART;TZID=America/New_York:20281027T130000
DTEND;TZID=America/New_York:20281027T150000
DTSTAMP:20260425T085630
CREATED:20260217T145947Z
LAST-MODIFIED:20260217T145947Z
UID:10002213-1856264400-1856271600@www.bradleybeachnj.gov
SUMMARY:Open Play Mahjong
DESCRIPTION:
URL:https://www.bradleybeachnj.gov/event/open-play-mahjong/2028-10-27/
LOCATION:Carmen Biase Center\, 719 Main St\, Bradley Beach\, NJ\, 07720\, United States
CATEGORIES:Recreation Calendar
END:VEVENT
BEGIN:VEVENT
DTSTART;TZID=America/New_York:20281103T130000
DTEND;TZID=America/New_York:20281103T150000
DTSTAMP:20260425T085630
CREATED:20260217T145947Z
LAST-MODIFIED:20260217T145947Z
UID:10002214-1856869200-1856876400@www.bradleybeachnj.gov
SUMMARY:Open Play Mahjong
DESCRIPTION:
URL:https://www.bradleybeachnj.gov/event/open-play-mahjong/2028-11-03/
LOCATION:Carmen Biase Center\, 719 Main St\, Bradley Beach\, NJ\, 07720\, United States
CATEGORIES:Recreation Calendar
END:VEVENT
BEGIN:VEVENT
DTSTART;TZID=America/New_York:20281110T130000
DTEND;TZID=America/New_York:20281110T150000
DTSTAMP:20260425T085630
CREATED:20260217T145947Z
LAST-MODIFIED:20260217T145947Z
UID:10002215-1857474000-1857481200@www.bradleybeachnj.gov
SUMMARY:Open Play Mahjong
DESCRIPTION:
URL:https://www.bradleybeachnj.gov/event/open-play-mahjong/2028-11-10/
LOCATION:Carmen Biase Center\, 719 Main St\, Bradley Beach\, NJ\, 07720\, United States
CATEGORIES:Recreation Calendar
END:VEVENT
BEGIN:VEVENT
DTSTART;TZID=America/New_York:20281117T130000
DTEND;TZID=America/New_York:20281117T150000
DTSTAMP:20260425T085630
CREATED:20260217T145947Z
LAST-MODIFIED:20260217T145947Z
UID:10002216-1858078800-1858086000@www.bradleybeachnj.gov
SUMMARY:Open Play Mahjong
DESCRIPTION:
URL:https://www.bradleybeachnj.gov/event/open-play-mahjong/2028-11-17/
LOCATION:Carmen Biase Center\, 719 Main St\, Bradley Beach\, NJ\, 07720\, United States
CATEGORIES:Recreation Calendar
END:VEVENT
BEGIN:VEVENT
DTSTART;TZID=America/New_York:20281124T130000
DTEND;TZID=America/New_York:20281124T150000
DTSTAMP:20260425T085630
CREATED:20260217T145947Z
LAST-MODIFIED:20260217T145947Z
UID:10002217-1858683600-1858690800@www.bradleybeachnj.gov
SUMMARY:Open Play Mahjong
DESCRIPTION:
URL:https://www.bradleybeachnj.gov/event/open-play-mahjong/2028-11-24/
LOCATION:Carmen Biase Center\, 719 Main St\, Bradley Beach\, NJ\, 07720\, United States
CATEGORIES:Recreation Calendar
END:VEVENT
BEGIN:VEVENT
DTSTART;TZID=America/New_York:20281201T130000
DTEND;TZID=America/New_York:20281201T150000
DTSTAMP:20260425T085630
CREATED:20260217T145947Z
LAST-MODIFIED:20260217T145947Z
UID:10002218-1859288400-1859295600@www.bradleybeachnj.gov
SUMMARY:Open Play Mahjong
DESCRIPTION:
URL:https://www.bradleybeachnj.gov/event/open-play-mahjong/2028-12-01/
LOCATION:Carmen Biase Center\, 719 Main St\, Bradley Beach\, NJ\, 07720\, United States
CATEGORIES:Recreation Calendar
END:VEVENT
BEGIN:VEVENT
DTSTART;TZID=America/New_York:20281208T130000
DTEND;TZID=America/New_York:20281208T150000
DTSTAMP:20260425T085630
CREATED:20260217T145947Z
LAST-MODIFIED:20260217T145947Z
UID:10002219-1859893200-1859900400@www.bradleybeachnj.gov
SUMMARY:Open Play Mahjong
DESCRIPTION:
URL:https://www.bradleybeachnj.gov/event/open-play-mahjong/2028-12-08/
LOCATION:Carmen Biase Center\, 719 Main St\, Bradley Beach\, NJ\, 07720\, United States
CATEGORIES:Recreation Calendar
END:VEVENT
BEGIN:VEVENT
DTSTART;TZID=America/New_York:20281215T130000
DTEND;TZID=America/New_York:20281215T150000
DTSTAMP:20260425T085630
CREATED:20260217T145947Z
LAST-MODIFIED:20260217T145947Z
UID:10002220-1860498000-1860505200@www.bradleybeachnj.gov
SUMMARY:Open Play Mahjong
DESCRIPTION:
URL:https://www.bradleybeachnj.gov/event/open-play-mahjong/2028-12-15/
LOCATION:Carmen Biase Center\, 719 Main St\, Bradley Beach\, NJ\, 07720\, United States
CATEGORIES:Recreation Calendar
END:VEVENT
BEGIN:VEVENT
DTSTART;TZID=America/New_York:20281222T130000
DTEND;TZID=America/New_York:20281222T150000
DTSTAMP:20260425T085630
CREATED:20260217T145947Z
LAST-MODIFIED:20260217T145947Z
UID:10002221-1861102800-1861110000@www.bradleybeachnj.gov
SUMMARY:Open Play Mahjong
DESCRIPTION:
URL:https://www.bradleybeachnj.gov/event/open-play-mahjong/2028-12-22/
LOCATION:Carmen Biase Center\, 719 Main St\, Bradley Beach\, NJ\, 07720\, United States
CATEGORIES:Recreation Calendar
END:VEVENT
BEGIN:VEVENT
DTSTART;TZID=America/New_York:20281229T130000
DTEND;TZID=America/New_York:20281229T150000
DTSTAMP:20260425T085630
CREATED:20260217T145947Z
LAST-MODIFIED:20260217T145947Z
UID:10002222-1861707600-1861714800@www.bradleybeachnj.gov
SUMMARY:Open Play Mahjong
DESCRIPTION:
URL:https://www.bradleybeachnj.gov/event/open-play-mahjong/2028-12-29/
LOCATION:Carmen Biase Center\, 719 Main St\, Bradley Beach\, NJ\, 07720\, United States
CATEGORIES:Recreation Calendar
END:VEVENT
BEGIN:VEVENT
DTSTART;TZID=America/New_York:20290105T130000
DTEND;TZID=America/New_York:20290105T150000
DTSTAMP:20260425T085630
CREATED:20260217T145947Z
LAST-MODIFIED:20260217T145947Z
UID:10002223-1862312400-1862319600@www.bradleybeachnj.gov
SUMMARY:Open Play Mahjong
DESCRIPTION:
URL:https://www.bradleybeachnj.gov/event/open-play-mahjong/2029-01-05/
LOCATION:Carmen Biase Center\, 719 Main St\, Bradley Beach\, NJ\, 07720\, United States
CATEGORIES:Recreation Calendar
END:VEVENT
BEGIN:VEVENT
DTSTART;TZID=America/New_York:20290112T130000
DTEND;TZID=America/New_York:20290112T150000
DTSTAMP:20260425T085630
CREATED:20260217T145947Z
LAST-MODIFIED:20260217T145947Z
UID:10002224-1862917200-1862924400@www.bradleybeachnj.gov
SUMMARY:Open Play Mahjong
DESCRIPTION:
URL:https://www.bradleybeachnj.gov/event/open-play-mahjong/2029-01-12/
LOCATION:Carmen Biase Center\, 719 Main St\, Bradley Beach\, NJ\, 07720\, United States
CATEGORIES:Recreation Calendar
END:VEVENT
BEGIN:VEVENT
DTSTART;TZID=America/New_York:20290119T130000
DTEND;TZID=America/New_York:20290119T150000
DTSTAMP:20260425T085630
CREATED:20260217T145947Z
LAST-MODIFIED:20260217T145947Z
UID:10002225-1863522000-1863529200@www.bradleybeachnj.gov
SUMMARY:Open Play Mahjong
DESCRIPTION:
URL:https://www.bradleybeachnj.gov/event/open-play-mahjong/2029-01-19/
LOCATION:Carmen Biase Center\, 719 Main St\, Bradley Beach\, NJ\, 07720\, United States
CATEGORIES:Recreation Calendar
END:VEVENT
BEGIN:VEVENT
DTSTART;TZID=America/New_York:20290126T130000
DTEND;TZID=America/New_York:20290126T150000
DTSTAMP:20260425T085630
CREATED:20260217T145947Z
LAST-MODIFIED:20260217T145947Z
UID:10002226-1864126800-1864134000@www.bradleybeachnj.gov
SUMMARY:Open Play Mahjong
DESCRIPTION:
URL:https://www.bradleybeachnj.gov/event/open-play-mahjong/2029-01-26/
LOCATION:Carmen Biase Center\, 719 Main St\, Bradley Beach\, NJ\, 07720\, United States
CATEGORIES:Recreation Calendar
END:VEVENT
BEGIN:VEVENT
DTSTART;TZID=America/New_York:20290202T130000
DTEND;TZID=America/New_York:20290202T150000
DTSTAMP:20260425T085630
CREATED:20260217T145947Z
LAST-MODIFIED:20260217T145947Z
UID:10002227-1864731600-1864738800@www.bradleybeachnj.gov
SUMMARY:Open Play Mahjong
DESCRIPTION:
URL:https://www.bradleybeachnj.gov/event/open-play-mahjong/2029-02-02/
LOCATION:Carmen Biase Center\, 719 Main St\, Bradley Beach\, NJ\, 07720\, United States
CATEGORIES:Recreation Calendar
END:VEVENT
BEGIN:VEVENT
DTSTART;TZID=America/New_York:20290209T130000
DTEND;TZID=America/New_York:20290209T150000
DTSTAMP:20260425T085630
CREATED:20260217T145947Z
LAST-MODIFIED:20260217T145947Z
UID:10002228-1865336400-1865343600@www.bradleybeachnj.gov
SUMMARY:Open Play Mahjong
DESCRIPTION:
URL:https://www.bradleybeachnj.gov/event/open-play-mahjong/2029-02-09/
LOCATION:Carmen Biase Center\, 719 Main St\, Bradley Beach\, NJ\, 07720\, United States
CATEGORIES:Recreation Calendar
END:VEVENT
BEGIN:VEVENT
DTSTART;TZID=America/New_York:20290216T130000
DTEND;TZID=America/New_York:20290216T150000
DTSTAMP:20260425T085630
CREATED:20260217T145947Z
LAST-MODIFIED:20260217T145947Z
UID:10002229-1865941200-1865948400@www.bradleybeachnj.gov
SUMMARY:Open Play Mahjong
DESCRIPTION:
URL:https://www.bradleybeachnj.gov/event/open-play-mahjong/2029-02-16/
LOCATION:Carmen Biase Center\, 719 Main St\, Bradley Beach\, NJ\, 07720\, United States
CATEGORIES:Recreation Calendar
END:VEVENT
BEGIN:VEVENT
DTSTART;TZID=America/New_York:20290223T130000
DTEND;TZID=America/New_York:20290223T150000
DTSTAMP:20260425T085630
CREATED:20260217T145947Z
LAST-MODIFIED:20260217T145947Z
UID:10002230-1866546000-1866553200@www.bradleybeachnj.gov
SUMMARY:Open Play Mahjong
DESCRIPTION:
URL:https://www.bradleybeachnj.gov/event/open-play-mahjong/2029-02-23/
LOCATION:Carmen Biase Center\, 719 Main St\, Bradley Beach\, NJ\, 07720\, United States
CATEGORIES:Recreation Calendar
END:VEVENT
BEGIN:VEVENT
DTSTART;TZID=America/New_York:20290302T130000
DTEND;TZID=America/New_York:20290302T150000
DTSTAMP:20260425T085630
CREATED:20260217T145947Z
LAST-MODIFIED:20260217T145947Z
UID:10002231-1867150800-1867158000@www.bradleybeachnj.gov
SUMMARY:Open Play Mahjong
DESCRIPTION:
URL:https://www.bradleybeachnj.gov/event/open-play-mahjong/2029-03-02/
LOCATION:Carmen Biase Center\, 719 Main St\, Bradley Beach\, NJ\, 07720\, United States
CATEGORIES:Recreation Calendar
END:VEVENT
BEGIN:VEVENT
DTSTART;TZID=America/New_York:20290309T130000
DTEND;TZID=America/New_York:20290309T150000
DTSTAMP:20260425T085630
CREATED:20260217T145947Z
LAST-MODIFIED:20260217T145947Z
UID:10002232-1867755600-1867762800@www.bradleybeachnj.gov
SUMMARY:Open Play Mahjong
DESCRIPTION:
URL:https://www.bradleybeachnj.gov/event/open-play-mahjong/2029-03-09/
LOCATION:Carmen Biase Center\, 719 Main St\, Bradley Beach\, NJ\, 07720\, United States
CATEGORIES:Recreation Calendar
END:VEVENT
BEGIN:VEVENT
DTSTART;TZID=America/New_York:20290316T130000
DTEND;TZID=America/New_York:20290316T150000
DTSTAMP:20260425T085630
CREATED:20260217T145947Z
LAST-MODIFIED:20260217T145947Z
UID:10002233-1868360400-1868367600@www.bradleybeachnj.gov
SUMMARY:Open Play Mahjong
DESCRIPTION:
URL:https://www.bradleybeachnj.gov/event/open-play-mahjong/2029-03-16/
LOCATION:Carmen Biase Center\, 719 Main St\, Bradley Beach\, NJ\, 07720\, United States
CATEGORIES:Recreation Calendar
END:VEVENT
END:VCALENDAR