BEGIN:VCALENDAR
VERSION:2.0
PRODID:-//Bradley Beach - ECPv6.15.18//NONSGML v1.0//EN
CALSCALE:GREGORIAN
METHOD:PUBLISH
X-ORIGINAL-URL:https://www.bradleybeachnj.gov
X-WR-CALDESC:Events for Bradley Beach
REFRESH-INTERVAL;VALUE=DURATION:PT1H
X-Robots-Tag:noindex
X-PUBLISHED-TTL:PT1H
BEGIN:VTIMEZONE
TZID:America/New_York
BEGIN:DAYLIGHT
TZOFFSETFROM:-0500
TZOFFSETTO:-0400
TZNAME:EDT
DTSTART:20290311T070000
END:DAYLIGHT
BEGIN:STANDARD
TZOFFSETFROM:-0400
TZOFFSETTO:-0500
TZNAME:EST
DTSTART:20291104T060000
END:STANDARD
BEGIN:DAYLIGHT
TZOFFSETFROM:-0500
TZOFFSETTO:-0400
TZNAME:EDT
DTSTART:20300310T070000
END:DAYLIGHT
BEGIN:STANDARD
TZOFFSETFROM:-0400
TZOFFSETTO:-0500
TZNAME:EST
DTSTART:20301103T060000
END:STANDARD
BEGIN:DAYLIGHT
TZOFFSETFROM:-0500
TZOFFSETTO:-0400
TZNAME:EDT
DTSTART:20310309T070000
END:DAYLIGHT
BEGIN:STANDARD
TZOFFSETFROM:-0400
TZOFFSETTO:-0500
TZNAME:EST
DTSTART:20311102T060000
END:STANDARD
BEGIN:DAYLIGHT
TZOFFSETFROM:-0500
TZOFFSETTO:-0400
TZNAME:EDT
DTSTART:20320314T070000
END:DAYLIGHT
BEGIN:STANDARD
TZOFFSETFROM:-0400
TZOFFSETTO:-0500
TZNAME:EST
DTSTART:20321107T060000
END:STANDARD
END:VTIMEZONE
BEGIN:VEVENT
DTSTART;TZID=America/New_York:20301025T130000
DTEND;TZID=America/New_York:20301025T150000
DTSTAMP:20260425T100932
CREATED:20260217T145947Z
LAST-MODIFIED:20260217T145947Z
UID:10002317-1919163600-1919170800@www.bradleybeachnj.gov
SUMMARY:Open Play Mahjong
DESCRIPTION:
URL:https://www.bradleybeachnj.gov/event/open-play-mahjong/2030-10-25/
LOCATION:Carmen Biase Center\, 719 Main St\, Bradley Beach\, NJ\, 07720\, United States
CATEGORIES:Recreation Calendar
END:VEVENT
BEGIN:VEVENT
DTSTART;TZID=America/New_York:20301101T130000
DTEND;TZID=America/New_York:20301101T150000
DTSTAMP:20260425T100932
CREATED:20260217T145947Z
LAST-MODIFIED:20260217T145947Z
UID:10002318-1919768400-1919775600@www.bradleybeachnj.gov
SUMMARY:Open Play Mahjong
DESCRIPTION:
URL:https://www.bradleybeachnj.gov/event/open-play-mahjong/2030-11-01/
LOCATION:Carmen Biase Center\, 719 Main St\, Bradley Beach\, NJ\, 07720\, United States
CATEGORIES:Recreation Calendar
END:VEVENT
BEGIN:VEVENT
DTSTART;TZID=America/New_York:20301108T130000
DTEND;TZID=America/New_York:20301108T150000
DTSTAMP:20260425T100932
CREATED:20260217T145947Z
LAST-MODIFIED:20260217T145947Z
UID:10002319-1920373200-1920380400@www.bradleybeachnj.gov
SUMMARY:Open Play Mahjong
DESCRIPTION:
URL:https://www.bradleybeachnj.gov/event/open-play-mahjong/2030-11-08/
LOCATION:Carmen Biase Center\, 719 Main St\, Bradley Beach\, NJ\, 07720\, United States
CATEGORIES:Recreation Calendar
END:VEVENT
BEGIN:VEVENT
DTSTART;TZID=America/New_York:20301115T130000
DTEND;TZID=America/New_York:20301115T150000
DTSTAMP:20260425T100932
CREATED:20260217T145947Z
LAST-MODIFIED:20260217T145947Z
UID:10002320-1920978000-1920985200@www.bradleybeachnj.gov
SUMMARY:Open Play Mahjong
DESCRIPTION:
URL:https://www.bradleybeachnj.gov/event/open-play-mahjong/2030-11-15/
LOCATION:Carmen Biase Center\, 719 Main St\, Bradley Beach\, NJ\, 07720\, United States
CATEGORIES:Recreation Calendar
END:VEVENT
BEGIN:VEVENT
DTSTART;TZID=America/New_York:20301122T130000
DTEND;TZID=America/New_York:20301122T150000
DTSTAMP:20260425T100932
CREATED:20260217T145947Z
LAST-MODIFIED:20260217T145947Z
UID:10002321-1921582800-1921590000@www.bradleybeachnj.gov
SUMMARY:Open Play Mahjong
DESCRIPTION:
URL:https://www.bradleybeachnj.gov/event/open-play-mahjong/2030-11-22/
LOCATION:Carmen Biase Center\, 719 Main St\, Bradley Beach\, NJ\, 07720\, United States
CATEGORIES:Recreation Calendar
END:VEVENT
BEGIN:VEVENT
DTSTART;TZID=America/New_York:20301129T130000
DTEND;TZID=America/New_York:20301129T150000
DTSTAMP:20260425T100932
CREATED:20260217T145947Z
LAST-MODIFIED:20260217T145947Z
UID:10002322-1922187600-1922194800@www.bradleybeachnj.gov
SUMMARY:Open Play Mahjong
DESCRIPTION:
URL:https://www.bradleybeachnj.gov/event/open-play-mahjong/2030-11-29/
LOCATION:Carmen Biase Center\, 719 Main St\, Bradley Beach\, NJ\, 07720\, United States
CATEGORIES:Recreation Calendar
END:VEVENT
BEGIN:VEVENT
DTSTART;TZID=America/New_York:20301206T130000
DTEND;TZID=America/New_York:20301206T150000
DTSTAMP:20260425T100932
CREATED:20260217T145947Z
LAST-MODIFIED:20260217T145947Z
UID:10002323-1922792400-1922799600@www.bradleybeachnj.gov
SUMMARY:Open Play Mahjong
DESCRIPTION:
URL:https://www.bradleybeachnj.gov/event/open-play-mahjong/2030-12-06/
LOCATION:Carmen Biase Center\, 719 Main St\, Bradley Beach\, NJ\, 07720\, United States
CATEGORIES:Recreation Calendar
END:VEVENT
BEGIN:VEVENT
DTSTART;TZID=America/New_York:20301213T130000
DTEND;TZID=America/New_York:20301213T150000
DTSTAMP:20260425T100932
CREATED:20260217T145947Z
LAST-MODIFIED:20260217T145947Z
UID:10002324-1923397200-1923404400@www.bradleybeachnj.gov
SUMMARY:Open Play Mahjong
DESCRIPTION:
URL:https://www.bradleybeachnj.gov/event/open-play-mahjong/2030-12-13/
LOCATION:Carmen Biase Center\, 719 Main St\, Bradley Beach\, NJ\, 07720\, United States
CATEGORIES:Recreation Calendar
END:VEVENT
BEGIN:VEVENT
DTSTART;TZID=America/New_York:20301220T130000
DTEND;TZID=America/New_York:20301220T150000
DTSTAMP:20260425T100932
CREATED:20260217T145947Z
LAST-MODIFIED:20260217T145947Z
UID:10002325-1924002000-1924009200@www.bradleybeachnj.gov
SUMMARY:Open Play Mahjong
DESCRIPTION:
URL:https://www.bradleybeachnj.gov/event/open-play-mahjong/2030-12-20/
LOCATION:Carmen Biase Center\, 719 Main St\, Bradley Beach\, NJ\, 07720\, United States
CATEGORIES:Recreation Calendar
END:VEVENT
BEGIN:VEVENT
DTSTART;TZID=America/New_York:20301227T130000
DTEND;TZID=America/New_York:20301227T150000
DTSTAMP:20260425T100932
CREATED:20260217T145947Z
LAST-MODIFIED:20260217T145947Z
UID:10002326-1924606800-1924614000@www.bradleybeachnj.gov
SUMMARY:Open Play Mahjong
DESCRIPTION:
URL:https://www.bradleybeachnj.gov/event/open-play-mahjong/2030-12-27/
LOCATION:Carmen Biase Center\, 719 Main St\, Bradley Beach\, NJ\, 07720\, United States
CATEGORIES:Recreation Calendar
END:VEVENT
BEGIN:VEVENT
DTSTART;TZID=America/New_York:20310103T130000
DTEND;TZID=America/New_York:20310103T150000
DTSTAMP:20260425T100932
CREATED:20260217T145947Z
LAST-MODIFIED:20260217T145947Z
UID:10002327-1925211600-1925218800@www.bradleybeachnj.gov
SUMMARY:Open Play Mahjong
DESCRIPTION:
URL:https://www.bradleybeachnj.gov/event/open-play-mahjong/2031-01-03/
LOCATION:Carmen Biase Center\, 719 Main St\, Bradley Beach\, NJ\, 07720\, United States
CATEGORIES:Recreation Calendar
END:VEVENT
BEGIN:VEVENT
DTSTART;TZID=America/New_York:20310110T130000
DTEND;TZID=America/New_York:20310110T150000
DTSTAMP:20260425T100932
CREATED:20260217T145947Z
LAST-MODIFIED:20260217T145947Z
UID:10002328-1925816400-1925823600@www.bradleybeachnj.gov
SUMMARY:Open Play Mahjong
DESCRIPTION:
URL:https://www.bradleybeachnj.gov/event/open-play-mahjong/2031-01-10/
LOCATION:Carmen Biase Center\, 719 Main St\, Bradley Beach\, NJ\, 07720\, United States
CATEGORIES:Recreation Calendar
END:VEVENT
BEGIN:VEVENT
DTSTART;TZID=America/New_York:20310117T130000
DTEND;TZID=America/New_York:20310117T150000
DTSTAMP:20260425T100932
CREATED:20260217T145947Z
LAST-MODIFIED:20260217T145947Z
UID:10002329-1926421200-1926428400@www.bradleybeachnj.gov
SUMMARY:Open Play Mahjong
DESCRIPTION:
URL:https://www.bradleybeachnj.gov/event/open-play-mahjong/2031-01-17/
LOCATION:Carmen Biase Center\, 719 Main St\, Bradley Beach\, NJ\, 07720\, United States
CATEGORIES:Recreation Calendar
END:VEVENT
BEGIN:VEVENT
DTSTART;TZID=America/New_York:20310124T130000
DTEND;TZID=America/New_York:20310124T150000
DTSTAMP:20260425T100932
CREATED:20260217T145947Z
LAST-MODIFIED:20260217T145947Z
UID:10002330-1927026000-1927033200@www.bradleybeachnj.gov
SUMMARY:Open Play Mahjong
DESCRIPTION:
URL:https://www.bradleybeachnj.gov/event/open-play-mahjong/2031-01-24/
LOCATION:Carmen Biase Center\, 719 Main St\, Bradley Beach\, NJ\, 07720\, United States
CATEGORIES:Recreation Calendar
END:VEVENT
BEGIN:VEVENT
DTSTART;TZID=America/New_York:20310131T130000
DTEND;TZID=America/New_York:20310131T150000
DTSTAMP:20260425T100932
CREATED:20260217T145947Z
LAST-MODIFIED:20260217T145947Z
UID:10002331-1927630800-1927638000@www.bradleybeachnj.gov
SUMMARY:Open Play Mahjong
DESCRIPTION:
URL:https://www.bradleybeachnj.gov/event/open-play-mahjong/2031-01-31/
LOCATION:Carmen Biase Center\, 719 Main St\, Bradley Beach\, NJ\, 07720\, United States
CATEGORIES:Recreation Calendar
END:VEVENT
BEGIN:VEVENT
DTSTART;TZID=America/New_York:20310207T130000
DTEND;TZID=America/New_York:20310207T150000
DTSTAMP:20260425T100932
CREATED:20260217T145947Z
LAST-MODIFIED:20260217T145947Z
UID:10002332-1928235600-1928242800@www.bradleybeachnj.gov
SUMMARY:Open Play Mahjong
DESCRIPTION:
URL:https://www.bradleybeachnj.gov/event/open-play-mahjong/2031-02-07/
LOCATION:Carmen Biase Center\, 719 Main St\, Bradley Beach\, NJ\, 07720\, United States
CATEGORIES:Recreation Calendar
END:VEVENT
BEGIN:VEVENT
DTSTART;TZID=America/New_York:20310214T130000
DTEND;TZID=America/New_York:20310214T150000
DTSTAMP:20260425T100932
CREATED:20260217T145947Z
LAST-MODIFIED:20260217T145947Z
UID:10002333-1928840400-1928847600@www.bradleybeachnj.gov
SUMMARY:Open Play Mahjong
DESCRIPTION:
URL:https://www.bradleybeachnj.gov/event/open-play-mahjong/2031-02-14/
LOCATION:Carmen Biase Center\, 719 Main St\, Bradley Beach\, NJ\, 07720\, United States
CATEGORIES:Recreation Calendar
END:VEVENT
END:VCALENDAR