BEGIN:VCALENDAR
VERSION:2.0
PRODID:-//Bradley Beach - ECPv6.15.18//NONSGML v1.0//EN
CALSCALE:GREGORIAN
METHOD:PUBLISH
X-ORIGINAL-URL:https://www.bradleybeachnj.gov
X-WR-CALDESC:Events for Bradley Beach
REFRESH-INTERVAL;VALUE=DURATION:PT1H
X-Robots-Tag:noindex
X-PUBLISHED-TTL:PT1H
BEGIN:VTIMEZONE
TZID:America/New_York
BEGIN:DAYLIGHT
TZOFFSETFROM:-0500
TZOFFSETTO:-0400
TZNAME:EDT
DTSTART:20240310T070000
END:DAYLIGHT
BEGIN:STANDARD
TZOFFSETFROM:-0400
TZOFFSETTO:-0500
TZNAME:EST
DTSTART:20241103T060000
END:STANDARD
BEGIN:DAYLIGHT
TZOFFSETFROM:-0500
TZOFFSETTO:-0400
TZNAME:EDT
DTSTART:20250309T070000
END:DAYLIGHT
BEGIN:STANDARD
TZOFFSETFROM:-0400
TZOFFSETTO:-0500
TZNAME:EST
DTSTART:20251102T060000
END:STANDARD
BEGIN:DAYLIGHT
TZOFFSETFROM:-0500
TZOFFSETTO:-0400
TZNAME:EDT
DTSTART:20260308T070000
END:DAYLIGHT
BEGIN:STANDARD
TZOFFSETFROM:-0400
TZOFFSETTO:-0500
TZNAME:EST
DTSTART:20261101T060000
END:STANDARD
END:VTIMEZONE
BEGIN:VEVENT
DTSTART;TZID=America/New_York:20250501T080000
DTEND;TZID=America/New_York:20250501T170000
DTSTAMP:20260423T155100
CREATED:20250410T131115Z
LAST-MODIFIED:20250410T131115Z
UID:10001862-1746086400-1746118800@www.bradleybeachnj.gov
SUMMARY:Boost Bradley Beach- All Month- Bradley Beach Business Community Alliance
DESCRIPTION:Click here for more information!
URL:https://www.bradleybeachnj.gov/event/boost-bradley-beach-all-month-bradley-beach-business-community-alliance/
CATEGORIES:Community Events Calendar
ATTACH;FMTTYPE=image/png:https://www.bradleybeachnj.gov/wp-content/uploads/2025/04/April-Animated.png
END:VEVENT
BEGIN:VEVENT
DTSTART;TZID=America/New_York:20250504T120000
DTEND;TZID=America/New_York:20250504T160000
DTSTAMP:20260423T155100
CREATED:20250410T131658Z
LAST-MODIFIED:20250410T131658Z
UID:10001865-1746360000-1746374400@www.bradleybeachnj.gov
SUMMARY:5th Annual Green Fair
DESCRIPTION:The Bradley Beach Green Fair is a free family-friendly event that promotes a healthy and sustainable lifestyle. The Green Fair will introduce sustainability to all members of the community\, help educate them about the difference that conscious efforts in conservation and recycling can make and provide them with tools that they can take home and use.\n\nThis free event for the whole family will provide information and activities to help residents learn about the small steps they can take at home\, work and in the community to improve our environment and make Bradley Beach a greener and healthier place to live.\n\nInterested vendors can email: tourism@bradleybeachnj.gov
URL:https://www.bradleybeachnj.gov/event/5th-annual-green-fair/
LOCATION:Riley Park
CATEGORIES:Borough Calendar,Community Events Calendar
ATTACH;FMTTYPE=image/jpeg:https://www.bradleybeachnj.gov/wp-content/uploads/2025/02/475307961_1036027781902392_8357339044880181851_n.jpg
END:VEVENT
BEGIN:VEVENT
DTSTART;TZID=America/New_York:20250513T180000
DTEND;TZID=America/New_York:20250513T200000
DTSTAMP:20260423T155100
CREATED:20250424T132037Z
LAST-MODIFIED:20250424T133403Z
UID:10001867-1747159200-1747166400@www.bradleybeachnj.gov
SUMMARY:One Beach One Read
DESCRIPTION:Click for more information.
URL:https://www.bradleybeachnj.gov/event/one-beach-one-read-3/
CATEGORIES:Community Events Calendar
ATTACH;FMTTYPE=image/png:https://www.bradleybeachnj.gov/wp-content/uploads/2025/04/Screenshot-2025-04-24-at-8.56.34 AM-1.png
END:VEVENT
BEGIN:VEVENT
DTSTART;TZID=America/New_York:20250517T083000
DTEND;TZID=America/New_York:20250517T100000
DTSTAMP:20260423T155100
CREATED:20250410T125310Z
LAST-MODIFIED:20250410T125310Z
UID:10001858-1747470600-1747476000@www.bradleybeachnj.gov
SUMMARY:Tour de Bradley Bike Cruise- Bradley Beach Business Community Alliance
DESCRIPTION:Tour de Bradley Bike Cruise\nClick here for more information! 
URL:https://www.bradleybeachnj.gov/event/tour-de-bradley-bike-cruise-bradley-beach-business-community-alliance/
CATEGORIES:Community Events Calendar
ATTACH;FMTTYPE=image/png:https://www.bradleybeachnj.gov/wp-content/uploads/2025/04/Tourdebradley-2025-3-1.png
END:VEVENT
END:VCALENDAR