BEGIN:VCALENDAR
VERSION:2.0
PRODID:-//Bradley Beach - ECPv6.15.18//NONSGML v1.0//EN
CALSCALE:GREGORIAN
METHOD:PUBLISH
X-WR-CALNAME:Bradley Beach
X-ORIGINAL-URL:https://www.bradleybeachnj.gov
X-WR-CALDESC:Events for Bradley Beach
REFRESH-INTERVAL;VALUE=DURATION:PT1H
X-Robots-Tag:noindex
X-PUBLISHED-TTL:PT1H
BEGIN:VTIMEZONE
TZID:America/New_York
BEGIN:DAYLIGHT
TZOFFSETFROM:-0500
TZOFFSETTO:-0400
TZNAME:EDT
DTSTART:20230312T070000
END:DAYLIGHT
BEGIN:STANDARD
TZOFFSETFROM:-0400
TZOFFSETTO:-0500
TZNAME:EST
DTSTART:20231105T060000
END:STANDARD
BEGIN:DAYLIGHT
TZOFFSETFROM:-0500
TZOFFSETTO:-0400
TZNAME:EDT
DTSTART:20240310T070000
END:DAYLIGHT
BEGIN:STANDARD
TZOFFSETFROM:-0400
TZOFFSETTO:-0500
TZNAME:EST
DTSTART:20241103T060000
END:STANDARD
BEGIN:DAYLIGHT
TZOFFSETFROM:-0500
TZOFFSETTO:-0400
TZNAME:EDT
DTSTART:20250309T070000
END:DAYLIGHT
BEGIN:STANDARD
TZOFFSETFROM:-0400
TZOFFSETTO:-0500
TZNAME:EST
DTSTART:20251102T060000
END:STANDARD
END:VTIMEZONE
BEGIN:VEVENT
DTSTART;TZID=America/New_York:20240401T080000
DTEND;TZID=America/New_York:20240430T170000
DTSTAMP:20260424T145033
CREATED:20240408T154941Z
LAST-MODIFIED:20240408T154941Z
UID:10001664-1711958400-1714496400@www.bradleybeachnj.gov
SUMMARY:For the month of April participate in Bradley Boost Spring Awakening
DESCRIPTION:Spring Awakening –  Boost Bradley Beach! Capture the Spring beauty of our town. Share photos on the new BBBCA Facebook Page. Enjoy specials and offerings at our local shops and restaurants.
URL:https://www.bradleybeachnj.gov/event/for-the-month-of-april-participate-in-bradley-boost-spring-awakening/
CATEGORIES:Community Events Calendar
ATTACH;FMTTYPE=image/png:https://www.bradleybeachnj.gov/wp-content/uploads/2024/04/Boost-Bradley-Beach-April.png
END:VEVENT
BEGIN:VEVENT
DTSTART;TZID=America/New_York:20240428T140000
DTEND;TZID=America/New_York:20240428T160000
DTSTAMP:20260424T145033
CREATED:20240408T153936Z
LAST-MODIFIED:20240408T153936Z
UID:10001661-1714312800-1714320000@www.bradleybeachnj.gov
SUMMARY:The Friends of the Bradley Beach Library: Afternoon Tea
DESCRIPTION:The Friends of the Bradley Beach Library will host an afternoon tea on Sunday\, April 28th from 2-4 pm at O’Hara Hall (Parish of St. Teresa of Calcutta) 501 Brinley Ave\, Bradley Beach.  $25 charge covers pots of tea\, tea sandwiches\, scones\, cookies and pastries.  There will be a “Best Hat Contests” and fascinators may be purchased at the event.  Tickets must be purchased at the library in advance by April 23 by cash or check made payable to “Friends of the Bradley Beach Library”.  Tickets will NOT be available to purchase the day of the event.
URL:https://www.bradleybeachnj.gov/event/the-friends-of-the-bradley-beach-library-afternoon-tea/
CATEGORIES:Community Events Calendar
ATTACH;FMTTYPE=image/png:https://www.bradleybeachnj.gov/wp-content/uploads/2024/04/15.png
END:VEVENT
END:VCALENDAR