BEGIN:VCALENDAR
VERSION:2.0
PRODID:-//Bradley Beach - ECPv6.15.18//NONSGML v1.0//EN
CALSCALE:GREGORIAN
METHOD:PUBLISH
X-ORIGINAL-URL:https://www.bradleybeachnj.gov
X-WR-CALDESC:Events for Bradley Beach
REFRESH-INTERVAL;VALUE=DURATION:PT1H
X-Robots-Tag:noindex
X-PUBLISHED-TTL:PT1H
BEGIN:VTIMEZONE
TZID:America/New_York
BEGIN:DAYLIGHT
TZOFFSETFROM:-0500
TZOFFSETTO:-0400
TZNAME:EDT
DTSTART:20230312T070000
END:DAYLIGHT
BEGIN:STANDARD
TZOFFSETFROM:-0400
TZOFFSETTO:-0500
TZNAME:EST
DTSTART:20231105T060000
END:STANDARD
BEGIN:DAYLIGHT
TZOFFSETFROM:-0500
TZOFFSETTO:-0400
TZNAME:EDT
DTSTART:20240310T070000
END:DAYLIGHT
BEGIN:STANDARD
TZOFFSETFROM:-0400
TZOFFSETTO:-0500
TZNAME:EST
DTSTART:20241103T060000
END:STANDARD
BEGIN:DAYLIGHT
TZOFFSETFROM:-0500
TZOFFSETTO:-0400
TZNAME:EDT
DTSTART:20250309T070000
END:DAYLIGHT
BEGIN:STANDARD
TZOFFSETFROM:-0400
TZOFFSETTO:-0500
TZNAME:EST
DTSTART:20251102T060000
END:STANDARD
END:VTIMEZONE
BEGIN:VEVENT
DTSTART;TZID=America/New_York:20241027T110000
DTEND;TZID=America/New_York:20241027T160000
DTSTAMP:20260424T030534
CREATED:20240926T170323Z
LAST-MODIFIED:20240926T170323Z
UID:10001518-1730026800-1730044800@www.bradleybeachnj.gov
SUMMARY:Bradley Boo!
DESCRIPTION:
URL:https://www.bradleybeachnj.gov/event/bradley-boo/
CATEGORIES:Community Events Calendar
END:VEVENT
BEGIN:VEVENT
DTSTART;TZID=America/New_York:20241027T130000
DTEND;TZID=America/New_York:20241027T150000
DTSTAMP:20260424T030534
CREATED:20241001T130257Z
LAST-MODIFIED:20241001T130410Z
UID:10001530-1730034000-1730041200@www.bradleybeachnj.gov
SUMMARY:Trunk-Or-Treat
DESCRIPTION:Trunk-Or-Treat will be in the Municipal Parking lot from 1 to 3 pm.  \nIf you’d like to participate as a Trunk giving out goodies click the link to sign up!  \nhttps://register.capturepoint.com/reg/cat_program_list_detail.cfm?season_id=32296&program_id=2364744 \n 
URL:https://www.bradleybeachnj.gov/event/trunk-or-treat/
CATEGORIES:Community Events Calendar
END:VEVENT
BEGIN:VEVENT
DTSTART;TZID=America/New_York:20241027T170000
DTEND;TZID=America/New_York:20241027T180000
DTSTAMP:20260424T030534
CREATED:20241001T130012Z
LAST-MODIFIED:20241001T130012Z
UID:10001528-1730048400-1730052000@www.bradleybeachnj.gov
SUMMARY:Halloween Parade
DESCRIPTION:Sign ups are at the firehouse and start at 4pm. The Parade will start at 5pm. 
URL:https://www.bradleybeachnj.gov/event/halloween-parade/
CATEGORIES:Community Events Calendar
END:VEVENT
END:VCALENDAR