BEGIN:VCALENDAR
VERSION:2.0
PRODID:-//Bradley Beach - ECPv6.15.18//NONSGML v1.0//EN
CALSCALE:GREGORIAN
METHOD:PUBLISH
X-WR-CALNAME:Bradley Beach
X-ORIGINAL-URL:https://www.bradleybeachnj.gov
X-WR-CALDESC:Events for Bradley Beach
REFRESH-INTERVAL;VALUE=DURATION:PT1H
X-Robots-Tag:noindex
X-PUBLISHED-TTL:PT1H
BEGIN:VTIMEZONE
TZID:America/New_York
BEGIN:DAYLIGHT
TZOFFSETFROM:-0500
TZOFFSETTO:-0400
TZNAME:EDT
DTSTART:20230312T070000
END:DAYLIGHT
BEGIN:STANDARD
TZOFFSETFROM:-0400
TZOFFSETTO:-0500
TZNAME:EST
DTSTART:20231105T060000
END:STANDARD
BEGIN:DAYLIGHT
TZOFFSETFROM:-0500
TZOFFSETTO:-0400
TZNAME:EDT
DTSTART:20240310T070000
END:DAYLIGHT
BEGIN:STANDARD
TZOFFSETFROM:-0400
TZOFFSETTO:-0500
TZNAME:EST
DTSTART:20241103T060000
END:STANDARD
BEGIN:DAYLIGHT
TZOFFSETFROM:-0500
TZOFFSETTO:-0400
TZNAME:EDT
DTSTART:20250309T070000
END:DAYLIGHT
BEGIN:STANDARD
TZOFFSETFROM:-0400
TZOFFSETTO:-0500
TZNAME:EST
DTSTART:20251102T060000
END:STANDARD
END:VTIMEZONE
BEGIN:VEVENT
DTSTART;TZID=America/New_York:20240518T090000
DTEND;TZID=America/New_York:20240519T150000
DTSTAMP:20260425T084127
CREATED:20240307T203344Z
LAST-MODIFIED:20240307T203344Z
UID:10001439-1716022800-1716130800@www.bradleybeachnj.gov
SUMMARY:TOWN WIDE YARD SALE - THE LADIES AUXILIARY OF THE BRADLEY BEACH FIRE DEPARTMENT\, INC.
DESCRIPTION:  \n \nAPPLICATIONS WILL BE AVAILABLE AT THE END OF APRIL
URL:https://www.bradleybeachnj.gov/event/town-wide-yard-sale-the-ladies-auxiliary-of-the-bradley-beach-fire-department-inc/
LOCATION:New Jersey
CATEGORIES:Community Events Calendar
END:VEVENT
BEGIN:VEVENT
DTSTART;TZID=America/New_York:20240521T180000
DTEND;TZID=America/New_York:20240521T200000
DTSTAMP:20260425T084127
CREATED:20240408T154233Z
LAST-MODIFIED:20240408T154233Z
UID:10001663-1716314400-1716321600@www.bradleybeachnj.gov
SUMMARY:One Beach One Read
DESCRIPTION:Tuesday\, May 21\, 6-8pm \nLocation: Bradley Beach Firehouse\nThe book this year is The Magic Strings of Frankie Presto by Mitch Albom.\nAll of Bradley Beach is invited to read this one book together as a community and come together to discuss it.\n6:00-6:45p: Potluck. Please bring a favorite dish to share as we discuss this year’s book.\n6:45-8:00p: Book discussion.\nRegistration preferred at https://engagedpatrons.org/EventsExtended.cfm?SiteID=8938&EventID=517057&PK=
URL:https://www.bradleybeachnj.gov/event/one-beach-one-read/
LOCATION:New Jersey
CATEGORIES:Community Events Calendar
ATTACH;FMTTYPE=image/jpeg:https://www.bradleybeachnj.gov/wp-content/uploads/2024/04/OBOR-fb-cover.jpg
END:VEVENT
BEGIN:VEVENT
DTSTART;TZID=America/New_York:20240521T180000
DTEND;TZID=America/New_York:20240521T200000
DTSTAMP:20260425T084127
CREATED:20240408T155305Z
LAST-MODIFIED:20240408T155305Z
UID:10001667-1716314400-1716321600@www.bradleybeachnj.gov
SUMMARY:One Beach One Read
DESCRIPTION:ONE BEACH ONE READ co-sponsored with the BB Library – May 21 Visit the Library Website for Details.
URL:https://www.bradleybeachnj.gov/event/one-beach-one-read-2/
LOCATION:New Jersey
CATEGORIES:Community Events Calendar
ATTACH;FMTTYPE=image/jpeg:https://www.bradleybeachnj.gov/wp-content/uploads/2024/04/OBOR-fb-cover.jpg
END:VEVENT
BEGIN:VEVENT
DTSTART;TZID=America/New_York:20240525T090000
DTEND;TZID=America/New_York:20240525T190000
DTSTAMP:20260425T084127
CREATED:20240209T162436Z
LAST-MODIFIED:20240209T162654Z
UID:10001636-1716627600-1716663600@www.bradleybeachnj.gov
SUMMARY:MEMORIAL DAY WEEKEND FESTIVAL*RAIN OR SHINE*
DESCRIPTION:*RAIN OR SHINE* \nBEACH FRONT PROMENADE
URL:https://www.bradleybeachnj.gov/event/memorial-day-weekend-festivalrain-or-shine/
LOCATION:New Jersey
CATEGORIES:Borough Calendar,Community Events Calendar
END:VEVENT
BEGIN:VEVENT
DTSTART;TZID=America/New_York:20240525T100000
DTEND;TZID=America/New_York:20240525T120000
DTSTAMP:20260425T084127
CREATED:20240209T161935Z
LAST-MODIFIED:20240209T162012Z
UID:10001634-1716631200-1716638400@www.bradleybeachnj.gov
SUMMARY:MEMORIAL DAY PARADE
DESCRIPTION:Ocean Avenue 10 a.m.
URL:https://www.bradleybeachnj.gov/event/memorial-day-parade/
LOCATION:New Jersey
CATEGORIES:Borough Calendar,Community Events Calendar
END:VEVENT
BEGIN:VEVENT
DTSTART;TZID=America/New_York:20240526T090000
DTEND;TZID=America/New_York:20240526T190000
DTSTAMP:20260425T084127
CREATED:20240209T162907Z
LAST-MODIFIED:20240209T162907Z
UID:10001641-1716714000-1716750000@www.bradleybeachnj.gov
SUMMARY:MEMORIAL DAY WEEKEND FESTIVAL
DESCRIPTION:*RAIN OR SHINE* \nBEACH FRONT PROMENADE
URL:https://www.bradleybeachnj.gov/event/memorial-day-weekend-festival/
LOCATION:New Jersey
CATEGORIES:Borough Calendar,Community Events Calendar
END:VEVENT
BEGIN:VEVENT
DTSTART;TZID=America/New_York:20240527T110000
DTEND;TZID=America/New_York:20240527T123000
DTSTAMP:20260425T084127
CREATED:20240209T163039Z
LAST-MODIFIED:20240209T163039Z
UID:10001642-1716807600-1716813000@www.bradleybeachnj.gov
SUMMARY:MEMORIAL DAY CEREMONY
DESCRIPTION:Riley Park \n 
URL:https://www.bradleybeachnj.gov/event/memorial-day-ceremony-2/
LOCATION:New Jersey
CATEGORIES:Borough Calendar,Community Events Calendar
END:VEVENT
BEGIN:VEVENT
DTSTART;TZID=America/New_York:20240601T080000
DTEND;TZID=America/New_York:20240608T170000
DTSTAMP:20260425T084127
CREATED:20240408T155351Z
LAST-MODIFIED:20240517T122533Z
UID:10001668-1717228800-1717866000@www.bradleybeachnj.gov
SUMMARY:Alliance Week
DESCRIPTION:Alliance Week – June 1-8 Visit the BBBCA Website for details of all events!
URL:https://www.bradleybeachnj.gov/event/alliance-week/
LOCATION:New Jersey
CATEGORIES:Community Events Calendar
ATTACH;FMTTYPE=image/png:https://www.bradleybeachnj.gov/wp-content/uploads/2024/04/Alliance-Week-June-1-8-REVISED-for-websitenewsletter.png
END:VEVENT
BEGIN:VEVENT
DTSTART;TZID=America/New_York:20240626T200000
DTEND;TZID=America/New_York:20240626T220000
DTSTAMP:20260425T084127
CREATED:20240415T171836Z
LAST-MODIFIED:20240626T180120Z
UID:10001475-1719432000-1719439200@www.bradleybeachnj.gov
SUMMARY:Postponed to July 1\, 2024: Movie in the Park
DESCRIPTION:
URL:https://www.bradleybeachnj.gov/event/movie-in-the-park/
LOCATION:Riley Park
CATEGORIES:Community Events Calendar
END:VEVENT
BEGIN:VEVENT
DTSTART;VALUE=DATE:20240705
DTEND;VALUE=DATE:20240706
DTSTAMP:20260425T084127
CREATED:20240209T163226Z
LAST-MODIFIED:20240209T163745Z
UID:10001643-1720137600-1720223999@www.bradleybeachnj.gov
SUMMARY:FIREWORKS - INDEPENDENCE DAY
DESCRIPTION:Beachfront at Dusk
URL:https://www.bradleybeachnj.gov/event/independence-day-fireworks/
LOCATION:New Jersey
CATEGORIES:Borough Calendar,Community Events Calendar
END:VEVENT
BEGIN:VEVENT
DTSTART;TZID=America/New_York:20240706T080000
DTEND;TZID=America/New_York:20240706T120000
DTSTAMP:20260425T084127
CREATED:20240201T145603Z
LAST-MODIFIED:20240614T145828Z
UID:10001601-1720252800-1720267200@www.bradleybeachnj.gov
SUMMARY:CANCELLED - JACK WRIGHT MEMORIAL OCEAN MILE SWIM
DESCRIPTION:
URL:https://www.bradleybeachnj.gov/event/2024-jack-wright-memorial-ocean-mile-swim/
LOCATION:New Jersey
CATEGORIES:Community Events Calendar
END:VEVENT
BEGIN:VEVENT
DTSTART;TZID=America/New_York:20240706T170000
DTEND;TZID=America/New_York:20240706T190000
DTSTAMP:20260425T084127
CREATED:20240415T170855Z
LAST-MODIFIED:20240415T171017Z
UID:10001672-1720285200-1720292400@www.bradleybeachnj.gov
SUMMARY:Saturday in the Park Concert Series - Kenny K & The Way
DESCRIPTION:
URL:https://www.bradleybeachnj.gov/event/saturday-in-the-park-concert-series-kenny-k-the-way/
LOCATION:Riley Park
CATEGORIES:Community Events Calendar
END:VEVENT
BEGIN:VEVENT
DTSTART;VALUE=DATE:20240707
DTEND;VALUE=DATE:20240708
DTSTAMP:20260425T084127
CREATED:20240209T163318Z
LAST-MODIFIED:20240209T164021Z
UID:10001644-1720310400-1720396799@www.bradleybeachnj.gov
SUMMARY:RAIN DATE - FIREWORKS  INDEPENDENCE DAY
DESCRIPTION:Beachfront at Dusk
URL:https://www.bradleybeachnj.gov/event/independence-day-fireworks-rain-date/
LOCATION:New Jersey
CATEGORIES:Borough Calendar,Community Events Calendar
END:VEVENT
BEGIN:VEVENT
DTSTART;TZID=America/New_York:20240709T180000
DTEND;TZID=America/New_York:20240709T200000
DTSTAMP:20260425T084127
CREATED:20240708T170240Z
LAST-MODIFIED:20240708T170240Z
UID:10001697-1720548000-1720555200@www.bradleybeachnj.gov
SUMMARY:Salsa Lessons
DESCRIPTION:
URL:https://www.bradleybeachnj.gov/event/salsa-lessons/
LOCATION:5th Ave Gazebo\, 5th ave\, Bradley Beach\, New Jersey\, 07720
CATEGORIES:Community Events Calendar
END:VEVENT
BEGIN:VEVENT
DTSTART;TZID=America/New_York:20240713T170000
DTEND;TZID=America/New_York:20240713T190000
DTSTAMP:20260425T084127
CREATED:20240415T170948Z
LAST-MODIFIED:20240415T171042Z
UID:10001673-1720890000-1720897200@www.bradleybeachnj.gov
SUMMARY:Saturday in the Park Concert Series- Pat Roddy Band
DESCRIPTION:
URL:https://www.bradleybeachnj.gov/event/saturday-in-the-park-concert-series-pat-roddy-band/
LOCATION:Riley Park
CATEGORIES:Community Events Calendar
END:VEVENT
BEGIN:VEVENT
DTSTART;TZID=America/New_York:20240716T180000
DTEND;TZID=America/New_York:20240716T200000
DTSTAMP:20260425T084127
CREATED:20240708T170500Z
LAST-MODIFIED:20240708T170500Z
UID:10001699-1721152800-1721160000@www.bradleybeachnj.gov
SUMMARY:Line Dancing
DESCRIPTION:
URL:https://www.bradleybeachnj.gov/event/line-dancing/
LOCATION:5th Ave Gazebo\, 5th ave\, Bradley Beach\, New Jersey\, 07720
CATEGORIES:Community Events Calendar
END:VEVENT
BEGIN:VEVENT
DTSTART;TZID=America/New_York:20240717T200000
DTEND;TZID=America/New_York:20240717T220000
DTSTAMP:20260425T084127
CREATED:20240415T171927Z
LAST-MODIFIED:20240712T192503Z
UID:10001477-1721246400-1721253600@www.bradleybeachnj.gov
SUMMARY:Movie in the Park -"My Big Fat Greek Wedding"
DESCRIPTION:
URL:https://www.bradleybeachnj.gov/event/movie-in-the-park-2/
LOCATION:Riley Park
CATEGORIES:Community Events Calendar
END:VEVENT
BEGIN:VEVENT
DTSTART;TZID=America/New_York:20240718T190000
DTEND;TZID=America/New_York:20240718T210000
DTSTAMP:20260425T084127
CREATED:20240708T170854Z
LAST-MODIFIED:20240708T170854Z
UID:10001702-1721329200-1721336400@www.bradleybeachnj.gov
SUMMARY:Songwriters on the Beach (Newark Ave Beach)
DESCRIPTION:
URL:https://www.bradleybeachnj.gov/event/songwriters-on-the-beach-newark-ave-beach/
LOCATION:New Jersey
CATEGORIES:Community Events Calendar
END:VEVENT
BEGIN:VEVENT
DTSTART;TZID=America/New_York:20240719T180000
DTEND;TZID=America/New_York:20240719T200000
DTSTAMP:20260425T084127
CREATED:20240708T170737Z
LAST-MODIFIED:20240708T170737Z
UID:10001701-1721412000-1721419200@www.bradleybeachnj.gov
SUMMARY:DJ Jay
DESCRIPTION:
URL:https://www.bradleybeachnj.gov/event/dj-jay-9/
LOCATION:5th Ave Gazebo\, 5th ave\, Bradley Beach\, New Jersey\, 07720
CATEGORIES:Community Events Calendar
END:VEVENT
BEGIN:VEVENT
DTSTART;TZID=America/New_York:20240720T170000
DTEND;TZID=America/New_York:20240720T190000
DTSTAMP:20260425T084127
CREATED:20240415T171130Z
LAST-MODIFIED:20240415T171130Z
UID:10001674-1721494800-1721502000@www.bradleybeachnj.gov
SUMMARY:Saturday in the Park Concert Series- Little x Little
DESCRIPTION:
URL:https://www.bradleybeachnj.gov/event/saturday-in-the-park-concert-series-little-x-little/
LOCATION:Riley Park
CATEGORIES:Community Events Calendar
END:VEVENT
BEGIN:VEVENT
DTSTART;TZID=America/New_York:20240727T170000
DTEND;TZID=America/New_York:20240727T190000
DTSTAMP:20260425T084127
CREATED:20240415T171221Z
LAST-MODIFIED:20240415T171221Z
UID:10001675-1722099600-1722106800@www.bradleybeachnj.gov
SUMMARY:Saturday in the Park Concert Series- The Moroccan Sheepherders
DESCRIPTION:
URL:https://www.bradleybeachnj.gov/event/saturday-in-the-park-concert-series-the-moroccan-sheepherders/
LOCATION:Riley Park
CATEGORIES:Community Events Calendar
END:VEVENT
BEGIN:VEVENT
DTSTART;TZID=America/New_York:20240803T170000
DTEND;TZID=America/New_York:20240803T190000
DTSTAMP:20260425T084127
CREATED:20240415T171300Z
LAST-MODIFIED:20240415T171300Z
UID:10001676-1722704400-1722711600@www.bradleybeachnj.gov
SUMMARY:Saturday in the Park Concert Series- 5 Wheel Drive
DESCRIPTION:
URL:https://www.bradleybeachnj.gov/event/saturday-in-the-park-concert-series-5-wheel-drive/
LOCATION:Riley Park
CATEGORIES:Community Events Calendar
END:VEVENT
BEGIN:VEVENT
DTSTART;TZID=America/New_York:20240807T190000
DTEND;TZID=America/New_York:20240807T210000
DTSTAMP:20260425T084127
CREATED:20240806T181310Z
LAST-MODIFIED:20240807T141834Z
UID:10001705-1723057200-1723064400@www.bradleybeachnj.gov
SUMMARY:Jimmy Buffet Review Concert RESCHEDULED to 8/16/24
DESCRIPTION:
URL:https://www.bradleybeachnj.gov/event/jimmy-buffet-review-concert/
LOCATION:Riley Park
CATEGORIES:Community Events Calendar
END:VEVENT
BEGIN:VEVENT
DTSTART;TZID=America/New_York:20240810T080000
DTEND;TZID=America/New_York:20240810T120000
DTSTAMP:20260425T084127
CREATED:20240429T185321Z
LAST-MODIFIED:20240613T151949Z
UID:10001483-1723276800-1723291200@www.bradleybeachnj.gov
SUMMARY:JACK WRIGHT OCEAN MILE SWIM **CANCELED**
DESCRIPTION:
URL:https://www.bradleybeachnj.gov/event/jack-wright-ocean-mile-swim-2/
LOCATION:New Jersey
CATEGORIES:Community Events Calendar
END:VEVENT
BEGIN:VEVENT
DTSTART;TZID=America/New_York:20240810T170000
DTEND;TZID=America/New_York:20240810T190000
DTSTAMP:20260425T084127
CREATED:20240415T171348Z
LAST-MODIFIED:20240806T140350Z
UID:10001677-1723309200-1723316400@www.bradleybeachnj.gov
SUMMARY:CANCELED - Saturday in the Park Concert Series- The Ruckus
DESCRIPTION:This concert has been canceled due to weather. 
URL:https://www.bradleybeachnj.gov/event/saturday-in-the-park-concert-series-the-ruckus/
LOCATION:Riley Park
CATEGORIES:Community Events Calendar
END:VEVENT
BEGIN:VEVENT
DTSTART;TZID=America/New_York:20240813T180000
DTEND;TZID=America/New_York:20240813T200000
DTSTAMP:20260425T084127
CREATED:20240708T170625Z
LAST-MODIFIED:20240708T170625Z
UID:10001700-1723572000-1723579200@www.bradleybeachnj.gov
SUMMARY:Line Dancing
DESCRIPTION:
URL:https://www.bradleybeachnj.gov/event/line-dancing-2/
LOCATION:5th Ave Gazebo\, 5th ave\, Bradley Beach\, New Jersey\, 07720
CATEGORIES:Community Events Calendar
END:VEVENT
BEGIN:VEVENT
DTSTART;TZID=America/New_York:20240814T200000
DTEND;TZID=America/New_York:20240814T220000
DTSTAMP:20260425T084127
CREATED:20240415T172012Z
LAST-MODIFIED:20240712T192710Z
UID:10001479-1723665600-1723672800@www.bradleybeachnj.gov
SUMMARY:Movie in the Park - "The Goonies"
DESCRIPTION:
URL:https://www.bradleybeachnj.gov/event/movie-in-the-park-3/
LOCATION:Riley Park
CATEGORIES:Community Events Calendar
END:VEVENT
BEGIN:VEVENT
DTSTART;TZID=America/New_York:20240816T190000
DTEND;TZID=America/New_York:20240816T210000
DTSTAMP:20260425T084127
CREATED:20240807T141945Z
LAST-MODIFIED:20240807T141945Z
UID:10001706-1723834800-1723842000@www.bradleybeachnj.gov
SUMMARY:Jimmy Buffet Review Concert
DESCRIPTION:
URL:https://www.bradleybeachnj.gov/event/jimmy-buffet-review-concert-2/
LOCATION:Riley Park
CATEGORIES:Community Events Calendar
END:VEVENT
BEGIN:VEVENT
DTSTART;VALUE=DATE:20240817
DTEND;VALUE=DATE:20240818
DTSTAMP:20260425T084127
CREATED:20240415T171723Z
LAST-MODIFIED:20240415T171723Z
UID:10001473-1723852800-1723939199@www.bradleybeachnj.gov
SUMMARY:Bradley Beach Pirate Day
DESCRIPTION:
URL:https://www.bradleybeachnj.gov/event/bradley-beach-pirate-day/
LOCATION:New Jersey
CATEGORIES:Community Events Calendar
END:VEVENT
BEGIN:VEVENT
DTSTART;TZID=America/New_York:20240817T170000
DTEND;TZID=America/New_York:20240817T190000
DTSTAMP:20260425T084127
CREATED:20240415T171439Z
LAST-MODIFIED:20240415T171439Z
UID:10001678-1723914000-1723921200@www.bradleybeachnj.gov
SUMMARY:Saturday in the Park Concert Series- The Verdict
DESCRIPTION:
URL:https://www.bradleybeachnj.gov/event/saturday-in-the-park-concert-series-the-verdict/
LOCATION:Riley Park
CATEGORIES:Community Events Calendar
END:VEVENT
END:VCALENDAR