BEGIN:VCALENDAR
VERSION:2.0
PRODID:-//Bradley Beach - ECPv6.15.18//NONSGML v1.0//EN
CALSCALE:GREGORIAN
METHOD:PUBLISH
X-ORIGINAL-URL:https://www.bradleybeachnj.gov
X-WR-CALDESC:Events for Bradley Beach
REFRESH-INTERVAL;VALUE=DURATION:PT1H
X-Robots-Tag:noindex
X-PUBLISHED-TTL:PT1H
BEGIN:VTIMEZONE
TZID:America/New_York
BEGIN:DAYLIGHT
TZOFFSETFROM:-0500
TZOFFSETTO:-0400
TZNAME:EDT
DTSTART:20240310T070000
END:DAYLIGHT
BEGIN:STANDARD
TZOFFSETFROM:-0400
TZOFFSETTO:-0500
TZNAME:EST
DTSTART:20241103T060000
END:STANDARD
BEGIN:DAYLIGHT
TZOFFSETFROM:-0500
TZOFFSETTO:-0400
TZNAME:EDT
DTSTART:20250309T070000
END:DAYLIGHT
BEGIN:STANDARD
TZOFFSETFROM:-0400
TZOFFSETTO:-0500
TZNAME:EST
DTSTART:20251102T060000
END:STANDARD
BEGIN:DAYLIGHT
TZOFFSETFROM:-0500
TZOFFSETTO:-0400
TZNAME:EDT
DTSTART:20260308T070000
END:DAYLIGHT
BEGIN:STANDARD
TZOFFSETFROM:-0400
TZOFFSETTO:-0500
TZNAME:EST
DTSTART:20261101T060000
END:STANDARD
BEGIN:DAYLIGHT
TZOFFSETFROM:-0500
TZOFFSETTO:-0400
TZNAME:EDT
DTSTART:20270314T070000
END:DAYLIGHT
BEGIN:STANDARD
TZOFFSETFROM:-0400
TZOFFSETTO:-0500
TZNAME:EST
DTSTART:20271107T060000
END:STANDARD
END:VTIMEZONE
BEGIN:VEVENT
DTSTART;TZID=America/New_York:20250820T190000
DTEND;TZID=America/New_York:20250820T210000
DTSTAMP:20260425T114505
CREATED:20250616T121038Z
LAST-MODIFIED:20250616T121038Z
UID:10001616-1755716400-1755723600@www.bradleybeachnj.gov
SUMMARY:Summer Jazz Series
DESCRIPTION:Bradley Beach Tourism Commission presents its 2025 event series! Click here for more information and full schedule! 
URL:https://www.bradleybeachnj.gov/event/summer-jazz-series/2025-08-20/
LOCATION:Riley Park
CATEGORIES:Community Events Calendar,Tourism Event Calendar
ATTACH;FMTTYPE=image/png:https://www.bradleybeachnj.gov/wp-content/uploads/2025/06/Screenshot-2025-03-18-at-8.51.08 AM.png
END:VEVENT
BEGIN:VEVENT
DTSTART;TZID=America/New_York:20250823T180000
DTEND;TZID=America/New_York:20250823T200000
DTSTAMP:20260425T114505
CREATED:20250616T121254Z
LAST-MODIFIED:20250616T121254Z
UID:10001625-1755972000-1755979200@www.bradleybeachnj.gov
SUMMARY:Saturdays in the Park Summer Concert Series
DESCRIPTION:Bradley Beach Tourism Commission presents its 2025 event series! Click here for more information and full schedule! 
URL:https://www.bradleybeachnj.gov/event/saturdays-in-the-park-summer-concert-series/2025-08-23/
LOCATION:Riley Park
CATEGORIES:Community Events Calendar,Tourism Event Calendar
ATTACH;FMTTYPE=image/jpeg:https://www.bradleybeachnj.gov/wp-content/uploads/2025/06/484831323_1072046661633837_6300664257229449924_n.jpg
END:VEVENT
BEGIN:VEVENT
DTSTART;TZID=America/New_York:20250826T180000
DTEND;TZID=America/New_York:20250826T210000
DTSTAMP:20260425T114505
CREATED:20250616T123857Z
LAST-MODIFIED:20250616T123857Z
UID:10001882-1756231200-1756242000@www.bradleybeachnj.gov
SUMMARY:Swing Dance Lessons
DESCRIPTION:
URL:https://www.bradleybeachnj.gov/event/swing-dance-lessons-5/
LOCATION:5th Ave Gazebo\, 5th ave\, Bradley Beach\, New Jersey\, 07720
CATEGORIES:Community Events Calendar,Tourism Event Calendar
ATTACH;FMTTYPE=image/jpeg:https://www.bradleybeachnj.gov/wp-content/uploads/2025/06/481771086_507248859093621_1129014446046113987_n.jpg
END:VEVENT
BEGIN:VEVENT
DTSTART;TZID=America/New_York:20250827T190000
DTEND;TZID=America/New_York:20250827T210000
DTSTAMP:20260425T114505
CREATED:20250616T121038Z
LAST-MODIFIED:20250616T121038Z
UID:10001617-1756321200-1756328400@www.bradleybeachnj.gov
SUMMARY:Summer Jazz Series
DESCRIPTION:Bradley Beach Tourism Commission presents its 2025 event series! Click here for more information and full schedule! 
URL:https://www.bradleybeachnj.gov/event/summer-jazz-series/2025-08-27/
LOCATION:Riley Park
CATEGORIES:Community Events Calendar,Tourism Event Calendar
ATTACH;FMTTYPE=image/png:https://www.bradleybeachnj.gov/wp-content/uploads/2025/06/Screenshot-2025-03-18-at-8.51.08 AM.png
END:VEVENT
BEGIN:VEVENT
DTSTART;TZID=America/New_York:20250830T180000
DTEND;TZID=America/New_York:20250830T200000
DTSTAMP:20260425T114505
CREATED:20250616T121254Z
LAST-MODIFIED:20250616T121254Z
UID:10001626-1756576800-1756584000@www.bradleybeachnj.gov
SUMMARY:Saturdays in the Park Summer Concert Series
DESCRIPTION:Bradley Beach Tourism Commission presents its 2025 event series! Click here for more information and full schedule! 
URL:https://www.bradleybeachnj.gov/event/saturdays-in-the-park-summer-concert-series/2025-08-30/
LOCATION:Riley Park
CATEGORIES:Community Events Calendar,Tourism Event Calendar
ATTACH;FMTTYPE=image/jpeg:https://www.bradleybeachnj.gov/wp-content/uploads/2025/06/484831323_1072046661633837_6300664257229449924_n.jpg
END:VEVENT
BEGIN:VEVENT
DTSTART;TZID=America/New_York:20250913T160000
DTEND;TZID=America/New_York:20250913T190000
DTSTAMP:20260425T114505
CREATED:20250912T132538Z
LAST-MODIFIED:20250912T132553Z
UID:10001895-1757779200-1757790000@www.bradleybeachnj.gov
SUMMARY:Fall Concert Series: Rumbaile Latin Band and Viva Vallenado
DESCRIPTION:
URL:https://www.bradleybeachnj.gov/event/fall-concert-series-rumbaile-latin-band-and-viva-vallenado/
LOCATION:Riley Park
CATEGORIES:Tourism Event Calendar
ATTACH;FMTTYPE=image/png:https://www.bradleybeachnj.gov/wp-content/uploads/2025/09/Screenshot-2025-09-12-at-9.14.19-AM-scaled.png
END:VEVENT
BEGIN:VEVENT
DTSTART;TZID=America/New_York:20251018T160000
DTEND;TZID=America/New_York:20251018T180000
DTSTAMP:20260425T114505
CREATED:20251014T163414Z
LAST-MODIFIED:20251014T163414Z
UID:10002017-1760803200-1760810400@www.bradleybeachnj.gov
SUMMARY:Fall Concert Series- Los Gringos
DESCRIPTION:
URL:https://www.bradleybeachnj.gov/event/fall-concert-series-los-gringos/
LOCATION:Riley Park
CATEGORIES:Tourism Event Calendar
END:VEVENT
BEGIN:VEVENT
DTSTART;TZID=America/New_York:20251025T160000
DTEND;TZID=America/New_York:20251025T180000
DTSTAMP:20260425T114505
CREATED:20251023T183918Z
LAST-MODIFIED:20251023T183918Z
UID:10002019-1761408000-1761415200@www.bradleybeachnj.gov
SUMMARY:Fall Concert Series: Tired Starlings
DESCRIPTION:
URL:https://www.bradleybeachnj.gov/event/fall-concert-series-tired-starlings-2/
LOCATION:Riley Park
CATEGORIES:Community Events Calendar,Tourism Event Calendar
ATTACH;FMTTYPE=image/png:https://www.bradleybeachnj.gov/wp-content/uploads/2025/10/Screenshot-2025-10-21-at-9.24.05-PM.png
END:VEVENT
BEGIN:VEVENT
DTSTART;TZID=America/New_York:20251026T120000
DTEND;TZID=America/New_York:20251026T180000
DTSTAMP:20260425T114505
CREATED:20251022T012603Z
LAST-MODIFIED:20251022T194139Z
UID:10002018-1761480000-1761501600@www.bradleybeachnj.gov
SUMMARY:Halloween Festivities- Bradley Boo\, Trunk or Treat\, Concert and Parade!
DESCRIPTION:Get ready for a Spooktacular Day in Bradley Beach!\n\nJoin us for a full day of Halloween fun on Saturday\, October 26\, starting at 12 PM! The Bradley Beach Tourism Commission\, Recreation Department\, and Fire Department are teaming up to bring you a day packed with festive activities for the whole family.\n\nSchedule of Events\n12 PM – 4 PM: 6th Annual Bradley BOO & Trick-or-Treat Down Main StreetThe Tourism Commission kicks things off with our annual trick-or-treat event. Bring your little ghouls and goblins to Main Street for some Halloween goodies!\n\n1 PM – 3 PM: 4th Annual Trunk-or-TreatHead over to the municipal lot for the Recreation Department’s popular Trunk-or-Treat event. Deck out your car and get ready to hand out candy\, or just come to enjoy the creative displays and collect some treats!\n\n3 PM – 5 PM: Halloween Concert with Strumberry PieWind down from trick-or-treating with a special Halloween concert presented by the Tourism Commission\, featuring local favorite Strumberry Pie.\n\n4 PM: Halloween Parade Registration at Firehouse\n\n5 PM: Halloween Parade Begins\nThe Bradley Beach Fire Department is hosting their annual Halloween Parade! Register at 4 PM at the Firehouse and show off your costumes. The parade begins promptly at 5 PM. Don’t forget\, the Ladies Auxiliary will be on hand with delicious cider and donuts to keep you warm!\n\n**List of participating businesses**\nGreen Lotus Lash and Brow Boutique Pasch Real Estate Your Flooring Center Bradley CafeFINSElbow RoomCountry Farms Hatch 44D’Arcy’s Tavern Hey Peach Bakery Vic’s Pizza The Buttered Biscuit The James Bradley Bradley Bleach Laundromat Patrick Parker Realty Lily’s Nail Salon UVAShore Movements Sabores lo NuestroThe Perfect Perk Katora RealtyBeach Plum Steady Hand CafeAnchors Aweigh TattooJersey Shore Fitness ShopGatto Acupuncture & Wellness
URL:https://www.bradleybeachnj.gov/event/fall-concert-series-tired-starlings/
LOCATION:Bradley Beach
CATEGORIES:Borough Calendar,Recreation Calendar,Tourism Event Calendar
ATTACH;FMTTYPE=image/png:https://www.bradleybeachnj.gov/wp-content/uploads/2025/10/Screenshot-2025-10-21-at-9.29.15-PM.png
END:VEVENT
BEGIN:VEVENT
DTSTART;TZID=America/New_York:20251130T160000
DTEND;TZID=America/New_York:20251130T180000
DTSTAMP:20260425T114505
CREATED:20251118T171531Z
LAST-MODIFIED:20251118T171531Z
UID:10002022-1764518400-1764525600@www.bradleybeachnj.gov
SUMMARY:Annual Tree Lighting
DESCRIPTION:
URL:https://www.bradleybeachnj.gov/event/annual-tree-lighting/
LOCATION:Riley Park
CATEGORIES:Borough Calendar,Community Events Calendar,Recreation Calendar,Tourism Event Calendar
ATTACH;FMTTYPE=image/jpeg:https://www.bradleybeachnj.gov/wp-content/uploads/2025/11/3BACA7A6-0824-4664-9380-FE4874959CAC.jpg
END:VEVENT
BEGIN:VEVENT
DTSTART;TZID=America/New_York:20260206T190000
DTEND;TZID=America/New_York:20260206T220000
DTSTAMP:20260425T114505
CREATED:20260115T184614Z
LAST-MODIFIED:20260115T184614Z
UID:10002054-1770404400-1770415200@www.bradleybeachnj.gov
SUMMARY:Winter Jazz Festival
DESCRIPTION:The 2026 Festival runs from Tuesday\, February 3rd\, to Saturday\, February 7th\, for the main stage performances\, with a week of exciting prelude events across town.\nPlease click here for full schedule of events! 
URL:https://www.bradleybeachnj.gov/event/winter-jazz-festival/
LOCATION:Bradley Beach Elementary School\, 515 Brinley Avenue\, Bradley Beach
CATEGORIES:Community Events Calendar,Tourism Event Calendar
ATTACH;FMTTYPE=image/png:https://www.bradleybeachnj.gov/wp-content/uploads/2026/01/working-final-5.png
END:VEVENT
BEGIN:VEVENT
DTSTART;VALUE=DATE:20260207
DTEND;VALUE=DATE:20260208
DTSTAMP:20260425T114505
CREATED:20260115T184717Z
LAST-MODIFIED:20260115T184727Z
UID:10002055-1770422400-1770508799@www.bradleybeachnj.gov
SUMMARY:Winter Jazz Festival
DESCRIPTION:The 2026 Festival runs from Tuesday\, February 3rd\, to Saturday\, February 7th\, for the main stage performances\, with a week of exciting prelude events across town.\nPlease click here for full schedule of events! 
URL:https://www.bradleybeachnj.gov/event/winter-jazz-festival-2/
LOCATION:Bradley Beach Elementary School\, 515 Brinley Avenue\, Bradley Beach
CATEGORIES:Community Events Calendar,Tourism Event Calendar
ATTACH;FMTTYPE=image/png:https://www.bradleybeachnj.gov/wp-content/uploads/2026/01/working-final-5.png
END:VEVENT
END:VCALENDAR