BEGIN:VCALENDAR
VERSION:2.0
PRODID:-//Bradley Beach - ECPv6.15.18//NONSGML v1.0//EN
CALSCALE:GREGORIAN
METHOD:PUBLISH
X-WR-CALNAME:Bradley Beach
X-ORIGINAL-URL:https://www.bradleybeachnj.gov
X-WR-CALDESC:Events for Bradley Beach
REFRESH-INTERVAL;VALUE=DURATION:PT1H
X-Robots-Tag:noindex
X-PUBLISHED-TTL:PT1H
BEGIN:VTIMEZONE
TZID:America/New_York
BEGIN:DAYLIGHT
TZOFFSETFROM:-0500
TZOFFSETTO:-0400
TZNAME:EDT
DTSTART:20250309T070000
END:DAYLIGHT
BEGIN:STANDARD
TZOFFSETFROM:-0400
TZOFFSETTO:-0500
TZNAME:EST
DTSTART:20251102T060000
END:STANDARD
BEGIN:DAYLIGHT
TZOFFSETFROM:-0500
TZOFFSETTO:-0400
TZNAME:EDT
DTSTART:20260308T070000
END:DAYLIGHT
BEGIN:STANDARD
TZOFFSETFROM:-0400
TZOFFSETTO:-0500
TZNAME:EST
DTSTART:20261101T060000
END:STANDARD
BEGIN:DAYLIGHT
TZOFFSETFROM:-0500
TZOFFSETTO:-0400
TZNAME:EDT
DTSTART:20270314T070000
END:DAYLIGHT
BEGIN:STANDARD
TZOFFSETFROM:-0400
TZOFFSETTO:-0500
TZNAME:EST
DTSTART:20271107T060000
END:STANDARD
END:VTIMEZONE
BEGIN:VEVENT
DTSTART;TZID=America/New_York:20260616T173000
DTEND;TZID=America/New_York:20260616T173000
DTSTAMP:20260423T050612
CREATED:20251224T175117Z
LAST-MODIFIED:20251224T175522Z
UID:10002037-1781631000-1781631000@www.bradleybeachnj.gov
SUMMARY:Council Business Meeting
DESCRIPTION:701 Main Street
URL:https://www.bradleybeachnj.gov/event/council-business-meeting-68/
LOCATION:NJ
CATEGORIES:Borough Meetings
END:VEVENT
BEGIN:VEVENT
DTSTART;TZID=America/New_York:20260612T130000
DTEND;TZID=America/New_York:20260612T150000
DTSTAMP:20260423T050612
CREATED:20260217T145947Z
LAST-MODIFIED:20260217T145947Z
UID:10002089-1781269200-1781276400@www.bradleybeachnj.gov
SUMMARY:Open Play Mahjong
DESCRIPTION:
URL:https://www.bradleybeachnj.gov/event/open-play-mahjong/2026-06-12/
LOCATION:Carmen Biase Center\, 719 Main St\, Bradley Beach\, NJ\, 07720\, United States
CATEGORIES:Recreation Calendar
END:VEVENT
BEGIN:VEVENT
DTSTART;TZID=America/New_York:20260605T130000
DTEND;TZID=America/New_York:20260605T150000
DTSTAMP:20260423T050612
CREATED:20260217T145947Z
LAST-MODIFIED:20260217T145947Z
UID:10002088-1780664400-1780671600@www.bradleybeachnj.gov
SUMMARY:Open Play Mahjong
DESCRIPTION:
URL:https://www.bradleybeachnj.gov/event/open-play-mahjong/2026-06-05/
LOCATION:Carmen Biase Center\, 719 Main St\, Bradley Beach\, NJ\, 07720\, United States
CATEGORIES:Recreation Calendar
END:VEVENT
BEGIN:VEVENT
DTSTART;TZID=America/New_York:20260604T173000
DTEND;TZID=America/New_York:20260604T173000
DTSTAMP:20260423T050612
CREATED:20251224T175015Z
LAST-MODIFIED:20251224T175548Z
UID:10002036-1780594200-1780594200@www.bradleybeachnj.gov
SUMMARY:Council Business Meeting (Thursday due to Primary Election)
DESCRIPTION:701 Main Street
URL:https://www.bradleybeachnj.gov/event/council-business-meeting-thursday-due-to-primary-election/
LOCATION:NJ
CATEGORIES:Borough Meetings
END:VEVENT
BEGIN:VEVENT
DTSTART;TZID=America/New_York:20260529T130000
DTEND;TZID=America/New_York:20260529T150000
DTSTAMP:20260423T050612
CREATED:20260217T145947Z
LAST-MODIFIED:20260217T145947Z
UID:10002087-1780059600-1780066800@www.bradleybeachnj.gov
SUMMARY:Open Play Mahjong
DESCRIPTION:
URL:https://www.bradleybeachnj.gov/event/open-play-mahjong/2026-05-29/
LOCATION:Carmen Biase Center\, 719 Main St\, Bradley Beach\, NJ\, 07720\, United States
CATEGORIES:Recreation Calendar
END:VEVENT
BEGIN:VEVENT
DTSTART;TZID=America/New_York:20260524T090000
DTEND;TZID=America/New_York:20260524T190000
DTSTAMP:20260423T050612
CREATED:20260105T135915Z
LAST-MODIFIED:20260218T161904Z
UID:10002053-1779613200-1779649200@www.bradleybeachnj.gov
SUMMARY:Memorial Day Festival
DESCRIPTION:Click here for vendor registration:  \nRetail Vendor – https://register.capturepoint.com/reg/cat_program_list_detail.cfm?season_id=32296&program_id=2724979\n \nCraft/Artist Vendor – https://register.capturepoint.com/reg/cat_program_list_detail.cfm?season_id=32296&program_id=2724974\n \nFood Vendor – https://register.capturepoint.com/reg/cat_program_list_detail.cfm?season_id=32296&program_id=2724975
URL:https://www.bradleybeachnj.gov/event/memorial-day-festival/2026-05-24/
LOCATION:NJ
CATEGORIES:Community Events Calendar
ATTACH;FMTTYPE=image/png:https://www.bradleybeachnj.gov/wp-content/uploads/2026/01/Screenshot-2026-02-18-at-11.17.52-AM.png
END:VEVENT
BEGIN:VEVENT
DTSTART;TZID=America/New_York:20260523T090000
DTEND;TZID=America/New_York:20260523T190000
DTSTAMP:20260423T050612
CREATED:20260105T135915Z
LAST-MODIFIED:20260218T161904Z
UID:10002052-1779526800-1779562800@www.bradleybeachnj.gov
SUMMARY:Memorial Day Festival
DESCRIPTION:Click here for vendor registration:  \nRetail Vendor – https://register.capturepoint.com/reg/cat_program_list_detail.cfm?season_id=32296&program_id=2724979\n \nCraft/Artist Vendor – https://register.capturepoint.com/reg/cat_program_list_detail.cfm?season_id=32296&program_id=2724974\n \nFood Vendor – https://register.capturepoint.com/reg/cat_program_list_detail.cfm?season_id=32296&program_id=2724975
URL:https://www.bradleybeachnj.gov/event/memorial-day-festival/2026-05-23/
LOCATION:NJ
CATEGORIES:Community Events Calendar
ATTACH;FMTTYPE=image/png:https://www.bradleybeachnj.gov/wp-content/uploads/2026/01/Screenshot-2026-02-18-at-11.17.52-AM.png
END:VEVENT
BEGIN:VEVENT
DTSTART;TZID=America/New_York:20260522T130000
DTEND;TZID=America/New_York:20260522T150000
DTSTAMP:20260423T050612
CREATED:20260217T145947Z
LAST-MODIFIED:20260217T145947Z
UID:10002086-1779454800-1779462000@www.bradleybeachnj.gov
SUMMARY:Open Play Mahjong
DESCRIPTION:
URL:https://www.bradleybeachnj.gov/event/open-play-mahjong/2026-05-22/
LOCATION:Carmen Biase Center\, 719 Main St\, Bradley Beach\, NJ\, 07720\, United States
CATEGORIES:Recreation Calendar
END:VEVENT
BEGIN:VEVENT
DTSTART;TZID=America/New_York:20260521T183000
DTEND;TZID=America/New_York:20260521T220000
DTSTAMP:20260423T050612
CREATED:20260123T131252Z
LAST-MODIFIED:20260123T131252Z
UID:10002060-1779388200-1779400800@www.bradleybeachnj.gov
SUMMARY:Land Use Board Meeting
DESCRIPTION:
URL:https://www.bradleybeachnj.gov/event/land-use-board-meeting-15/
LOCATION:Borough Hall Meeting Room\, 701 Main Street\, Bradley Beach\, NJ\, 07720\, United States
CATEGORIES:Borough Calendar,Borough Meetings
END:VEVENT
BEGIN:VEVENT
DTSTART;TZID=America/New_York:20260520T120000
DTEND;TZID=America/New_York:20260520T150000
DTSTAMP:20260423T050612
CREATED:20260217T150442Z
LAST-MODIFIED:20260217T150442Z
UID:10002337-1779278400-1779289200@www.bradleybeachnj.gov
SUMMARY:Senior Club Meeting
DESCRIPTION:
URL:https://www.bradleybeachnj.gov/event/senior-club-meeting-17/
LOCATION:Carmen Biase Center\, 719 Main St\, Bradley Beach\, NJ\, 07720\, United States
CATEGORIES:Recreation Calendar
END:VEVENT
BEGIN:VEVENT
DTSTART;TZID=America/New_York:20260519T173000
DTEND;TZID=America/New_York:20260519T173000
DTSTAMP:20260423T050612
CREATED:20251224T174854Z
LAST-MODIFIED:20251224T175626Z
UID:10002035-1779211800-1779211800@www.bradleybeachnj.gov
SUMMARY:Council Business Meeting
DESCRIPTION:701 Main Street
URL:https://www.bradleybeachnj.gov/event/council-business-meeting-67/
LOCATION:NJ
CATEGORIES:Borough Meetings
END:VEVENT
BEGIN:VEVENT
DTSTART;TZID=America/New_York:20260517T090000
DTEND;TZID=America/New_York:20260517T150000
DTSTAMP:20260423T050612
CREATED:20260414T131452Z
LAST-MODIFIED:20260414T131452Z
UID:10002344-1779008400-1779030000@www.bradleybeachnj.gov
SUMMARY:Town Wide Yard Sale
DESCRIPTION:Click here for yard sale application.
URL:https://www.bradleybeachnj.gov/event/town-wide-yard-sale-3/
LOCATION:NJ
CATEGORIES:Community Events Calendar
ATTACH;FMTTYPE=image/png:https://www.bradleybeachnj.gov/wp-content/uploads/2026/04/Screenshot-2026-04-14-at-9.08.03-AM.png
END:VEVENT
BEGIN:VEVENT
DTSTART;TZID=America/New_York:20260516T090000
DTEND;TZID=America/New_York:20260516T150000
DTSTAMP:20260423T050612
CREATED:20260414T131352Z
LAST-MODIFIED:20260414T131352Z
UID:10002343-1778922000-1778943600@www.bradleybeachnj.gov
SUMMARY:Town Wide Yard Sale
DESCRIPTION:Click here for yard sale application.
URL:https://www.bradleybeachnj.gov/event/town-wide-yard-sale-2/
LOCATION:NJ
CATEGORIES:Community Events Calendar
ATTACH;FMTTYPE=image/png:https://www.bradleybeachnj.gov/wp-content/uploads/2026/04/Screenshot-2026-04-14-at-9.08.03-AM.png
END:VEVENT
BEGIN:VEVENT
DTSTART;TZID=America/New_York:20260515T130000
DTEND;TZID=America/New_York:20260515T150000
DTSTAMP:20260423T050612
CREATED:20260217T145947Z
LAST-MODIFIED:20260217T145947Z
UID:10002085-1778850000-1778857200@www.bradleybeachnj.gov
SUMMARY:Open Play Mahjong
DESCRIPTION:
URL:https://www.bradleybeachnj.gov/event/open-play-mahjong/2026-05-15/
LOCATION:Carmen Biase Center\, 719 Main St\, Bradley Beach\, NJ\, 07720\, United States
CATEGORIES:Recreation Calendar
END:VEVENT
BEGIN:VEVENT
DTSTART;TZID=America/New_York:20260508T173000
DTEND;TZID=America/New_York:20260508T200000
DTSTAMP:20260423T050612
CREATED:20260402T191128Z
LAST-MODIFIED:20260402T191128Z
UID:10002342-1778261400-1778270400@www.bradleybeachnj.gov
SUMMARY:Mother's Day Flag Football
DESCRIPTION:
URL:https://www.bradleybeachnj.gov/event/mothers-day-flag-football/
LOCATION:Bradley Beach Rec Center\, 39 1/2 Main St\, Bradley Beach\, NJ\, 07720\, United States
CATEGORIES:Recreation Calendar
END:VEVENT
BEGIN:VEVENT
DTSTART;TZID=America/New_York:20260508T173000
DTEND;TZID=America/New_York:20260508T193000
DTSTAMP:20260423T050612
CREATED:20260417T212817Z
LAST-MODIFIED:20260417T212817Z
UID:10002346-1778261400-1778268600@www.bradleybeachnj.gov
SUMMARY:Mother's Day Flag Football
DESCRIPTION:
URL:https://www.bradleybeachnj.gov/event/mothers-day-flag-football-2/
LOCATION:Bradley Beach Rec Center\, 39 1/2 Main St\, Bradley Beach\, NJ\, 07720\, United States
CATEGORIES:Recreation Calendar
END:VEVENT
BEGIN:VEVENT
DTSTART;TZID=America/New_York:20260508T130000
DTEND;TZID=America/New_York:20260508T150000
DTSTAMP:20260423T050612
CREATED:20260217T145947Z
LAST-MODIFIED:20260217T145947Z
UID:10002084-1778245200-1778252400@www.bradleybeachnj.gov
SUMMARY:Open Play Mahjong
DESCRIPTION:
URL:https://www.bradleybeachnj.gov/event/open-play-mahjong/2026-05-08/
LOCATION:Carmen Biase Center\, 719 Main St\, Bradley Beach\, NJ\, 07720\, United States
CATEGORIES:Recreation Calendar
END:VEVENT
BEGIN:VEVENT
DTSTART;TZID=America/New_York:20260505T173000
DTEND;TZID=America/New_York:20260505T173000
DTSTAMP:20260423T050612
CREATED:20251224T174746Z
LAST-MODIFIED:20251224T175427Z
UID:10002034-1778002200-1778002200@www.bradleybeachnj.gov
SUMMARY:Council Business Meeting
DESCRIPTION:701 Main Street
URL:https://www.bradleybeachnj.gov/event/council-business-meeting-66/
LOCATION:NJ
CATEGORIES:Borough Meetings
END:VEVENT
BEGIN:VEVENT
DTSTART;TZID=America/New_York:20260501T130000
DTEND;TZID=America/New_York:20260501T150000
DTSTAMP:20260423T050612
CREATED:20260217T145947Z
LAST-MODIFIED:20260217T145947Z
UID:10002083-1777640400-1777647600@www.bradleybeachnj.gov
SUMMARY:Open Play Mahjong
DESCRIPTION:
URL:https://www.bradleybeachnj.gov/event/open-play-mahjong/2026-05-01/
LOCATION:Carmen Biase Center\, 719 Main St\, Bradley Beach\, NJ\, 07720\, United States
CATEGORIES:Recreation Calendar
END:VEVENT
BEGIN:VEVENT
DTSTART;TZID=America/New_York:20260425T110000
DTEND;TZID=America/New_York:20260425T130000
DTSTAMP:20260423T050612
CREATED:20260417T212555Z
LAST-MODIFIED:20260417T212555Z
UID:10002345-1777114800-1777122000@www.bradleybeachnj.gov
SUMMARY:Recreation Park Grand Reopening
DESCRIPTION:
URL:https://www.bradleybeachnj.gov/event/recreation-park-grand-reopening/
LOCATION:Bradley Beach Rec Center\, 39 1/2 Main St\, Bradley Beach\, NJ\, 07720\, United States
CATEGORIES:Recreation Calendar
END:VEVENT
BEGIN:VEVENT
DTSTART;TZID=America/New_York:20260424T130000
DTEND;TZID=America/New_York:20260424T150000
DTSTAMP:20260423T050612
CREATED:20260217T145947Z
LAST-MODIFIED:20260217T145947Z
UID:10002082-1777035600-1777042800@www.bradleybeachnj.gov
SUMMARY:Open Play Mahjong
DESCRIPTION:
URL:https://www.bradleybeachnj.gov/event/open-play-mahjong/2026-04-24/
LOCATION:Carmen Biase Center\, 719 Main St\, Bradley Beach\, NJ\, 07720\, United States
CATEGORIES:Recreation Calendar
END:VEVENT
BEGIN:VEVENT
DTSTART;TZID=America/New_York:20260422T120000
DTEND;TZID=America/New_York:20260422T150000
DTSTAMP:20260423T050612
CREATED:20260217T150344Z
LAST-MODIFIED:20260217T150400Z
UID:10002336-1776859200-1776870000@www.bradleybeachnj.gov
SUMMARY:Senior Club Meeting
DESCRIPTION:
URL:https://www.bradleybeachnj.gov/event/senior-clun-meeting/
LOCATION:Carmen Biase Center\, 719 Main St\, Bradley Beach\, NJ\, 07720\, United States
CATEGORIES:Recreation Calendar
END:VEVENT
BEGIN:VEVENT
DTSTART;TZID=America/New_York:20260421T173000
DTEND;TZID=America/New_York:20260421T173000
DTSTAMP:20260423T050612
CREATED:20251224T174631Z
LAST-MODIFIED:20260422T015409Z
UID:10002033-1776792600-1776792600@www.bradleybeachnj.gov
SUMMARY:Council Business Meeting
DESCRIPTION:701 Main Street \n4-21-26 Council Business Meeting Hybrid Video \nhttps://youtu.be/U7OmXboB2T0 \n4-21-26 Council Business Meeting Agenda (REVISED) \nOrdinance 2026-24 Ordinance Amending Chapter 450 (Zoning) to Provide Bldg Height Relief for Groundwater (INTRO 4.21.26) \nOrdinance 2026-25 Creating New Chapter 274 (Lead-Based Paint) in Compliance with State Law (INTRO 4.21.26) \nOrdinance 2026-26 Amending Chapter 451 (Affordable Housing) to Properly Reference AH Overlay Zoning (INTRO 4.21.26) \nOrdinance 2026-21 Ordinance Amending Chap 310 (Noise) to Limit Use of Leaf Blowers (ADOPT 4.21.26) \nResolution 2026-117 Bill List for April 21\, 2026 \nResolution 2026-118 National Multiple Sclerosis Society Charity Bike Ride Event \nResolution 2026-119 Lien Redemption Refund Approval for 107 Brinley Avenue Unit 14 \nResolution 2026-120 Probationary Firefighter Appointment – Patrick Collins \nResolution 2026-121 Municipal Court Judge Re-Appointment \nResolution 2026-122 Municipal Clerk Re-Appointment \nResolution 2026-123 Appointing a Part-Time Plumbing Sub-Code Official and Plumbing Mechanical Inspector four-year term – (Don Baldwin) \nResolution 2026-124 Engineering Services for a Grant Application for Sylvan Lake Path & Stormwater Improvements (CME) \nResolution 2026-125 Authorizing the execution of a Grant Application with NJDEP for Sanitary Sewer Agreement \nResolution 2026-126 Approving Non-Fair & Open Contract with Michael L. Collins\, Esq. for Special Counsel Services \nResolution 2026-127 Awarding Concession License for the Borough’s new Beachfront Promenade Concession \nResolution 2026-128 Shared Service Agreement with Manchester Township for Financial Support Services \nResolution 2026-129 NJIB Authorizing Resolution 5th Avenue & Park Place \nResolution 2026-130 NJIB Reimbursement Resolution 5th Avenue & Park Place \nIn accordance with the provisions of the Open Public Meetings Act\, N.J.S.A 10:4-6 to 10:4-21\, the Borough of Bradley Beach will hold their Council Business Meeting thereafter on Tuesday\, April 21\, 2026 at 5:30 p.m. This will be a Hybrid Meeting and may be attended in person or virtually through Zoom\, and to include other online streaming services from the Meeting Room\, 701 Main Street\, Bradley Beach\, NJ 07720. Formal action will be taken. \nPlease be advised that public access for Council Meetings through Zoom is a courtesy only and not mandatory statutorily or otherwise. If for any reason Zoom fails or is disconnected\, the in-person meeting will continue without interruption\, and action can and will be taken providing there is an in-person Council Quorum. \nFor the public to participate remotely please follow the instructions: \nTopic: Bradley Beach Council Business Meeting\nTime: Tuesday\, April 21\, 2026 at 5:30 p.m. Eastern Time (US and Canada) \nJoin Zoom Meeting\nhttps://us06web.zoom.us/j/84317512216?pwd=kvpFkr4NSIEd0f6cpjLMIkEoMmlZf3.1 \nMeeting ID: 843 1751 2216\nPasscode: 528442 \nOne tap mobile\n+13092053325\,\,84317512216#\,\,\,\,*528442# US\n+13126266799\,\,84317512216#\,\,\,\,*528442# US (Chicago) \nJoin instructions\nhttps://us06web.zoom.us/meetings/84317512216/invitations?signature=rVLboP2vD7jTuxLbJztU6sZwT4SzFlyOINpZUintjcA \nThe meeting also will be streamed live on our regular YouTube Board Meeting Channel for public viewing only.  \nhttps://www.youtube.com/channel/UCrn8buRB6-0XVnSbhBYnHDg/videos \n  \n  \n  \n 
URL:https://www.bradleybeachnj.gov/event/council-business-meeting-65/
LOCATION:NJ
CATEGORIES:Borough Meetings
END:VEVENT
BEGIN:VEVENT
DTSTART;TZID=America/New_York:20260417T130000
DTEND;TZID=America/New_York:20260417T150000
DTSTAMP:20260423T050612
CREATED:20260217T145947Z
LAST-MODIFIED:20260217T145947Z
UID:10002081-1776430800-1776438000@www.bradleybeachnj.gov
SUMMARY:Open Play Mahjong
DESCRIPTION:
URL:https://www.bradleybeachnj.gov/event/open-play-mahjong/2026-04-17/
LOCATION:Carmen Biase Center\, 719 Main St\, Bradley Beach\, NJ\, 07720\, United States
CATEGORIES:Recreation Calendar
END:VEVENT
BEGIN:VEVENT
DTSTART;TZID=America/New_York:20260416T183000
DTEND;TZID=America/New_York:20260416T220000
DTSTAMP:20260423T050612
CREATED:20260123T131033Z
LAST-MODIFIED:20260123T131033Z
UID:10002059-1776364200-1776376800@www.bradleybeachnj.gov
SUMMARY:Land Use Board Meeting
DESCRIPTION:
URL:https://www.bradleybeachnj.gov/event/land-use-board-meeting-14/
LOCATION:Borough Hall Meeting Room\, 701 Main Street\, Bradley Beach\, NJ\, 07720\, United States
CATEGORIES:Borough Calendar,Borough Meetings
END:VEVENT
BEGIN:VEVENT
DTSTART;TZID=America/New_York:20260410T130000
DTEND;TZID=America/New_York:20260410T150000
DTSTAMP:20260423T050612
CREATED:20260217T145947Z
LAST-MODIFIED:20260217T145947Z
UID:10002080-1775826000-1775833200@www.bradleybeachnj.gov
SUMMARY:Open Play Mahjong
DESCRIPTION:
URL:https://www.bradleybeachnj.gov/event/open-play-mahjong/2026-04-10/
LOCATION:Carmen Biase Center\, 719 Main St\, Bradley Beach\, NJ\, 07720\, United States
CATEGORIES:Recreation Calendar
END:VEVENT
BEGIN:VEVENT
DTSTART;TZID=America/New_York:20260407T173000
DTEND;TZID=America/New_York:20260407T173000
DTSTAMP:20260423T050612
CREATED:20251224T174533Z
LAST-MODIFIED:20260408T021004Z
UID:10002032-1775583000-1775583000@www.bradleybeachnj.gov
SUMMARY:Council Business Meeting
DESCRIPTION:701 Main Street \n4-7-26 Council Business Meeting Hybrid Video \nhttps://youtu.be/2-1SVwn4iaI \n4-7-26 Council Business Meeting Agenda \nProclamation – Administrative Professionals’ Day 2026 \nProclamation – National Volunteer Week 2026 \n4-7-26 Arts Council Appointment Memo – Lauren Saracene \nOrdinance 2026-21 Amending Chap 310 (Noise) to Limit Use of Leaf Blowers (Introduction 4.7.26) REVISED \nBond Ordinance 2026-14 Amending Bond Ordinance 2025-26 for Sanitary Sewer Improvements (Adoption 4.7.26) \nOrdinance 2026-17 Amending Chapter 450 (Zoning) to Clarify Non-Conforming Lot Regulations (Adoption 4.7.26) \nOrdinance 2026-18 Amending Chapter 450 (Zoning) to Permit Larger Driveways on Corner Lots (Adoption 4.7.26) \nOrdinance 2026-19 Amending Chapter 450 (Zoning) to Prohibit Subgrade Garages (Adoption 4.7.26) \nOrdinance 2026-22 Amending Chapter 450 (Zoning) to Clarify Zoning Permit Required for ROW and Planting Strip Structures (Adoption 4.7.26) \nOrdinance 2026-23 Amending Chapter 314 (Nuisances\, Public) to Prohibit Sleeping and Camping on Public Property (Adoption 4.7.26) \nResolution 2026-103 Bill List April 7\, 2026 (Revised) \nResolution 2026-104 United Engine & Truck Company 5K Race \nResolution 2026-105 Surfrider Foundation LaReine Avenue Beach Clean-up \nResolution 2026-106 SLEO Class I Appointments \nResolution 2026-107 Beach Operations Schedule for 2026 \nResolution 2026-108 Daily & Weekly Badge Fees for 2026 \nResolution 2026-109 Dedication by Rider for Unemployment Compensation Insurance Trust Fund \nResolution 2026-110 Corrective Action Plan for 2024 \nResolution 2026-111 Approving Signatories for the Neptune City Court General & Bail Accounts \nResolution 2026-112 NJDOT Fifth Avenue Improvements Project Extension \nResolution 2026-113 Recreation Summer Camp Scholarship Program for BBES Students \nResolution 2026-114 Authorizing Amendments to the Temporary Budget (4.7.26) \nResolution 2026-115 Beach Kubota Purchase through the ESCNJ Cooperative Program (REVISED) \nResolution 2026-116 Award of Proposal for Engineering Services to Suburban Consulting Engineers\, Inc for Sanitary Sewer Improvements \nIn accordance with the provisions of the Open Public Meetings Act\, N.J.S.A 10:4-6 to 10:4-21\, the Borough of Bradley Beach will hold their Council Business Meeting thereafter on Tuesday\, April 7\, 2026 at 5:30 p.m. This will be a Hybrid Meeting and may be attended in person or virtually through Zoom\, and to include other online streaming services from the Meeting Room\, 701 Main Street\, Bradley Beach\, NJ 07720. Formal action will be taken. \nPlease be advised that public access for Council Meetings through Zoom is a courtesy only and not mandatory statutorily or otherwise. If for any reason Zoom fails or is disconnected\, the in-person meeting will continue without interruption\, and action can and will be taken providing there is an\nin-person Council Quorum. \nFor the public to participate remotely please follow the instructions: \nTopic: Bradley Beach Council Business Meeting\nTime: Tuesday\, April 7\, 2026 at 5:30 p.m. Eastern Time (US and Canada) \nJoin Zoom Meeting\nhttps://us06web.zoom.us/j/82841989119?pwd=sijGc5SRO5Pfc6lnvogIUEpRZ3sMw8.1 \nMeeting ID: 828 4198 9119\nPasscode: 385569 \nOne tap mobile\n+13126266799\,\,82841989119#\,\,\,\,*385569# US (Chicago)\n+16465588656\,\,82841989119#\,\,\,\,*385569# US (New York) \nJoin instructions\nhttps://us06web.zoom.us/meetings/82841989119/invitations?signature=SDwoB50RFejTM6XuP9l5yuGirzoLYhGhufUk84h2p5s \nThe meeting also will be streamed live on our regular YouTube Board Meeting Channel for public viewing only.  \nhttps://www.youtube.com/channel/UCrn8buRB6-0XVnSbhBYnHDg/videos \n  \n 
URL:https://www.bradleybeachnj.gov/event/council-business-meeting-64/
LOCATION:NJ
CATEGORIES:Borough Meetings
END:VEVENT
BEGIN:VEVENT
DTSTART;TZID=America/New_York:20260403T130000
DTEND;TZID=America/New_York:20260403T150000
DTSTAMP:20260423T050612
CREATED:20260217T145947Z
LAST-MODIFIED:20260217T145947Z
UID:10002079-1775221200-1775228400@www.bradleybeachnj.gov
SUMMARY:Open Play Mahjong
DESCRIPTION:
URL:https://www.bradleybeachnj.gov/event/open-play-mahjong/2026-04-03/
LOCATION:Carmen Biase Center\, 719 Main St\, Bradley Beach\, NJ\, 07720\, United States
CATEGORIES:Recreation Calendar
END:VEVENT
BEGIN:VEVENT
DTSTART;VALUE=DATE:20260401
DTEND;VALUE=DATE:20260402
DTSTAMP:20260423T050612
CREATED:20260217T151041Z
LAST-MODIFIED:20260217T151041Z
UID:10002339-1775001600-1775087999@www.bradleybeachnj.gov
SUMMARY:Summer Camp Registration Opens For All
DESCRIPTION:Full Day Camp – https://register.capturepoint.com/reg/cat_program_list_detail.cfm?season_id=32296&program_id=2737833 \nCIT Program – https://register.capturepoint.com/reg/cat_program_list_detail.cfm?season_id=32296&program_id=2737834 \nHalf Day Camp BBES Students Only – https://register.capturepoint.com/reg/cat_program_list_detail.cfm?season_id=32296&program_id=2737835
URL:https://www.bradleybeachnj.gov/event/summer-camp-registration-opens-for-all/
LOCATION:NJ
CATEGORIES:Recreation Calendar
END:VEVENT
BEGIN:VEVENT
DTSTART;TZID=America/New_York:20260328T120000
DTEND;TZID=America/New_York:20260328T130000
DTSTAMP:20260423T050612
CREATED:20260317T161038Z
LAST-MODIFIED:20260317T161038Z
UID:10002341-1774699200-1774702800@www.bradleybeachnj.gov
SUMMARY:Bradley Beach Fire Departments Annual Easter Egg Hunt
DESCRIPTION:
URL:https://www.bradleybeachnj.gov/event/bradley-beach-fire-departments-annual-easter-egg-hunt/
LOCATION:Newark Ave Beach
CATEGORIES:Community Events Calendar
ATTACH;FMTTYPE=image/png:https://www.bradleybeachnj.gov/wp-content/uploads/2026/03/March-28th.png
END:VEVENT
END:VCALENDAR