BEGIN:VCALENDAR
VERSION:2.0
PRODID:-//Bradley Beach - ECPv6.15.18//NONSGML v1.0//EN
CALSCALE:GREGORIAN
METHOD:PUBLISH
X-WR-CALNAME:Bradley Beach
X-ORIGINAL-URL:https://www.bradleybeachnj.gov
X-WR-CALDESC:Events for Bradley Beach
REFRESH-INTERVAL;VALUE=DURATION:PT1H
X-Robots-Tag:noindex
X-PUBLISHED-TTL:PT1H
BEGIN:VTIMEZONE
TZID:America/New_York
BEGIN:DAYLIGHT
TZOFFSETFROM:-0500
TZOFFSETTO:-0400
TZNAME:EDT
DTSTART:20240310T070000
END:DAYLIGHT
BEGIN:STANDARD
TZOFFSETFROM:-0400
TZOFFSETTO:-0500
TZNAME:EST
DTSTART:20241103T060000
END:STANDARD
BEGIN:DAYLIGHT
TZOFFSETFROM:-0500
TZOFFSETTO:-0400
TZNAME:EDT
DTSTART:20250309T070000
END:DAYLIGHT
BEGIN:STANDARD
TZOFFSETFROM:-0400
TZOFFSETTO:-0500
TZNAME:EST
DTSTART:20251102T060000
END:STANDARD
BEGIN:DAYLIGHT
TZOFFSETFROM:-0500
TZOFFSETTO:-0400
TZNAME:EDT
DTSTART:20260308T070000
END:DAYLIGHT
BEGIN:STANDARD
TZOFFSETFROM:-0400
TZOFFSETTO:-0500
TZNAME:EST
DTSTART:20261101T060000
END:STANDARD
END:VTIMEZONE
BEGIN:VEVENT
DTSTART;TZID=America/New_York:20250912T130000
DTEND;TZID=America/New_York:20250912T150000
DTSTAMP:20260423T192522
CREATED:20250409T133333Z
LAST-MODIFIED:20250409T133333Z
UID:10001835-1757682000-1757689200@www.bradleybeachnj.gov
SUMMARY:Mah Jong Open Play
DESCRIPTION:
URL:https://www.bradleybeachnj.gov/event/mah-jong-open-play/2025-09-12/
LOCATION:Carmen Biase Center\, 719 Main St\, Bradley Beach\, NJ\, 07720\, United States
CATEGORIES:Recreation Calendar
END:VEVENT
BEGIN:VEVENT
DTSTART;TZID=America/New_York:20250908T180000
DTEND;TZID=America/New_York:20250908T180000
DTSTAMP:20260423T192522
CREATED:20250829T222051Z
LAST-MODIFIED:20250910T181455Z
UID:10001894-1757354400-1757354400@www.bradleybeachnj.gov
SUMMARY:9-8-25 Special Council Meeting to discuss Sylvan Lake & Bradley Boulevard Improvements
DESCRIPTION:701 Main Street \n9-8-25 Special Council Meeting Youtube live stream video link: \nhttps://www.youtube.com/live/qMTG8oTJRBE?si=L4Om4VGxyGR1idwp \n9-8-25 Special Council Meeting Agenda \nResolution 2025-295 Approving Plans for Sylvan Lake and Bradley Blvd Improvements (9.8.25) \n  \nIn accordance with the provisions of the Open Public Meetings Act\, N.J.S.A. 10:4-6 to 10:4-21\, we are informing you that the Borough of Bradley Beach will hold a Special Council Meeting to discuss Sylvan Lake and Bradley Boulevard Improvements on Monday\, September 8\, 2025 at 6:00 p.m. at Borough Hall\, 701 Main Street\, Bradley Beach\, NJ 07720 this will be an in person meeting only and formal action will be taken. \nThe meeting will  be streamed live on the regular YouTube Board Meeting Channel for public viewing only.  \nhttps://www.youtube.com/channel/UCrn8buRB6-0XVnSbhBYnHDg/videos \nErica Kostyz\, RMC\, CMR\nMunicipal Clerk
URL:https://www.bradleybeachnj.gov/event/9-8-25-special-council-meeting-to-discuss-sylvan-lake-bradley-boulevard-improvements/
LOCATION:NJ
CATEGORIES:Borough Meetings
END:VEVENT
BEGIN:VEVENT
DTSTART;TZID=America/New_York:20250905T130000
DTEND;TZID=America/New_York:20250905T150000
DTSTAMP:20260423T192522
CREATED:20250409T133333Z
LAST-MODIFIED:20250409T133333Z
UID:10001834-1757077200-1757084400@www.bradleybeachnj.gov
SUMMARY:Mah Jong Open Play
DESCRIPTION:
URL:https://www.bradleybeachnj.gov/event/mah-jong-open-play/2025-09-05/
LOCATION:Carmen Biase Center\, 719 Main St\, Bradley Beach\, NJ\, 07720\, United States
CATEGORIES:Recreation Calendar
END:VEVENT
BEGIN:VEVENT
DTSTART;TZID=America/New_York:20250902T183000
DTEND;TZID=America/New_York:20250902T183000
DTSTAMP:20260423T192522
CREATED:20241218T155556Z
LAST-MODIFIED:20250903T015952Z
UID:10001754-1756837800-1756837800@www.bradleybeachnj.gov
SUMMARY:Council Business Meeting
DESCRIPTION:701 Main Street\, Bradley Beach \n9-2-25 Council Business Meeting Hybrid Video \nhttps://youtu.be/7cYtrgzOKdY \n9-2-25 Council Business Meeting Agenda \nResolution 2025-280 Probationary Police Officer Appointment – Stephen Scott \nProclamation – September 11th Remembrance Day \nBond Ordinance 2025-26 Sanitary Sewer Improvements NJIB PROJECT (Adoption 9.2.25) \nBond Ordinance 2025-29 Beach Bathrooms & Concession 54 Ocean Avenue (Adoption 9.2.25) \nOrdinance 2025-30 Amending Chap 398 (Streets & Sidewalks) to Clarify Apps and Inspects for Sidewalk Repairs (Adoption 9.2.25) \n9-2-25 Full-Time Employee Memo \nResolution 2025-281 Approval of a Block Party on Second Avenue \nResolution 2025-282 Approval of an Outdoor Cafe License for Skratch Kitchen \nResolution 2025-283 Approval of a Lien Redemption Refund for 906 Main Street \nResolution 2025-284 Adopting the Monmouth County Hazard Mitigation Plan 2026 \nResolution 2025-285 Adopting an updated Emergency Operations Plan and Mutual Aid Assistance Agreement \nResolution 2025-286 Award of Professional Engineering Services for Sanitary Sewer Improvements Ocean Park Avenue (CME) \nResolution 2025-287 Award of Professional Engineering Services for Promenade Extension Phase I (CME) \nResolution 2025-288 Award of Bid for the Recreation Center Park Improvements \nResolution 2025-289 Approving Fair & Open Contract with Phoenix Advisors\, LLC for Sewer Utility Financial Analysis (9.2.25) \nResolution 2025-290 Approving Hingston Litigation Amended Settlement Agreement (9.2.25) \nResolution 2025-291 Approving NJDOT Agreements for ADA Ramp at Main St and Lareine Ave (9.2.25) \nResolution 2025-292 Authorizing Execution of Subdivision Plat for 315-317-321 Lareine Ave and 606 Madison Ave (9.2.25) \nResolution 2025-293 Authorizing Open Public Auction of 315-317-321 Lareine Ave and 606 Madison Ave (9.2.25) \nResolution 2025-294 Bill List for September 2\, 2025 \n  \nIn accordance with the provisions of the Open Public Meetings Act\, N.J.S.A 10:4-6 to 10:4-21\, the Borough of Bradley Beach will hold their Council Business Meeting thereafter on Tuesday\, September 2\, 2025 at 6:30 p.m. This will be a Hybrid Meeting and may be attended both in person\, Zoom\, and to include other online streaming services from the Meeting Room\, 701 Main Street\, Bradley Beach\, NJ 07720. Formal action will be taken. \nPlease be advised public attendance for meetings through Zoom is a courtesy only. If for any reason Zoom fails or is disconnected\, the in-person meeting will continue without interruption\, and action can and will be taken providing there is an in-person Council Quorum. \nTopic: September 2\, 2025 Council Business Meeting\nTime: 6:30 P.M. Eastern Time (US and Canada) \nJoin Zoom Meeting\nhttps://us06web.zoom.us/j/84872141857?pwd=doqaNA2EVReeqa4wm0ijTaQbjNhIqS.1 \nMeeting ID: 848 7214 1857\nPasscode: 342621 \nOne tap mobile\n+16469313860\,\,84872141857#\,\,\,\,*342621# US\n+13017158592\,\,84872141857#\,\,\,\,*342621# US (Washington DC) \nJoin instructions\nhttps://us06web.zoom.us/meetings/84872141857/invitations?signature=9VAXG5AzpFHxwqbKDSSkGc97l6Az6Kzore9UFexea_A \nThe meeting also will be streamed live on our regular YouTube Board Meeting Channel for public viewing only.  \nhttps://www.youtube.com/channel/UCrn8buRB6-0XVnSbhBYnHDg/videos \nErica Kostyz\, RMC\, CMR\nMunicipal Clerk \n  \n  \n 
URL:https://www.bradleybeachnj.gov/event/council-business-meeting-52/
LOCATION:NJ
CATEGORIES:Borough Meetings
END:VEVENT
BEGIN:VEVENT
DTSTART;TZID=America/New_York:20250830T180000
DTEND;TZID=America/New_York:20250830T200000
DTSTAMP:20260423T192522
CREATED:20250616T121254Z
LAST-MODIFIED:20250616T121254Z
UID:10001626-1756576800-1756584000@www.bradleybeachnj.gov
SUMMARY:Saturdays in the Park Summer Concert Series
DESCRIPTION:Bradley Beach Tourism Commission presents its 2025 event series! Click here for more information and full schedule! 
URL:https://www.bradleybeachnj.gov/event/saturdays-in-the-park-summer-concert-series/2025-08-30/
LOCATION:Riley Park
CATEGORIES:Community Events Calendar,Tourism Event Calendar
ATTACH;FMTTYPE=image/jpeg:https://www.bradleybeachnj.gov/wp-content/uploads/2025/06/484831323_1072046661633837_6300664257229449924_n.jpg
END:VEVENT
BEGIN:VEVENT
DTSTART;TZID=America/New_York:20250829T130000
DTEND;TZID=America/New_York:20250829T150000
DTSTAMP:20260423T192522
CREATED:20250409T133333Z
LAST-MODIFIED:20250409T133333Z
UID:10001833-1756472400-1756479600@www.bradleybeachnj.gov
SUMMARY:Mah Jong Open Play
DESCRIPTION:
URL:https://www.bradleybeachnj.gov/event/mah-jong-open-play/2025-08-29/
LOCATION:Carmen Biase Center\, 719 Main St\, Bradley Beach\, NJ\, 07720\, United States
CATEGORIES:Recreation Calendar
END:VEVENT
BEGIN:VEVENT
DTSTART;TZID=America/New_York:20250827T190000
DTEND;TZID=America/New_York:20250827T210000
DTSTAMP:20260423T192522
CREATED:20250616T121038Z
LAST-MODIFIED:20250616T121038Z
UID:10001617-1756321200-1756328400@www.bradleybeachnj.gov
SUMMARY:Summer Jazz Series
DESCRIPTION:Bradley Beach Tourism Commission presents its 2025 event series! Click here for more information and full schedule! 
URL:https://www.bradleybeachnj.gov/event/summer-jazz-series/2025-08-27/
LOCATION:Riley Park
CATEGORIES:Community Events Calendar,Tourism Event Calendar
ATTACH;FMTTYPE=image/png:https://www.bradleybeachnj.gov/wp-content/uploads/2025/06/Screenshot-2025-03-18-at-8.51.08 AM.png
END:VEVENT
BEGIN:VEVENT
DTSTART;TZID=America/New_York:20250826T180000
DTEND;TZID=America/New_York:20250826T210000
DTSTAMP:20260423T192522
CREATED:20250616T123857Z
LAST-MODIFIED:20250616T123857Z
UID:10001882-1756231200-1756242000@www.bradleybeachnj.gov
SUMMARY:Swing Dance Lessons
DESCRIPTION:
URL:https://www.bradleybeachnj.gov/event/swing-dance-lessons-5/
LOCATION:5th Ave Gazebo\, 5th ave\, Bradley Beach\, New Jersey\, 07720
CATEGORIES:Community Events Calendar,Tourism Event Calendar
ATTACH;FMTTYPE=image/jpeg:https://www.bradleybeachnj.gov/wp-content/uploads/2025/06/481771086_507248859093621_1129014446046113987_n.jpg
END:VEVENT
BEGIN:VEVENT
DTSTART;TZID=America/New_York:20250823T180000
DTEND;TZID=America/New_York:20250823T200000
DTSTAMP:20260423T192522
CREATED:20250616T121254Z
LAST-MODIFIED:20250616T121254Z
UID:10001625-1755972000-1755979200@www.bradleybeachnj.gov
SUMMARY:Saturdays in the Park Summer Concert Series
DESCRIPTION:Bradley Beach Tourism Commission presents its 2025 event series! Click here for more information and full schedule! 
URL:https://www.bradleybeachnj.gov/event/saturdays-in-the-park-summer-concert-series/2025-08-23/
LOCATION:Riley Park
CATEGORIES:Community Events Calendar,Tourism Event Calendar
ATTACH;FMTTYPE=image/jpeg:https://www.bradleybeachnj.gov/wp-content/uploads/2025/06/484831323_1072046661633837_6300664257229449924_n.jpg
END:VEVENT
BEGIN:VEVENT
DTSTART;TZID=America/New_York:20250823T090000
DTEND;TZID=America/New_York:20250823T100000
DTSTAMP:20260423T192522
CREATED:20250814T134349Z
LAST-MODIFIED:20250814T134349Z
UID:10001887-1755939600-1755943200@www.bradleybeachnj.gov
SUMMARY:MWC Hydration for your health
DESCRIPTION:
URL:https://www.bradleybeachnj.gov/event/mwc-hydration-for-your-health/
LOCATION:NJ
CATEGORIES:Borough Calendar
END:VEVENT
BEGIN:VEVENT
DTSTART;TZID=America/New_York:20250822T130000
DTEND;TZID=America/New_York:20250822T150000
DTSTAMP:20260423T192522
CREATED:20250409T133333Z
LAST-MODIFIED:20250409T133333Z
UID:10001832-1755867600-1755874800@www.bradleybeachnj.gov
SUMMARY:Mah Jong Open Play
DESCRIPTION:
URL:https://www.bradleybeachnj.gov/event/mah-jong-open-play/2025-08-22/
LOCATION:Carmen Biase Center\, 719 Main St\, Bradley Beach\, NJ\, 07720\, United States
CATEGORIES:Recreation Calendar
END:VEVENT
BEGIN:VEVENT
DTSTART;TZID=America/New_York:20250821T183000
DTEND;TZID=America/New_York:20250821T183000
DTSTAMP:20260423T192522
CREATED:20250212T205848Z
LAST-MODIFIED:20250212T205848Z
UID:10001775-1755801000-1755801000@www.bradleybeachnj.gov
SUMMARY:Land Use Board Regular Meeting
DESCRIPTION:
URL:https://www.bradleybeachnj.gov/event/land-use-board-regular-meeting-20/
LOCATION:Borough Hall Meeting Room\, 701 Main Street\, Bradley Beach\, NJ\, 07720\, United States
CATEGORIES:Borough Meetings
END:VEVENT
BEGIN:VEVENT
DTSTART;TZID=America/New_York:20250820T190000
DTEND;TZID=America/New_York:20250820T210000
DTSTAMP:20260423T192522
CREATED:20250616T121038Z
LAST-MODIFIED:20250616T121038Z
UID:10001616-1755716400-1755723600@www.bradleybeachnj.gov
SUMMARY:Summer Jazz Series
DESCRIPTION:Bradley Beach Tourism Commission presents its 2025 event series! Click here for more information and full schedule! 
URL:https://www.bradleybeachnj.gov/event/summer-jazz-series/2025-08-20/
LOCATION:Riley Park
CATEGORIES:Community Events Calendar,Tourism Event Calendar
ATTACH;FMTTYPE=image/png:https://www.bradleybeachnj.gov/wp-content/uploads/2025/06/Screenshot-2025-03-18-at-8.51.08 AM.png
END:VEVENT
BEGIN:VEVENT
DTSTART;TZID=America/New_York:20250819T183000
DTEND;TZID=America/New_York:20250819T183000
DTSTAMP:20260423T192522
CREATED:20241218T155431Z
LAST-MODIFIED:20250820T004702Z
UID:10001753-1755628200-1755628200@www.bradleybeachnj.gov
SUMMARY:Council Business Meeting
DESCRIPTION:701 Main Street\, Bradley Beach \n8-19-25 Council Business Meeting Hybrid Video \nhttps://youtu.be/7ZET23m-rwg \n8-19-25 Council Business Meeting Agenda (REVISED) \nProclamation – Turn the Towns Teal \nBond Ordinance 2025-26 Sanitary Sewer Improvements NJIB Project (Intro 8.19.25) \nBond Ordinance 2025-29 Beach Bathrooms & Concession 54 Ocean Avenue (Intro 8.19.25) \nOrdinance 2025-30 Amending Chap 398 Streets & Sidewalks to Clarify Applications and Inspections for Sidewalk Repairs (Intro on 8.19.25) \nOrdinance 2025-28 Amending Chap 286 (Solid Waste) to Specify Times for Bulk Waste Collection (Adopt on 8.19.25) \nResolution 2025-271 Approval of Outdoor Cafe License for LaFogata Ideal\, LLC \nResolution 2025-272 Approving a Special Event Application for D’Arcy’s Tavern allowing Live Outdoor Music for 8-31-25 \nResolution 2025-273 Amendment to Resolution 2025-263 Appointing a Part-Time Construction Official Bryant Curry \nResolution 2025-274 Approval of Amendments to SSA with Avon for The Sylvan Lake Control Gate \nResolution 2025-275 Supporting the NJ Climate Superfund Act \nResolution 2025-276 Sick Time Payout to Retired Police Chief Leonard Guida \nResolution 2025-277 Rejection of Bids for Recreation Center Improvements & Authorizing to Advertise for Rebid. \nResolution 2025-278 Appointing Kelly L. Hellwig Municipal Court Administrator \nResolution 2025-279 Bill List August 19\, 2025 \nIn accordance with the provisions of the Open Public Meetings Act\, N.J.S.A 10:4-6 to 10:4-21\, the Borough of Bradley Beach will hold their Council Business Meeting thereafter on Tuesday\, August 19\, 2025 at 6:30 p.m. This will be a Hybrid Meeting and may be attended both in person\, Zoom\, and to include other online streaming services from the Meeting Room\, 701 Main Street\, Bradley Beach\, NJ 07720. Formal action will be taken. \nPlease be advised public attendance for meetings through Zoom is a courtesy only. If for any reason Zoom fails or is disconnected\, the in-person meeting will continue without interruption\, and action can and will be taken providing there is an in-person Council Quorum. \nTopic: August 19\, 2025 Council Business Meeting\nTime: 6:30 P.M. Eastern Time (US and Canada) \nJoin Zoom Meeting\nhttps://us06web.zoom.us/j/82589015572?pwd=5iEno4vj6kU8kixSDyFJZao1QUl8bG.1 \nMeeting ID: 825 8901 5572\nPasscode: 721022 \nOne tap mobile\n+13092053325\,\,82589015572#\,\,\,\,*721022# US\n+13126266799\,\,82589015572#\,\,\,\,*721022# US (Chicago) \nJoin instructions\nhttps://us06web.zoom.us/meetings/82589015572/invitations?signature=E3WUVpmtr674irkTyXnnu80Fskui2eCi-b5A3bfFBcc \nThe meeting also will be streamed live on our regular YouTube Board Meeting Channel for public viewing only.  \nhttps://www.youtube.com/channel/UCrn8buRB6-0XVnSbhBYnHDg/videos \nErica Kostyz\, RMC\, CMR\nMunicipal Clerk
URL:https://www.bradleybeachnj.gov/event/council-business-meeting-51/
LOCATION:NJ
CATEGORIES:Borough Meetings
END:VEVENT
BEGIN:VEVENT
DTSTART;TZID=America/New_York:20250819T180000
DTEND;TZID=America/New_York:20250819T200000
DTSTAMP:20260423T192522
CREATED:20250616T122610Z
LAST-MODIFIED:20250616T122610Z
UID:10001637-1755626400-1755633600@www.bradleybeachnj.gov
SUMMARY:Country Line Dance Lessons
DESCRIPTION:
URL:https://www.bradleybeachnj.gov/event/country-line-dance-lessons-5/
LOCATION:5th Ave Gazebo\, 5th ave\, Bradley Beach\, New Jersey\, 07720
CATEGORIES:Community Events Calendar,Tourism Event Calendar
ATTACH;FMTTYPE=image/jpeg:https://www.bradleybeachnj.gov/wp-content/uploads/2025/06/499243544_122198017064106976_6073492526588553111_n-1.jpg
END:VEVENT
BEGIN:VEVENT
DTSTART;TZID=America/New_York:20250819T113000
DTEND;TZID=America/New_York:20250819T170000
DTSTAMP:20260423T192522
CREATED:20250814T134819Z
LAST-MODIFIED:20250814T134819Z
UID:10001888-1755603000-1755622800@www.bradleybeachnj.gov
SUMMARY:Bradley Beach Community Blood Drive
DESCRIPTION:
URL:https://www.bradleybeachnj.gov/event/bradley-beach-community-blood-drive/
LOCATION:NJ
CATEGORIES:Borough Calendar
END:VEVENT
BEGIN:VEVENT
DTSTART;TZID=America/New_York:20250818T180000
DTEND;TZID=America/New_York:20250818T200000
DTSTAMP:20260423T192522
CREATED:20250616T120637Z
LAST-MODIFIED:20250616T120637Z
UID:10001880-1755540000-1755547200@www.bradleybeachnj.gov
SUMMARY:Opera by the Sea
DESCRIPTION:Bradley Beach Tourism Commission presents its 2025 event series! Click here for more information and full schedule! 
URL:https://www.bradleybeachnj.gov/event/opera-by-the-sea-4/
LOCATION:5th Ave Gazebo\, 5th ave\, Bradley Beach\, New Jersey\, 07720
CATEGORIES:Community Events Calendar,Tourism Event Calendar
ATTACH;FMTTYPE=image/jpeg:https://www.bradleybeachnj.gov/wp-content/uploads/2025/06/483525219_1070634365108400_4744757387917178191_n-1.jpg
END:VEVENT
BEGIN:VEVENT
DTSTART;TZID=America/New_York:20250817T180000
DTEND;TZID=America/New_York:20250817T200000
DTSTAMP:20260423T192522
CREATED:20250520T140832Z
LAST-MODIFIED:20250808T132546Z
UID:10001872-1755453600-1755460800@www.bradleybeachnj.gov
SUMMARY:Back to School BINGO
DESCRIPTION:
URL:https://www.bradleybeachnj.gov/event/back-to-school-bingo-4/
LOCATION:Bradley Beach Rec Center\, 39 1/2 Main St\, Bradley Beach\, NJ\, 07720\, United States
CATEGORIES:Recreation Calendar
END:VEVENT
BEGIN:VEVENT
DTSTART;TZID=America/New_York:20250817T170000
DTEND;TZID=America/New_York:20250817T180000
DTSTAMP:20260423T192522
CREATED:20250606T130258Z
LAST-MODIFIED:20250808T132359Z
UID:10001876-1755450000-1755453600@www.bradleybeachnj.gov
SUMMARY:Jack Tar Brass Band
DESCRIPTION:
URL:https://www.bradleybeachnj.gov/event/jack-tar-brass-band/
LOCATION:Riley Park
CATEGORIES:Borough Calendar
ATTACH;FMTTYPE=image/png:https://www.bradleybeachnj.gov/wp-content/uploads/2025/07/Untitled-design-9.png
END:VEVENT
BEGIN:VEVENT
DTSTART;TZID=America/New_York:20250816T180000
DTEND;TZID=America/New_York:20250816T200000
DTSTAMP:20260423T192522
CREATED:20250616T121254Z
LAST-MODIFIED:20250616T121254Z
UID:10001624-1755367200-1755374400@www.bradleybeachnj.gov
SUMMARY:Saturdays in the Park Summer Concert Series
DESCRIPTION:Bradley Beach Tourism Commission presents its 2025 event series! Click here for more information and full schedule! 
URL:https://www.bradleybeachnj.gov/event/saturdays-in-the-park-summer-concert-series/2025-08-16/
LOCATION:Riley Park
CATEGORIES:Community Events Calendar,Tourism Event Calendar
ATTACH;FMTTYPE=image/jpeg:https://www.bradleybeachnj.gov/wp-content/uploads/2025/06/484831323_1072046661633837_6300664257229449924_n.jpg
END:VEVENT
BEGIN:VEVENT
DTSTART;TZID=America/New_York:20250815T130000
DTEND;TZID=America/New_York:20250815T150000
DTSTAMP:20260423T192522
CREATED:20250409T133333Z
LAST-MODIFIED:20250409T133333Z
UID:10001831-1755262800-1755270000@www.bradleybeachnj.gov
SUMMARY:Mah Jong Open Play
DESCRIPTION:
URL:https://www.bradleybeachnj.gov/event/mah-jong-open-play/2025-08-15/
LOCATION:Carmen Biase Center\, 719 Main St\, Bradley Beach\, NJ\, 07720\, United States
CATEGORIES:Recreation Calendar
END:VEVENT
BEGIN:VEVENT
DTSTART;TZID=America/New_York:20250813T190000
DTEND;TZID=America/New_York:20250813T210000
DTSTAMP:20260423T192522
CREATED:20250616T121038Z
LAST-MODIFIED:20250616T121038Z
UID:10001615-1755111600-1755118800@www.bradleybeachnj.gov
SUMMARY:Summer Jazz Series
DESCRIPTION:Bradley Beach Tourism Commission presents its 2025 event series! Click here for more information and full schedule! 
URL:https://www.bradleybeachnj.gov/event/summer-jazz-series/2025-08-13/
LOCATION:Riley Park
CATEGORIES:Community Events Calendar,Tourism Event Calendar
ATTACH;FMTTYPE=image/png:https://www.bradleybeachnj.gov/wp-content/uploads/2025/06/Screenshot-2025-03-18-at-8.51.08 AM.png
END:VEVENT
BEGIN:VEVENT
DTSTART;TZID=America/New_York:20250812T180000
DTEND;TZID=America/New_York:20250812T210000
DTSTAMP:20260423T192522
CREATED:20250616T123808Z
LAST-MODIFIED:20250616T123808Z
UID:10001881-1755021600-1755032400@www.bradleybeachnj.gov
SUMMARY:Swing Dance Lessons
DESCRIPTION:
URL:https://www.bradleybeachnj.gov/event/swing-dance-lessons-4/
LOCATION:5th Ave Gazebo\, 5th ave\, Bradley Beach\, New Jersey\, 07720
CATEGORIES:Community Events Calendar,Tourism Event Calendar
ATTACH;FMTTYPE=image/jpeg:https://www.bradleybeachnj.gov/wp-content/uploads/2025/06/481771086_507248859093621_1129014446046113987_n.jpg
END:VEVENT
BEGIN:VEVENT
DTSTART;TZID=America/New_York:20250809T180000
DTEND;TZID=America/New_York:20250809T200000
DTSTAMP:20260423T192522
CREATED:20250616T121254Z
LAST-MODIFIED:20250616T121254Z
UID:10001623-1754762400-1754769600@www.bradleybeachnj.gov
SUMMARY:Saturdays in the Park Summer Concert Series
DESCRIPTION:Bradley Beach Tourism Commission presents its 2025 event series! Click here for more information and full schedule! 
URL:https://www.bradleybeachnj.gov/event/saturdays-in-the-park-summer-concert-series/2025-08-09/
LOCATION:Riley Park
CATEGORIES:Community Events Calendar,Tourism Event Calendar
ATTACH;FMTTYPE=image/jpeg:https://www.bradleybeachnj.gov/wp-content/uploads/2025/06/484831323_1072046661633837_6300664257229449924_n.jpg
END:VEVENT
BEGIN:VEVENT
DTSTART;TZID=America/New_York:20250808T130000
DTEND;TZID=America/New_York:20250808T150000
DTSTAMP:20260423T192522
CREATED:20250409T133333Z
LAST-MODIFIED:20250409T133333Z
UID:10001830-1754658000-1754665200@www.bradleybeachnj.gov
SUMMARY:Mah Jong Open Play
DESCRIPTION:
URL:https://www.bradleybeachnj.gov/event/mah-jong-open-play/2025-08-08/
LOCATION:Carmen Biase Center\, 719 Main St\, Bradley Beach\, NJ\, 07720\, United States
CATEGORIES:Recreation Calendar
END:VEVENT
BEGIN:VEVENT
DTSTART;TZID=America/New_York:20250806T190000
DTEND;TZID=America/New_York:20250806T210000
DTSTAMP:20260423T192522
CREATED:20250616T121038Z
LAST-MODIFIED:20250616T121038Z
UID:10001614-1754506800-1754514000@www.bradleybeachnj.gov
SUMMARY:Summer Jazz Series
DESCRIPTION:Bradley Beach Tourism Commission presents its 2025 event series! Click here for more information and full schedule! 
URL:https://www.bradleybeachnj.gov/event/summer-jazz-series/2025-08-06/
LOCATION:Riley Park
CATEGORIES:Community Events Calendar,Tourism Event Calendar
ATTACH;FMTTYPE=image/png:https://www.bradleybeachnj.gov/wp-content/uploads/2025/06/Screenshot-2025-03-18-at-8.51.08 AM.png
END:VEVENT
BEGIN:VEVENT
DTSTART;TZID=America/New_York:20250805T180000
DTEND;TZID=America/New_York:20250805T200000
DTSTAMP:20260423T192522
CREATED:20250616T122516Z
LAST-MODIFIED:20250616T122516Z
UID:10001635-1754416800-1754424000@www.bradleybeachnj.gov
SUMMARY:Country Line Dance Lessons
DESCRIPTION:
URL:https://www.bradleybeachnj.gov/event/country-line-dance-lessons-4/
LOCATION:5th Ave Gazebo\, 5th ave\, Bradley Beach\, New Jersey\, 07720
CATEGORIES:Community Events Calendar,Tourism Event Calendar
ATTACH;FMTTYPE=image/jpeg:https://www.bradleybeachnj.gov/wp-content/uploads/2025/06/499243544_122198017064106976_6073492526588553111_n-1.jpg
END:VEVENT
BEGIN:VEVENT
DTSTART;TZID=America/New_York:20250805T160000
DTEND;TZID=America/New_York:20250805T160000
DTSTAMP:20260423T192522
CREATED:20241218T155312Z
LAST-MODIFIED:20250806T011442Z
UID:10001752-1754409600-1754409600@www.bradleybeachnj.gov
SUMMARY:Council Business Meeting *Time change to 4:00 p.m.*
DESCRIPTION:701 Main Street\, Bradley Beach \nPlease note\, the start time for this meeting has been changed to 4:00 p.m. \n8-5-25 Council Meeting Hybrid Video \nhttps://youtu.be/u6LhvnrLBX8 \n8-5-25 Council Meeting Agenda \nBond Ordinance 2025-26 Sanitary Sewer Improvements NJIB Project (Intro 8-5-25) \nOrdinance 2025-27 Amending Chapter 450 (Zoning) to Prohibit Front Yard Fences (INTRO on 8.5.25) \nOrdinance 2025-28 Amending Chap 286 (Solid Waste) to Specify Times for Bulk Waste Collection (INTRO on 8.5.25) \nOrdinance 2025-20 Amending Chapter 450 (Zoning) to Permit Residential Ribbon Driveways (Adopt on 8.5.25) \nOrdinance 2025-22 Amending Chap 9 (Traffic) to Share Borough Hall Parking ( Adopt 8.5.25) \nBond Ordinance 2025-23 Ocean Park Avenue Sanitary Sewer Improvements (Adopt 8.5.25) \nOrdinance 2025-24 Amending Chap 330 (Parking) to Prohibit Large Vehicles and Trailers in Front Yards (Adopt 8.5.25) \nOrdinance 2025-25 Amending Chap 5 (Admin of Govt) to Provide Flexibility in Police Hiring (For Adoption on 8.5.25) \nResolution 2025-254 Approval of Off-Premises BBPTA Off-Premises Raffle License \nResolution 2025-255 Approval of On-Premises Raffle License for Kaleidoscope of Hope Foundation \nResolution 2025-256 Approval of Outdoor Cafe License for Bamboo Leaf Thai Eatery \nResolution 2025-257 Approval of Outdoor Cafe License for Elbow Room Bar & Kitchen \nResolution 2025-258 Approval of Outdoor Cafe License for Fins-TropiCali Cuisine \nResolution 2025-259 Approval of Outdoor Cafe License for Hatch 44 Cafe \nResolution 2025-260 Approval of Outdoor Cafe License for Brooklyn Square \nResolution 2025-261 Appointment of Class II SLEO Stephen Scott \nResolution 2025-262 Authorizing cancellation of Tax Charges for 603 Brinley Avenue \nResolution 2025-225 Award of Bid for Fifth Avenue Sanitary Sewer Improvements Phase I (Tabled 6-18-25) \nResolution 2025-263 Appointing Bryant Curry as a Part-Time Construction Official & Fire Sub-Code Official \nResolution 2025-264 Amendment to Resolution 2025-209 Route 71 (Main Street) Speed Limit Reduction \nResolution 2025-265 Approval of a Shared Services Agreement between Bradley Beach DPW & BBES for Seasonal Grounds Maintenance Services \nResolution 2025-266 Approval of a Shared Service Agreement between Bradley Beach and Avon for Sylvan Lake Control Gate Replacement \nResolution 2025-267 Sewer Chimney Emergency Repair 200 Block Ocean Park Avenue 7.28.25 \nResolution 2025-268 Authorize Advertisement of Bids for Ocean Park Avenue Sewer Replacement \nResolution 2025-269 Bill List for 8-5-25 \n  \nIn accordance with the provisions of the Open Public Meetings Act\, N.J.S.A 10:4-6 to 10:4-21\, the Borough of Bradley Beach will hold their Budget Amendment Introduction Public Hearing & Council Business Meeting thereafter on Tuesday\, August 5\, 2025 at 4:00 p.m. This will be a Hybrid Meeting and may be attended both in person and through Zoom\, to include streaming services and other online meeting platforms from the Meeting Room\, 701 Main Street\, Bradley Beach\, NJ 07720. Formal action will be taken. \nAs a courtesy only to the public this meeting may be attended via Zoom. If for any reason Zoom fails or is disconnected\, the in-person meeting will continue without interruption\, and action can and will be taken providing there is an in-person Council Quorum. \nTopic: August 5\, 2025 Council Business Meeting\nTime: 4:00 P.M. Eastern Time (US and Canada)\nBorough of Bradley Beach is inviting you to a scheduled Zoom meeting. \nJoin Zoom Meeting\nhttps://us06web.zoom.us/j/88913319837?pwd=I8UeFa0v0fP4yXfdJgVXpY0oe1F0Lr.1 \nMeeting ID: 889 1331 9837\nPasscode: 277396 \nFind your local number: https://us06web.zoom.us/u/kcrYEIDvcJ \nThe meeting also will be streamed live on our regular YouTube Board Meeting Channel for public viewing only. \nhttps://www.youtube.com/channel/UCrn8buRB6-0XVnSbhBYnHDg/videos \nErica Kostyz\, RMC\, CMR\nMunicipal Clerk \n  \n  \n  \n  \n  \n 
URL:https://www.bradleybeachnj.gov/event/council-business-meeting-50/
LOCATION:NJ
CATEGORIES:Borough Meetings
END:VEVENT
BEGIN:VEVENT
DTSTART;TZID=America/New_York:20250802T180000
DTEND;TZID=America/New_York:20250802T200000
DTSTAMP:20260423T192522
CREATED:20250616T121254Z
LAST-MODIFIED:20250616T121254Z
UID:10001622-1754157600-1754164800@www.bradleybeachnj.gov
SUMMARY:Saturdays in the Park Summer Concert Series
DESCRIPTION:Bradley Beach Tourism Commission presents its 2025 event series! Click here for more information and full schedule! 
URL:https://www.bradleybeachnj.gov/event/saturdays-in-the-park-summer-concert-series/2025-08-02/
LOCATION:Riley Park
CATEGORIES:Community Events Calendar,Tourism Event Calendar
ATTACH;FMTTYPE=image/jpeg:https://www.bradleybeachnj.gov/wp-content/uploads/2025/06/484831323_1072046661633837_6300664257229449924_n.jpg
END:VEVENT
BEGIN:VEVENT
DTSTART;TZID=America/New_York:20250801T130000
DTEND;TZID=America/New_York:20250801T150000
DTSTAMP:20260423T192522
CREATED:20250409T133333Z
LAST-MODIFIED:20250409T133333Z
UID:10001829-1754053200-1754060400@www.bradleybeachnj.gov
SUMMARY:Mah Jong Open Play
DESCRIPTION:
URL:https://www.bradleybeachnj.gov/event/mah-jong-open-play/2025-08-01/
LOCATION:Carmen Biase Center\, 719 Main St\, Bradley Beach\, NJ\, 07720\, United States
CATEGORIES:Recreation Calendar
END:VEVENT
END:VCALENDAR