BEGIN:VCALENDAR
VERSION:2.0
PRODID:-//Bradley Beach - ECPv6.15.18//NONSGML v1.0//EN
CALSCALE:GREGORIAN
METHOD:PUBLISH
X-WR-CALNAME:Bradley Beach
X-ORIGINAL-URL:https://www.bradleybeachnj.gov
X-WR-CALDESC:Events for Bradley Beach
REFRESH-INTERVAL;VALUE=DURATION:PT1H
X-Robots-Tag:noindex
X-PUBLISHED-TTL:PT1H
BEGIN:VTIMEZONE
TZID:America/New_York
BEGIN:DAYLIGHT
TZOFFSETFROM:-0500
TZOFFSETTO:-0400
TZNAME:EDT
DTSTART:20270314T070000
END:DAYLIGHT
BEGIN:STANDARD
TZOFFSETFROM:-0400
TZOFFSETTO:-0500
TZNAME:EST
DTSTART:20271107T060000
END:STANDARD
BEGIN:DAYLIGHT
TZOFFSETFROM:-0500
TZOFFSETTO:-0400
TZNAME:EDT
DTSTART:20280312T070000
END:DAYLIGHT
BEGIN:STANDARD
TZOFFSETFROM:-0400
TZOFFSETTO:-0500
TZNAME:EST
DTSTART:20281105T060000
END:STANDARD
BEGIN:DAYLIGHT
TZOFFSETFROM:-0500
TZOFFSETTO:-0400
TZNAME:EDT
DTSTART:20290311T070000
END:DAYLIGHT
BEGIN:STANDARD
TZOFFSETFROM:-0400
TZOFFSETTO:-0500
TZNAME:EST
DTSTART:20291104T060000
END:STANDARD
END:VTIMEZONE
BEGIN:VEVENT
DTSTART;TZID=America/New_York:20280204T130000
DTEND;TZID=America/New_York:20280204T150000
DTSTAMP:20260424T041300
CREATED:20260217T145947Z
LAST-MODIFIED:20260217T145947Z
UID:10002175-1833282000-1833289200@www.bradleybeachnj.gov
SUMMARY:Open Play Mahjong
DESCRIPTION:
URL:https://www.bradleybeachnj.gov/event/open-play-mahjong/2028-02-04/
LOCATION:Carmen Biase Center\, 719 Main St\, Bradley Beach\, NJ\, 07720\, United States
CATEGORIES:Recreation Calendar
END:VEVENT
BEGIN:VEVENT
DTSTART;TZID=America/New_York:20280211T130000
DTEND;TZID=America/New_York:20280211T150000
DTSTAMP:20260424T041300
CREATED:20260217T145947Z
LAST-MODIFIED:20260217T145947Z
UID:10002176-1833886800-1833894000@www.bradleybeachnj.gov
SUMMARY:Open Play Mahjong
DESCRIPTION:
URL:https://www.bradleybeachnj.gov/event/open-play-mahjong/2028-02-11/
LOCATION:Carmen Biase Center\, 719 Main St\, Bradley Beach\, NJ\, 07720\, United States
CATEGORIES:Recreation Calendar
END:VEVENT
BEGIN:VEVENT
DTSTART;TZID=America/New_York:20280218T130000
DTEND;TZID=America/New_York:20280218T150000
DTSTAMP:20260424T041300
CREATED:20260217T145947Z
LAST-MODIFIED:20260217T145947Z
UID:10002177-1834491600-1834498800@www.bradleybeachnj.gov
SUMMARY:Open Play Mahjong
DESCRIPTION:
URL:https://www.bradleybeachnj.gov/event/open-play-mahjong/2028-02-18/
LOCATION:Carmen Biase Center\, 719 Main St\, Bradley Beach\, NJ\, 07720\, United States
CATEGORIES:Recreation Calendar
END:VEVENT
BEGIN:VEVENT
DTSTART;TZID=America/New_York:20280225T130000
DTEND;TZID=America/New_York:20280225T150000
DTSTAMP:20260424T041300
CREATED:20260217T145947Z
LAST-MODIFIED:20260217T145947Z
UID:10002178-1835096400-1835103600@www.bradleybeachnj.gov
SUMMARY:Open Play Mahjong
DESCRIPTION:
URL:https://www.bradleybeachnj.gov/event/open-play-mahjong/2028-02-25/
LOCATION:Carmen Biase Center\, 719 Main St\, Bradley Beach\, NJ\, 07720\, United States
CATEGORIES:Recreation Calendar
END:VEVENT
BEGIN:VEVENT
DTSTART;TZID=America/New_York:20280303T130000
DTEND;TZID=America/New_York:20280303T150000
DTSTAMP:20260424T041300
CREATED:20260217T145947Z
LAST-MODIFIED:20260217T145947Z
UID:10002179-1835701200-1835708400@www.bradleybeachnj.gov
SUMMARY:Open Play Mahjong
DESCRIPTION:
URL:https://www.bradleybeachnj.gov/event/open-play-mahjong/2028-03-03/
LOCATION:Carmen Biase Center\, 719 Main St\, Bradley Beach\, NJ\, 07720\, United States
CATEGORIES:Recreation Calendar
END:VEVENT
BEGIN:VEVENT
DTSTART;TZID=America/New_York:20280310T130000
DTEND;TZID=America/New_York:20280310T150000
DTSTAMP:20260424T041300
CREATED:20260217T145947Z
LAST-MODIFIED:20260217T145947Z
UID:10002180-1836306000-1836313200@www.bradleybeachnj.gov
SUMMARY:Open Play Mahjong
DESCRIPTION:
URL:https://www.bradleybeachnj.gov/event/open-play-mahjong/2028-03-10/
LOCATION:Carmen Biase Center\, 719 Main St\, Bradley Beach\, NJ\, 07720\, United States
CATEGORIES:Recreation Calendar
END:VEVENT
BEGIN:VEVENT
DTSTART;TZID=America/New_York:20280317T130000
DTEND;TZID=America/New_York:20280317T150000
DTSTAMP:20260424T041300
CREATED:20260217T145947Z
LAST-MODIFIED:20260217T145947Z
UID:10002181-1836910800-1836918000@www.bradleybeachnj.gov
SUMMARY:Open Play Mahjong
DESCRIPTION:
URL:https://www.bradleybeachnj.gov/event/open-play-mahjong/2028-03-17/
LOCATION:Carmen Biase Center\, 719 Main St\, Bradley Beach\, NJ\, 07720\, United States
CATEGORIES:Recreation Calendar
END:VEVENT
BEGIN:VEVENT
DTSTART;TZID=America/New_York:20280324T130000
DTEND;TZID=America/New_York:20280324T150000
DTSTAMP:20260424T041300
CREATED:20260217T145947Z
LAST-MODIFIED:20260217T145947Z
UID:10002182-1837515600-1837522800@www.bradleybeachnj.gov
SUMMARY:Open Play Mahjong
DESCRIPTION:
URL:https://www.bradleybeachnj.gov/event/open-play-mahjong/2028-03-24/
LOCATION:Carmen Biase Center\, 719 Main St\, Bradley Beach\, NJ\, 07720\, United States
CATEGORIES:Recreation Calendar
END:VEVENT
BEGIN:VEVENT
DTSTART;TZID=America/New_York:20280331T130000
DTEND;TZID=America/New_York:20280331T150000
DTSTAMP:20260424T041300
CREATED:20260217T145947Z
LAST-MODIFIED:20260217T145947Z
UID:10002183-1838120400-1838127600@www.bradleybeachnj.gov
SUMMARY:Open Play Mahjong
DESCRIPTION:
URL:https://www.bradleybeachnj.gov/event/open-play-mahjong/2028-03-31/
LOCATION:Carmen Biase Center\, 719 Main St\, Bradley Beach\, NJ\, 07720\, United States
CATEGORIES:Recreation Calendar
END:VEVENT
BEGIN:VEVENT
DTSTART;TZID=America/New_York:20280407T130000
DTEND;TZID=America/New_York:20280407T150000
DTSTAMP:20260424T041300
CREATED:20260217T145947Z
LAST-MODIFIED:20260217T145947Z
UID:10002184-1838725200-1838732400@www.bradleybeachnj.gov
SUMMARY:Open Play Mahjong
DESCRIPTION:
URL:https://www.bradleybeachnj.gov/event/open-play-mahjong/2028-04-07/
LOCATION:Carmen Biase Center\, 719 Main St\, Bradley Beach\, NJ\, 07720\, United States
CATEGORIES:Recreation Calendar
END:VEVENT
BEGIN:VEVENT
DTSTART;TZID=America/New_York:20280414T130000
DTEND;TZID=America/New_York:20280414T150000
DTSTAMP:20260424T041300
CREATED:20260217T145947Z
LAST-MODIFIED:20260217T145947Z
UID:10002185-1839330000-1839337200@www.bradleybeachnj.gov
SUMMARY:Open Play Mahjong
DESCRIPTION:
URL:https://www.bradleybeachnj.gov/event/open-play-mahjong/2028-04-14/
LOCATION:Carmen Biase Center\, 719 Main St\, Bradley Beach\, NJ\, 07720\, United States
CATEGORIES:Recreation Calendar
END:VEVENT
BEGIN:VEVENT
DTSTART;TZID=America/New_York:20280421T130000
DTEND;TZID=America/New_York:20280421T150000
DTSTAMP:20260424T041300
CREATED:20260217T145947Z
LAST-MODIFIED:20260217T145947Z
UID:10002186-1839934800-1839942000@www.bradleybeachnj.gov
SUMMARY:Open Play Mahjong
DESCRIPTION:
URL:https://www.bradleybeachnj.gov/event/open-play-mahjong/2028-04-21/
LOCATION:Carmen Biase Center\, 719 Main St\, Bradley Beach\, NJ\, 07720\, United States
CATEGORIES:Recreation Calendar
END:VEVENT
BEGIN:VEVENT
DTSTART;TZID=America/New_York:20280428T130000
DTEND;TZID=America/New_York:20280428T150000
DTSTAMP:20260424T041300
CREATED:20260217T145947Z
LAST-MODIFIED:20260217T145947Z
UID:10002187-1840539600-1840546800@www.bradleybeachnj.gov
SUMMARY:Open Play Mahjong
DESCRIPTION:
URL:https://www.bradleybeachnj.gov/event/open-play-mahjong/2028-04-28/
LOCATION:Carmen Biase Center\, 719 Main St\, Bradley Beach\, NJ\, 07720\, United States
CATEGORIES:Recreation Calendar
END:VEVENT
BEGIN:VEVENT
DTSTART;TZID=America/New_York:20280505T130000
DTEND;TZID=America/New_York:20280505T150000
DTSTAMP:20260424T041300
CREATED:20260217T145947Z
LAST-MODIFIED:20260217T145947Z
UID:10002188-1841144400-1841151600@www.bradleybeachnj.gov
SUMMARY:Open Play Mahjong
DESCRIPTION:
URL:https://www.bradleybeachnj.gov/event/open-play-mahjong/2028-05-05/
LOCATION:Carmen Biase Center\, 719 Main St\, Bradley Beach\, NJ\, 07720\, United States
CATEGORIES:Recreation Calendar
END:VEVENT
BEGIN:VEVENT
DTSTART;TZID=America/New_York:20280512T130000
DTEND;TZID=America/New_York:20280512T150000
DTSTAMP:20260424T041300
CREATED:20260217T145947Z
LAST-MODIFIED:20260217T145947Z
UID:10002189-1841749200-1841756400@www.bradleybeachnj.gov
SUMMARY:Open Play Mahjong
DESCRIPTION:
URL:https://www.bradleybeachnj.gov/event/open-play-mahjong/2028-05-12/
LOCATION:Carmen Biase Center\, 719 Main St\, Bradley Beach\, NJ\, 07720\, United States
CATEGORIES:Recreation Calendar
END:VEVENT
BEGIN:VEVENT
DTSTART;TZID=America/New_York:20280519T130000
DTEND;TZID=America/New_York:20280519T150000
DTSTAMP:20260424T041300
CREATED:20260217T145947Z
LAST-MODIFIED:20260217T145947Z
UID:10002190-1842354000-1842361200@www.bradleybeachnj.gov
SUMMARY:Open Play Mahjong
DESCRIPTION:
URL:https://www.bradleybeachnj.gov/event/open-play-mahjong/2028-05-19/
LOCATION:Carmen Biase Center\, 719 Main St\, Bradley Beach\, NJ\, 07720\, United States
CATEGORIES:Recreation Calendar
END:VEVENT
BEGIN:VEVENT
DTSTART;TZID=America/New_York:20280526T130000
DTEND;TZID=America/New_York:20280526T150000
DTSTAMP:20260424T041300
CREATED:20260217T145947Z
LAST-MODIFIED:20260217T145947Z
UID:10002191-1842958800-1842966000@www.bradleybeachnj.gov
SUMMARY:Open Play Mahjong
DESCRIPTION:
URL:https://www.bradleybeachnj.gov/event/open-play-mahjong/2028-05-26/
LOCATION:Carmen Biase Center\, 719 Main St\, Bradley Beach\, NJ\, 07720\, United States
CATEGORIES:Recreation Calendar
END:VEVENT
BEGIN:VEVENT
DTSTART;TZID=America/New_York:20280602T130000
DTEND;TZID=America/New_York:20280602T150000
DTSTAMP:20260424T041300
CREATED:20260217T145947Z
LAST-MODIFIED:20260217T145947Z
UID:10002192-1843563600-1843570800@www.bradleybeachnj.gov
SUMMARY:Open Play Mahjong
DESCRIPTION:
URL:https://www.bradleybeachnj.gov/event/open-play-mahjong/2028-06-02/
LOCATION:Carmen Biase Center\, 719 Main St\, Bradley Beach\, NJ\, 07720\, United States
CATEGORIES:Recreation Calendar
END:VEVENT
BEGIN:VEVENT
DTSTART;TZID=America/New_York:20280609T130000
DTEND;TZID=America/New_York:20280609T150000
DTSTAMP:20260424T041300
CREATED:20260217T145947Z
LAST-MODIFIED:20260217T145947Z
UID:10002193-1844168400-1844175600@www.bradleybeachnj.gov
SUMMARY:Open Play Mahjong
DESCRIPTION:
URL:https://www.bradleybeachnj.gov/event/open-play-mahjong/2028-06-09/
LOCATION:Carmen Biase Center\, 719 Main St\, Bradley Beach\, NJ\, 07720\, United States
CATEGORIES:Recreation Calendar
END:VEVENT
BEGIN:VEVENT
DTSTART;TZID=America/New_York:20280616T130000
DTEND;TZID=America/New_York:20280616T150000
DTSTAMP:20260424T041300
CREATED:20260217T145947Z
LAST-MODIFIED:20260217T145947Z
UID:10002194-1844773200-1844780400@www.bradleybeachnj.gov
SUMMARY:Open Play Mahjong
DESCRIPTION:
URL:https://www.bradleybeachnj.gov/event/open-play-mahjong/2028-06-16/
LOCATION:Carmen Biase Center\, 719 Main St\, Bradley Beach\, NJ\, 07720\, United States
CATEGORIES:Recreation Calendar
END:VEVENT
BEGIN:VEVENT
DTSTART;TZID=America/New_York:20280623T130000
DTEND;TZID=America/New_York:20280623T150000
DTSTAMP:20260424T041300
CREATED:20260217T145947Z
LAST-MODIFIED:20260217T145947Z
UID:10002195-1845378000-1845385200@www.bradleybeachnj.gov
SUMMARY:Open Play Mahjong
DESCRIPTION:
URL:https://www.bradleybeachnj.gov/event/open-play-mahjong/2028-06-23/
LOCATION:Carmen Biase Center\, 719 Main St\, Bradley Beach\, NJ\, 07720\, United States
CATEGORIES:Recreation Calendar
END:VEVENT
BEGIN:VEVENT
DTSTART;TZID=America/New_York:20280630T130000
DTEND;TZID=America/New_York:20280630T150000
DTSTAMP:20260424T041300
CREATED:20260217T145947Z
LAST-MODIFIED:20260217T145947Z
UID:10002196-1845982800-1845990000@www.bradleybeachnj.gov
SUMMARY:Open Play Mahjong
DESCRIPTION:
URL:https://www.bradleybeachnj.gov/event/open-play-mahjong/2028-06-30/
LOCATION:Carmen Biase Center\, 719 Main St\, Bradley Beach\, NJ\, 07720\, United States
CATEGORIES:Recreation Calendar
END:VEVENT
BEGIN:VEVENT
DTSTART;TZID=America/New_York:20280707T130000
DTEND;TZID=America/New_York:20280707T150000
DTSTAMP:20260424T041300
CREATED:20260217T145947Z
LAST-MODIFIED:20260217T145947Z
UID:10002197-1846587600-1846594800@www.bradleybeachnj.gov
SUMMARY:Open Play Mahjong
DESCRIPTION:
URL:https://www.bradleybeachnj.gov/event/open-play-mahjong/2028-07-07/
LOCATION:Carmen Biase Center\, 719 Main St\, Bradley Beach\, NJ\, 07720\, United States
CATEGORIES:Recreation Calendar
END:VEVENT
BEGIN:VEVENT
DTSTART;TZID=America/New_York:20280714T130000
DTEND;TZID=America/New_York:20280714T150000
DTSTAMP:20260424T041300
CREATED:20260217T145947Z
LAST-MODIFIED:20260217T145947Z
UID:10002198-1847192400-1847199600@www.bradleybeachnj.gov
SUMMARY:Open Play Mahjong
DESCRIPTION:
URL:https://www.bradleybeachnj.gov/event/open-play-mahjong/2028-07-14/
LOCATION:Carmen Biase Center\, 719 Main St\, Bradley Beach\, NJ\, 07720\, United States
CATEGORIES:Recreation Calendar
END:VEVENT
BEGIN:VEVENT
DTSTART;TZID=America/New_York:20280721T130000
DTEND;TZID=America/New_York:20280721T150000
DTSTAMP:20260424T041300
CREATED:20260217T145947Z
LAST-MODIFIED:20260217T145947Z
UID:10002199-1847797200-1847804400@www.bradleybeachnj.gov
SUMMARY:Open Play Mahjong
DESCRIPTION:
URL:https://www.bradleybeachnj.gov/event/open-play-mahjong/2028-07-21/
LOCATION:Carmen Biase Center\, 719 Main St\, Bradley Beach\, NJ\, 07720\, United States
CATEGORIES:Recreation Calendar
END:VEVENT
BEGIN:VEVENT
DTSTART;TZID=America/New_York:20280728T130000
DTEND;TZID=America/New_York:20280728T150000
DTSTAMP:20260424T041300
CREATED:20260217T145947Z
LAST-MODIFIED:20260217T145947Z
UID:10002200-1848402000-1848409200@www.bradleybeachnj.gov
SUMMARY:Open Play Mahjong
DESCRIPTION:
URL:https://www.bradleybeachnj.gov/event/open-play-mahjong/2028-07-28/
LOCATION:Carmen Biase Center\, 719 Main St\, Bradley Beach\, NJ\, 07720\, United States
CATEGORIES:Recreation Calendar
END:VEVENT
BEGIN:VEVENT
DTSTART;TZID=America/New_York:20280804T130000
DTEND;TZID=America/New_York:20280804T150000
DTSTAMP:20260424T041300
CREATED:20260217T145947Z
LAST-MODIFIED:20260217T145947Z
UID:10002201-1849006800-1849014000@www.bradleybeachnj.gov
SUMMARY:Open Play Mahjong
DESCRIPTION:
URL:https://www.bradleybeachnj.gov/event/open-play-mahjong/2028-08-04/
LOCATION:Carmen Biase Center\, 719 Main St\, Bradley Beach\, NJ\, 07720\, United States
CATEGORIES:Recreation Calendar
END:VEVENT
BEGIN:VEVENT
DTSTART;TZID=America/New_York:20280811T130000
DTEND;TZID=America/New_York:20280811T150000
DTSTAMP:20260424T041300
CREATED:20260217T145947Z
LAST-MODIFIED:20260217T145947Z
UID:10002202-1849611600-1849618800@www.bradleybeachnj.gov
SUMMARY:Open Play Mahjong
DESCRIPTION:
URL:https://www.bradleybeachnj.gov/event/open-play-mahjong/2028-08-11/
LOCATION:Carmen Biase Center\, 719 Main St\, Bradley Beach\, NJ\, 07720\, United States
CATEGORIES:Recreation Calendar
END:VEVENT
BEGIN:VEVENT
DTSTART;TZID=America/New_York:20280818T130000
DTEND;TZID=America/New_York:20280818T150000
DTSTAMP:20260424T041300
CREATED:20260217T145947Z
LAST-MODIFIED:20260217T145947Z
UID:10002203-1850216400-1850223600@www.bradleybeachnj.gov
SUMMARY:Open Play Mahjong
DESCRIPTION:
URL:https://www.bradleybeachnj.gov/event/open-play-mahjong/2028-08-18/
LOCATION:Carmen Biase Center\, 719 Main St\, Bradley Beach\, NJ\, 07720\, United States
CATEGORIES:Recreation Calendar
END:VEVENT
BEGIN:VEVENT
DTSTART;TZID=America/New_York:20280825T130000
DTEND;TZID=America/New_York:20280825T150000
DTSTAMP:20260424T041300
CREATED:20260217T145947Z
LAST-MODIFIED:20260217T145947Z
UID:10002204-1850821200-1850828400@www.bradleybeachnj.gov
SUMMARY:Open Play Mahjong
DESCRIPTION:
URL:https://www.bradleybeachnj.gov/event/open-play-mahjong/2028-08-25/
LOCATION:Carmen Biase Center\, 719 Main St\, Bradley Beach\, NJ\, 07720\, United States
CATEGORIES:Recreation Calendar
END:VEVENT
END:VCALENDAR