BEGIN:VCALENDAR
VERSION:2.0
PRODID:-//Bradley Beach - ECPv6.15.18//NONSGML v1.0//EN
CALSCALE:GREGORIAN
METHOD:PUBLISH
X-WR-CALNAME:Bradley Beach
X-ORIGINAL-URL:https://www.bradleybeachnj.gov
X-WR-CALDESC:Events for Bradley Beach
REFRESH-INTERVAL;VALUE=DURATION:PT1H
X-Robots-Tag:noindex
X-PUBLISHED-TTL:PT1H
BEGIN:VTIMEZONE
TZID:America/New_York
BEGIN:DAYLIGHT
TZOFFSETFROM:-0500
TZOFFSETTO:-0400
TZNAME:EDT
DTSTART:20280312T070000
END:DAYLIGHT
BEGIN:STANDARD
TZOFFSETFROM:-0400
TZOFFSETTO:-0500
TZNAME:EST
DTSTART:20281105T060000
END:STANDARD
BEGIN:DAYLIGHT
TZOFFSETFROM:-0500
TZOFFSETTO:-0400
TZNAME:EDT
DTSTART:20290311T070000
END:DAYLIGHT
BEGIN:STANDARD
TZOFFSETFROM:-0400
TZOFFSETTO:-0500
TZNAME:EST
DTSTART:20291104T060000
END:STANDARD
BEGIN:DAYLIGHT
TZOFFSETFROM:-0500
TZOFFSETTO:-0400
TZNAME:EDT
DTSTART:20300310T070000
END:DAYLIGHT
BEGIN:STANDARD
TZOFFSETFROM:-0400
TZOFFSETTO:-0500
TZNAME:EST
DTSTART:20301103T060000
END:STANDARD
BEGIN:DAYLIGHT
TZOFFSETFROM:-0500
TZOFFSETTO:-0400
TZNAME:EDT
DTSTART:20310309T070000
END:DAYLIGHT
BEGIN:STANDARD
TZOFFSETFROM:-0400
TZOFFSETTO:-0500
TZNAME:EST
DTSTART:20311102T060000
END:STANDARD
END:VTIMEZONE
BEGIN:VEVENT
DTSTART;TZID=America/New_York:20290720T130000
DTEND;TZID=America/New_York:20290720T150000
DTSTAMP:20260425T100515
CREATED:20260217T145947Z
LAST-MODIFIED:20260217T145947Z
UID:10002251-1879246800-1879254000@www.bradleybeachnj.gov
SUMMARY:Open Play Mahjong
DESCRIPTION:
URL:https://www.bradleybeachnj.gov/event/open-play-mahjong/2029-07-20/
LOCATION:Carmen Biase Center\, 719 Main St\, Bradley Beach\, NJ\, 07720\, United States
CATEGORIES:Recreation Calendar
END:VEVENT
BEGIN:VEVENT
DTSTART;TZID=America/New_York:20290727T130000
DTEND;TZID=America/New_York:20290727T150000
DTSTAMP:20260425T100515
CREATED:20260217T145947Z
LAST-MODIFIED:20260217T145947Z
UID:10002252-1879851600-1879858800@www.bradleybeachnj.gov
SUMMARY:Open Play Mahjong
DESCRIPTION:
URL:https://www.bradleybeachnj.gov/event/open-play-mahjong/2029-07-27/
LOCATION:Carmen Biase Center\, 719 Main St\, Bradley Beach\, NJ\, 07720\, United States
CATEGORIES:Recreation Calendar
END:VEVENT
BEGIN:VEVENT
DTSTART;TZID=America/New_York:20290803T130000
DTEND;TZID=America/New_York:20290803T150000
DTSTAMP:20260425T100515
CREATED:20260217T145947Z
LAST-MODIFIED:20260217T145947Z
UID:10002253-1880456400-1880463600@www.bradleybeachnj.gov
SUMMARY:Open Play Mahjong
DESCRIPTION:
URL:https://www.bradleybeachnj.gov/event/open-play-mahjong/2029-08-03/
LOCATION:Carmen Biase Center\, 719 Main St\, Bradley Beach\, NJ\, 07720\, United States
CATEGORIES:Recreation Calendar
END:VEVENT
BEGIN:VEVENT
DTSTART;TZID=America/New_York:20290810T130000
DTEND;TZID=America/New_York:20290810T150000
DTSTAMP:20260425T100515
CREATED:20260217T145947Z
LAST-MODIFIED:20260217T145947Z
UID:10002254-1881061200-1881068400@www.bradleybeachnj.gov
SUMMARY:Open Play Mahjong
DESCRIPTION:
URL:https://www.bradleybeachnj.gov/event/open-play-mahjong/2029-08-10/
LOCATION:Carmen Biase Center\, 719 Main St\, Bradley Beach\, NJ\, 07720\, United States
CATEGORIES:Recreation Calendar
END:VEVENT
BEGIN:VEVENT
DTSTART;TZID=America/New_York:20290817T130000
DTEND;TZID=America/New_York:20290817T150000
DTSTAMP:20260425T100515
CREATED:20260217T145947Z
LAST-MODIFIED:20260217T145947Z
UID:10002255-1881666000-1881673200@www.bradleybeachnj.gov
SUMMARY:Open Play Mahjong
DESCRIPTION:
URL:https://www.bradleybeachnj.gov/event/open-play-mahjong/2029-08-17/
LOCATION:Carmen Biase Center\, 719 Main St\, Bradley Beach\, NJ\, 07720\, United States
CATEGORIES:Recreation Calendar
END:VEVENT
BEGIN:VEVENT
DTSTART;TZID=America/New_York:20290824T130000
DTEND;TZID=America/New_York:20290824T150000
DTSTAMP:20260425T100515
CREATED:20260217T145947Z
LAST-MODIFIED:20260217T145947Z
UID:10002256-1882270800-1882278000@www.bradleybeachnj.gov
SUMMARY:Open Play Mahjong
DESCRIPTION:
URL:https://www.bradleybeachnj.gov/event/open-play-mahjong/2029-08-24/
LOCATION:Carmen Biase Center\, 719 Main St\, Bradley Beach\, NJ\, 07720\, United States
CATEGORIES:Recreation Calendar
END:VEVENT
BEGIN:VEVENT
DTSTART;TZID=America/New_York:20290831T130000
DTEND;TZID=America/New_York:20290831T150000
DTSTAMP:20260425T100515
CREATED:20260217T145947Z
LAST-MODIFIED:20260217T145947Z
UID:10002257-1882875600-1882882800@www.bradleybeachnj.gov
SUMMARY:Open Play Mahjong
DESCRIPTION:
URL:https://www.bradleybeachnj.gov/event/open-play-mahjong/2029-08-31/
LOCATION:Carmen Biase Center\, 719 Main St\, Bradley Beach\, NJ\, 07720\, United States
CATEGORIES:Recreation Calendar
END:VEVENT
BEGIN:VEVENT
DTSTART;TZID=America/New_York:20290907T130000
DTEND;TZID=America/New_York:20290907T150000
DTSTAMP:20260425T100515
CREATED:20260217T145947Z
LAST-MODIFIED:20260217T145947Z
UID:10002258-1883480400-1883487600@www.bradleybeachnj.gov
SUMMARY:Open Play Mahjong
DESCRIPTION:
URL:https://www.bradleybeachnj.gov/event/open-play-mahjong/2029-09-07/
LOCATION:Carmen Biase Center\, 719 Main St\, Bradley Beach\, NJ\, 07720\, United States
CATEGORIES:Recreation Calendar
END:VEVENT
BEGIN:VEVENT
DTSTART;TZID=America/New_York:20290914T130000
DTEND;TZID=America/New_York:20290914T150000
DTSTAMP:20260425T100515
CREATED:20260217T145947Z
LAST-MODIFIED:20260217T145947Z
UID:10002259-1884085200-1884092400@www.bradleybeachnj.gov
SUMMARY:Open Play Mahjong
DESCRIPTION:
URL:https://www.bradleybeachnj.gov/event/open-play-mahjong/2029-09-14/
LOCATION:Carmen Biase Center\, 719 Main St\, Bradley Beach\, NJ\, 07720\, United States
CATEGORIES:Recreation Calendar
END:VEVENT
BEGIN:VEVENT
DTSTART;TZID=America/New_York:20290921T130000
DTEND;TZID=America/New_York:20290921T150000
DTSTAMP:20260425T100515
CREATED:20260217T145947Z
LAST-MODIFIED:20260217T145947Z
UID:10002260-1884690000-1884697200@www.bradleybeachnj.gov
SUMMARY:Open Play Mahjong
DESCRIPTION:
URL:https://www.bradleybeachnj.gov/event/open-play-mahjong/2029-09-21/
LOCATION:Carmen Biase Center\, 719 Main St\, Bradley Beach\, NJ\, 07720\, United States
CATEGORIES:Recreation Calendar
END:VEVENT
BEGIN:VEVENT
DTSTART;TZID=America/New_York:20290928T130000
DTEND;TZID=America/New_York:20290928T150000
DTSTAMP:20260425T100515
CREATED:20260217T145947Z
LAST-MODIFIED:20260217T145947Z
UID:10002261-1885294800-1885302000@www.bradleybeachnj.gov
SUMMARY:Open Play Mahjong
DESCRIPTION:
URL:https://www.bradleybeachnj.gov/event/open-play-mahjong/2029-09-28/
LOCATION:Carmen Biase Center\, 719 Main St\, Bradley Beach\, NJ\, 07720\, United States
CATEGORIES:Recreation Calendar
END:VEVENT
BEGIN:VEVENT
DTSTART;TZID=America/New_York:20291005T130000
DTEND;TZID=America/New_York:20291005T150000
DTSTAMP:20260425T100515
CREATED:20260217T145947Z
LAST-MODIFIED:20260217T145947Z
UID:10002262-1885899600-1885906800@www.bradleybeachnj.gov
SUMMARY:Open Play Mahjong
DESCRIPTION:
URL:https://www.bradleybeachnj.gov/event/open-play-mahjong/2029-10-05/
LOCATION:Carmen Biase Center\, 719 Main St\, Bradley Beach\, NJ\, 07720\, United States
CATEGORIES:Recreation Calendar
END:VEVENT
BEGIN:VEVENT
DTSTART;TZID=America/New_York:20291012T130000
DTEND;TZID=America/New_York:20291012T150000
DTSTAMP:20260425T100515
CREATED:20260217T145947Z
LAST-MODIFIED:20260217T145947Z
UID:10002263-1886504400-1886511600@www.bradleybeachnj.gov
SUMMARY:Open Play Mahjong
DESCRIPTION:
URL:https://www.bradleybeachnj.gov/event/open-play-mahjong/2029-10-12/
LOCATION:Carmen Biase Center\, 719 Main St\, Bradley Beach\, NJ\, 07720\, United States
CATEGORIES:Recreation Calendar
END:VEVENT
BEGIN:VEVENT
DTSTART;TZID=America/New_York:20291019T130000
DTEND;TZID=America/New_York:20291019T150000
DTSTAMP:20260425T100515
CREATED:20260217T145947Z
LAST-MODIFIED:20260217T145947Z
UID:10002264-1887109200-1887116400@www.bradleybeachnj.gov
SUMMARY:Open Play Mahjong
DESCRIPTION:
URL:https://www.bradleybeachnj.gov/event/open-play-mahjong/2029-10-19/
LOCATION:Carmen Biase Center\, 719 Main St\, Bradley Beach\, NJ\, 07720\, United States
CATEGORIES:Recreation Calendar
END:VEVENT
BEGIN:VEVENT
DTSTART;TZID=America/New_York:20291026T130000
DTEND;TZID=America/New_York:20291026T150000
DTSTAMP:20260425T100515
CREATED:20260217T145947Z
LAST-MODIFIED:20260217T145947Z
UID:10002265-1887714000-1887721200@www.bradleybeachnj.gov
SUMMARY:Open Play Mahjong
DESCRIPTION:
URL:https://www.bradleybeachnj.gov/event/open-play-mahjong/2029-10-26/
LOCATION:Carmen Biase Center\, 719 Main St\, Bradley Beach\, NJ\, 07720\, United States
CATEGORIES:Recreation Calendar
END:VEVENT
BEGIN:VEVENT
DTSTART;TZID=America/New_York:20291102T130000
DTEND;TZID=America/New_York:20291102T150000
DTSTAMP:20260425T100515
CREATED:20260217T145947Z
LAST-MODIFIED:20260217T145947Z
UID:10002266-1888318800-1888326000@www.bradleybeachnj.gov
SUMMARY:Open Play Mahjong
DESCRIPTION:
URL:https://www.bradleybeachnj.gov/event/open-play-mahjong/2029-11-02/
LOCATION:Carmen Biase Center\, 719 Main St\, Bradley Beach\, NJ\, 07720\, United States
CATEGORIES:Recreation Calendar
END:VEVENT
BEGIN:VEVENT
DTSTART;TZID=America/New_York:20291109T130000
DTEND;TZID=America/New_York:20291109T150000
DTSTAMP:20260425T100515
CREATED:20260217T145947Z
LAST-MODIFIED:20260217T145947Z
UID:10002267-1888923600-1888930800@www.bradleybeachnj.gov
SUMMARY:Open Play Mahjong
DESCRIPTION:
URL:https://www.bradleybeachnj.gov/event/open-play-mahjong/2029-11-09/
LOCATION:Carmen Biase Center\, 719 Main St\, Bradley Beach\, NJ\, 07720\, United States
CATEGORIES:Recreation Calendar
END:VEVENT
BEGIN:VEVENT
DTSTART;TZID=America/New_York:20291116T130000
DTEND;TZID=America/New_York:20291116T150000
DTSTAMP:20260425T100515
CREATED:20260217T145947Z
LAST-MODIFIED:20260217T145947Z
UID:10002268-1889528400-1889535600@www.bradleybeachnj.gov
SUMMARY:Open Play Mahjong
DESCRIPTION:
URL:https://www.bradleybeachnj.gov/event/open-play-mahjong/2029-11-16/
LOCATION:Carmen Biase Center\, 719 Main St\, Bradley Beach\, NJ\, 07720\, United States
CATEGORIES:Recreation Calendar
END:VEVENT
BEGIN:VEVENT
DTSTART;TZID=America/New_York:20291123T130000
DTEND;TZID=America/New_York:20291123T150000
DTSTAMP:20260425T100515
CREATED:20260217T145947Z
LAST-MODIFIED:20260217T145947Z
UID:10002269-1890133200-1890140400@www.bradleybeachnj.gov
SUMMARY:Open Play Mahjong
DESCRIPTION:
URL:https://www.bradleybeachnj.gov/event/open-play-mahjong/2029-11-23/
LOCATION:Carmen Biase Center\, 719 Main St\, Bradley Beach\, NJ\, 07720\, United States
CATEGORIES:Recreation Calendar
END:VEVENT
BEGIN:VEVENT
DTSTART;TZID=America/New_York:20291130T130000
DTEND;TZID=America/New_York:20291130T150000
DTSTAMP:20260425T100515
CREATED:20260217T145947Z
LAST-MODIFIED:20260217T145947Z
UID:10002270-1890738000-1890745200@www.bradleybeachnj.gov
SUMMARY:Open Play Mahjong
DESCRIPTION:
URL:https://www.bradleybeachnj.gov/event/open-play-mahjong/2029-11-30/
LOCATION:Carmen Biase Center\, 719 Main St\, Bradley Beach\, NJ\, 07720\, United States
CATEGORIES:Recreation Calendar
END:VEVENT
BEGIN:VEVENT
DTSTART;TZID=America/New_York:20291207T130000
DTEND;TZID=America/New_York:20291207T150000
DTSTAMP:20260425T100515
CREATED:20260217T145947Z
LAST-MODIFIED:20260217T145947Z
UID:10002271-1891342800-1891350000@www.bradleybeachnj.gov
SUMMARY:Open Play Mahjong
DESCRIPTION:
URL:https://www.bradleybeachnj.gov/event/open-play-mahjong/2029-12-07/
LOCATION:Carmen Biase Center\, 719 Main St\, Bradley Beach\, NJ\, 07720\, United States
CATEGORIES:Recreation Calendar
END:VEVENT
BEGIN:VEVENT
DTSTART;TZID=America/New_York:20291214T130000
DTEND;TZID=America/New_York:20291214T150000
DTSTAMP:20260425T100515
CREATED:20260217T145947Z
LAST-MODIFIED:20260217T145947Z
UID:10002272-1891947600-1891954800@www.bradleybeachnj.gov
SUMMARY:Open Play Mahjong
DESCRIPTION:
URL:https://www.bradleybeachnj.gov/event/open-play-mahjong/2029-12-14/
LOCATION:Carmen Biase Center\, 719 Main St\, Bradley Beach\, NJ\, 07720\, United States
CATEGORIES:Recreation Calendar
END:VEVENT
BEGIN:VEVENT
DTSTART;TZID=America/New_York:20291221T130000
DTEND;TZID=America/New_York:20291221T150000
DTSTAMP:20260425T100515
CREATED:20260217T145947Z
LAST-MODIFIED:20260217T145947Z
UID:10002273-1892552400-1892559600@www.bradleybeachnj.gov
SUMMARY:Open Play Mahjong
DESCRIPTION:
URL:https://www.bradleybeachnj.gov/event/open-play-mahjong/2029-12-21/
LOCATION:Carmen Biase Center\, 719 Main St\, Bradley Beach\, NJ\, 07720\, United States
CATEGORIES:Recreation Calendar
END:VEVENT
BEGIN:VEVENT
DTSTART;TZID=America/New_York:20291228T130000
DTEND;TZID=America/New_York:20291228T150000
DTSTAMP:20260425T100515
CREATED:20260217T145947Z
LAST-MODIFIED:20260217T145947Z
UID:10002274-1893157200-1893164400@www.bradleybeachnj.gov
SUMMARY:Open Play Mahjong
DESCRIPTION:
URL:https://www.bradleybeachnj.gov/event/open-play-mahjong/2029-12-28/
LOCATION:Carmen Biase Center\, 719 Main St\, Bradley Beach\, NJ\, 07720\, United States
CATEGORIES:Recreation Calendar
END:VEVENT
BEGIN:VEVENT
DTSTART;TZID=America/New_York:20300104T130000
DTEND;TZID=America/New_York:20300104T150000
DTSTAMP:20260425T100515
CREATED:20260217T145947Z
LAST-MODIFIED:20260217T145947Z
UID:10002275-1893762000-1893769200@www.bradleybeachnj.gov
SUMMARY:Open Play Mahjong
DESCRIPTION:
URL:https://www.bradleybeachnj.gov/event/open-play-mahjong/2030-01-04/
LOCATION:Carmen Biase Center\, 719 Main St\, Bradley Beach\, NJ\, 07720\, United States
CATEGORIES:Recreation Calendar
END:VEVENT
BEGIN:VEVENT
DTSTART;TZID=America/New_York:20300111T130000
DTEND;TZID=America/New_York:20300111T150000
DTSTAMP:20260425T100515
CREATED:20260217T145947Z
LAST-MODIFIED:20260217T145947Z
UID:10002276-1894366800-1894374000@www.bradleybeachnj.gov
SUMMARY:Open Play Mahjong
DESCRIPTION:
URL:https://www.bradleybeachnj.gov/event/open-play-mahjong/2030-01-11/
LOCATION:Carmen Biase Center\, 719 Main St\, Bradley Beach\, NJ\, 07720\, United States
CATEGORIES:Recreation Calendar
END:VEVENT
BEGIN:VEVENT
DTSTART;TZID=America/New_York:20300118T130000
DTEND;TZID=America/New_York:20300118T150000
DTSTAMP:20260425T100515
CREATED:20260217T145947Z
LAST-MODIFIED:20260217T145947Z
UID:10002277-1894971600-1894978800@www.bradleybeachnj.gov
SUMMARY:Open Play Mahjong
DESCRIPTION:
URL:https://www.bradleybeachnj.gov/event/open-play-mahjong/2030-01-18/
LOCATION:Carmen Biase Center\, 719 Main St\, Bradley Beach\, NJ\, 07720\, United States
CATEGORIES:Recreation Calendar
END:VEVENT
BEGIN:VEVENT
DTSTART;TZID=America/New_York:20300125T130000
DTEND;TZID=America/New_York:20300125T150000
DTSTAMP:20260425T100515
CREATED:20260217T145947Z
LAST-MODIFIED:20260217T145947Z
UID:10002278-1895576400-1895583600@www.bradleybeachnj.gov
SUMMARY:Open Play Mahjong
DESCRIPTION:
URL:https://www.bradleybeachnj.gov/event/open-play-mahjong/2030-01-25/
LOCATION:Carmen Biase Center\, 719 Main St\, Bradley Beach\, NJ\, 07720\, United States
CATEGORIES:Recreation Calendar
END:VEVENT
BEGIN:VEVENT
DTSTART;TZID=America/New_York:20300201T130000
DTEND;TZID=America/New_York:20300201T150000
DTSTAMP:20260425T100515
CREATED:20260217T145947Z
LAST-MODIFIED:20260217T145947Z
UID:10002279-1896181200-1896188400@www.bradleybeachnj.gov
SUMMARY:Open Play Mahjong
DESCRIPTION:
URL:https://www.bradleybeachnj.gov/event/open-play-mahjong/2030-02-01/
LOCATION:Carmen Biase Center\, 719 Main St\, Bradley Beach\, NJ\, 07720\, United States
CATEGORIES:Recreation Calendar
END:VEVENT
BEGIN:VEVENT
DTSTART;TZID=America/New_York:20300208T130000
DTEND;TZID=America/New_York:20300208T150000
DTSTAMP:20260425T100516
CREATED:20260217T145947Z
LAST-MODIFIED:20260217T145947Z
UID:10002280-1896786000-1896793200@www.bradleybeachnj.gov
SUMMARY:Open Play Mahjong
DESCRIPTION:
URL:https://www.bradleybeachnj.gov/event/open-play-mahjong/2030-02-08/
LOCATION:Carmen Biase Center\, 719 Main St\, Bradley Beach\, NJ\, 07720\, United States
CATEGORIES:Recreation Calendar
END:VEVENT
END:VCALENDAR