BEGIN:VCALENDAR
VERSION:2.0
PRODID:-//Bradley Beach - ECPv6.15.18//NONSGML v1.0//EN
CALSCALE:GREGORIAN
METHOD:PUBLISH
X-WR-CALNAME:Bradley Beach
X-ORIGINAL-URL:https://www.bradleybeachnj.gov
X-WR-CALDESC:Events for Bradley Beach
REFRESH-INTERVAL;VALUE=DURATION:PT1H
X-Robots-Tag:noindex
X-PUBLISHED-TTL:PT1H
BEGIN:VTIMEZONE
TZID:America/New_York
BEGIN:DAYLIGHT
TZOFFSETFROM:-0500
TZOFFSETTO:-0400
TZNAME:EDT
DTSTART:20240310T070000
END:DAYLIGHT
BEGIN:STANDARD
TZOFFSETFROM:-0400
TZOFFSETTO:-0500
TZNAME:EST
DTSTART:20241103T060000
END:STANDARD
BEGIN:DAYLIGHT
TZOFFSETFROM:-0500
TZOFFSETTO:-0400
TZNAME:EDT
DTSTART:20250309T070000
END:DAYLIGHT
BEGIN:STANDARD
TZOFFSETFROM:-0400
TZOFFSETTO:-0500
TZNAME:EST
DTSTART:20251102T060000
END:STANDARD
BEGIN:DAYLIGHT
TZOFFSETFROM:-0500
TZOFFSETTO:-0400
TZNAME:EDT
DTSTART:20260308T070000
END:DAYLIGHT
BEGIN:STANDARD
TZOFFSETFROM:-0400
TZOFFSETTO:-0500
TZNAME:EST
DTSTART:20261101T060000
END:STANDARD
END:VTIMEZONE
BEGIN:VEVENT
DTSTART;TZID=America/New_York:20250705T200000
DTEND;TZID=America/New_York:20250705T210000
DTSTAMP:20260424T070102
CREATED:20250324T140852Z
LAST-MODIFIED:20250324T140852Z
UID:10001576-1751745600-1751749200@www.bradleybeachnj.gov
SUMMARY:4th of July Fireworks
DESCRIPTION:
URL:https://www.bradleybeachnj.gov/event/4th-of-july-fireworks/
LOCATION:NJ
CATEGORIES:Borough Calendar
END:VEVENT
BEGIN:VEVENT
DTSTART;TZID=America/New_York:20250704T130000
DTEND;TZID=America/New_York:20250704T150000
DTSTAMP:20260424T070102
CREATED:20250409T133333Z
LAST-MODIFIED:20250409T133333Z
UID:10001825-1751634000-1751641200@www.bradleybeachnj.gov
SUMMARY:Mah Jong Open Play
DESCRIPTION:
URL:https://www.bradleybeachnj.gov/event/mah-jong-open-play/2025-07-04/
LOCATION:Carmen Biase Center\, 719 Main St\, Bradley Beach\, NJ\, 07720\, United States
CATEGORIES:Recreation Calendar
END:VEVENT
BEGIN:VEVENT
DTSTART;TZID=America/New_York:20250703T180000
DTEND;TZID=America/New_York:20250703T200000
DTSTAMP:20260424T070102
CREATED:20250528T182329Z
LAST-MODIFIED:20250528T182329Z
UID:10001875-1751565600-1751572800@www.bradleybeachnj.gov
SUMMARY:63rd Army Band in Riley Park
DESCRIPTION:
URL:https://www.bradleybeachnj.gov/event/63rd-army-band-in-riley-park/
LOCATION:Riley Park
END:VEVENT
BEGIN:VEVENT
DTSTART;TZID=America/New_York:20250702T190000
DTEND;TZID=America/New_York:20250702T210000
DTSTAMP:20260424T070102
CREATED:20250616T121038Z
LAST-MODIFIED:20250616T121038Z
UID:10001608-1751482800-1751490000@www.bradleybeachnj.gov
SUMMARY:Summer Jazz Series
DESCRIPTION:Bradley Beach Tourism Commission presents its 2025 event series! Click here for more information and full schedule! 
URL:https://www.bradleybeachnj.gov/event/summer-jazz-series/2025-07-02/
LOCATION:Riley Park
CATEGORIES:Community Events Calendar,Tourism Event Calendar
ATTACH;FMTTYPE=image/png:https://www.bradleybeachnj.gov/wp-content/uploads/2025/06/Screenshot-2025-03-18-at-8.51.08 AM.png
END:VEVENT
BEGIN:VEVENT
DTSTART;TZID=America/New_York:20250701T183000
DTEND;TZID=America/New_York:20250701T183000
DTSTAMP:20260424T070102
CREATED:20241218T155137Z
LAST-MODIFIED:20250702T013242Z
UID:10001751-1751394600-1751394600@www.bradleybeachnj.gov
SUMMARY:Council Business Meeting
DESCRIPTION:701 Main Street\, Bradley Beach \nCouncil Business Meeting Hybrid Video \nhttps://youtu.be/ssvMNYCIa5Y \n7-1-25 Council Business Meeting Agenda \nResolution 2025-228 Appointment of Probationary Police Officer Gianna Trani \nBond Ordinance 2025-19 Fifth Avenue Sanitary Sewer Improvement – Phase I (Intro 7.1.25) \nOrdinance 2025-20 Amending Chapter 450 (Zoning) to Permit Residential Ribbon Driveways (INTRO on 7.1.25) \nOrdinance 2025-21 Amending Chapter 160 (Construction Code) to Update and Increase Certain Fees (INTRO on 7.1.25) \nResolution 2025-229 Approval of an Outdoor Cafe License for Steady Hand Cafe\, LLC \nResolution 2025-230 Approval of an Outdoor Cafe License for Hey Peach Bakery\, LLC \nResolution 2025-231 Approval of an Outdoor Cafe License for The Buttered Biscuit \nResolution 2025-232 Approval of an Outdoor Cafe License for Panchos and Juanchos \nResolution 2025-233 Approval of an Outdoor Cafe License for DelPonte’s Creamery & Cafe \nResolution 2025-214 Awarding Newark Ave Concession to Lynnie Lous (7.1.25) \nResolution 2025-234 Approval of a Lien Redemption Refund for 509 McCabe Avenue \nResolution 2025-235 Authorizing Retention of Judge Bauman as Hearing Officer in D’Arcy’s Outdoor Premises Appeal (7.1.25) \nResolution 2025-236 Approving the Hingston Litigation Settlement Agreement \nResolution 2025-237 Amendment to Capital Budget (Revised 7.1.25) \nResolution 2025-238 Bill List for July 1\, 2025 \nResolution 2025-239 Retire into Executive Session \nIn accordance with the provisions of the Open Public Meetings Act\, N.J.S.A 10:4-6 to 10:4-21\, the Borough of Bradley Beach will hold their Budget Amendment Introduction Public Hearing & Council Business Meeting thereafter on Wednesday\, July 1\, 2025 at 6:30 p.m. This will be a Hybrid Meeting and may be attended both in person and through Zoom\, to include streaming services and other online meeting platforms from the Meeting Room\, 701 Main Street\, Bradley Beach\, NJ 07720. Formal action will be taken. \nAs a courtesy only to the public this meeting may be attended via Zoom. If for any reason Zoom fails or is disconnected\, the in-person meeting will continue without interruption\, and action can and will be taken providing there is an in-person Council Quorum. \nTopic: June 18\, 2025 Public Hearing & Adoption for the Budget Amendment and Municipal Budget & Hearing & Council Business Meeting\nTime: 6:30 P.M. Eastern Time (US and Canada) \nBorough of Bradley Beach is inviting you to a scheduled Zoom meeting. \nTopic: 7-1-25 Council Business Meeting\nTime: Jul 1\, 2025 06:30 PM Eastern Time (US and Canada)\nJoin Zoom Meeting\nhttps://us06web.zoom.us/j/89508485517?pwd=Sr4mgNFJXqoT10XbqmZCvmJqWDrnY5.1 \nMeeting ID: 895 0848 5517\nPasscode: 549381 \nFind your local number: https://us06web.zoom.us/u/kdi2iZIc1B \nThe meeting also will be streamed live on our regular YouTube Board Meeting Channel for public viewing only.  \nhttps://www.youtube.com/channel/UCrn8buRB6-0XVnSbhBYnHDg/videos \n  \nErica Kostyz\, RMC\, CMR\nMunicipal Clerk \n 
URL:https://www.bradleybeachnj.gov/event/council-business-meeting-49/
LOCATION:NJ
CATEGORIES:Borough Meetings
END:VEVENT
BEGIN:VEVENT
DTSTART;TZID=America/New_York:20250701T180000
DTEND;TZID=America/New_York:20250701T210000
DTSTAMP:20260424T070102
CREATED:20250616T123307Z
LAST-MODIFIED:20250616T123307Z
UID:10001638-1751392800-1751403600@www.bradleybeachnj.gov
SUMMARY:Swing Dance Lessons
DESCRIPTION:
URL:https://www.bradleybeachnj.gov/event/swing-dance-lessons/
LOCATION:5th Ave Gazebo\, 5th ave\, Bradley Beach\, New Jersey\, 07720
CATEGORIES:Community Events Calendar,Tourism Event Calendar
ATTACH;FMTTYPE=image/jpeg:https://www.bradleybeachnj.gov/wp-content/uploads/2025/06/481771086_507248859093621_1129014446046113987_n.jpg
END:VEVENT
BEGIN:VEVENT
DTSTART;TZID=America/New_York:20250630T190000
DTEND;TZID=America/New_York:20250630T210000
DTSTAMP:20260424T070102
CREATED:20250616T121038Z
LAST-MODIFIED:20250616T121038Z
UID:10001607-1751310000-1751317200@www.bradleybeachnj.gov
SUMMARY:Summer Jazz Series
DESCRIPTION:Bradley Beach Tourism Commission presents its 2025 event series! Click here for more information and full schedule! 
URL:https://www.bradleybeachnj.gov/event/summer-jazz-series/2025-06-30/
LOCATION:Riley Park
CATEGORIES:Community Events Calendar,Tourism Event Calendar
ATTACH;FMTTYPE=image/png:https://www.bradleybeachnj.gov/wp-content/uploads/2025/06/Screenshot-2025-03-18-at-8.51.08 AM.png
END:VEVENT
BEGIN:VEVENT
DTSTART;TZID=America/New_York:20250630T180000
DTEND;TZID=America/New_York:20250630T200000
DTSTAMP:20260424T070102
CREATED:20250616T120231Z
LAST-MODIFIED:20250616T120231Z
UID:10001878-1751306400-1751313600@www.bradleybeachnj.gov
SUMMARY:Opera by the Sea
DESCRIPTION:Bradley Beach Tourism Commission presents its 2025 event series! Click here for more information and full schedule! 
URL:https://www.bradleybeachnj.gov/event/opera-by-the-sea-2/
LOCATION:5th Ave Gazebo\, 5th ave\, Bradley Beach\, New Jersey\, 07720
CATEGORIES:Community Events Calendar,Tourism Event Calendar
ATTACH;FMTTYPE=image/jpeg:https://www.bradleybeachnj.gov/wp-content/uploads/2025/06/483525219_1070634365108400_4744757387917178191_n-1.jpg
END:VEVENT
BEGIN:VEVENT
DTSTART;TZID=America/New_York:20250630T090000
DTEND;TZID=America/New_York:20250630T150000
DTSTAMP:20260424T070102
CREATED:20250520T140543Z
LAST-MODIFIED:20250520T140543Z
UID:10001870-1751274000-1751295600@www.bradleybeachnj.gov
SUMMARY:First Day of Summer Camp 2025
DESCRIPTION:
URL:https://www.bradleybeachnj.gov/event/first-day-of-summer-camp-2025-2/
LOCATION:Bradley Beach Rec Center\, 39 1/2 Main St\, Bradley Beach\, NJ\, 07720\, United States
CATEGORIES:Recreation Calendar
END:VEVENT
BEGIN:VEVENT
DTSTART;TZID=America/New_York:20250627T130000
DTEND;TZID=America/New_York:20250627T150000
DTSTAMP:20260424T070102
CREATED:20250409T133333Z
LAST-MODIFIED:20250409T133333Z
UID:10001824-1751029200-1751036400@www.bradleybeachnj.gov
SUMMARY:Mah Jong Open Play
DESCRIPTION:
URL:https://www.bradleybeachnj.gov/event/mah-jong-open-play/2025-06-27/
LOCATION:Carmen Biase Center\, 719 Main St\, Bradley Beach\, NJ\, 07720\, United States
CATEGORIES:Recreation Calendar
END:VEVENT
BEGIN:VEVENT
DTSTART;TZID=America/New_York:20250626T183000
DTEND;TZID=America/New_York:20250626T203000
DTSTAMP:20260424T070102
CREATED:20250409T132905Z
LAST-MODIFIED:20250409T132905Z
UID:10001812-1750962600-1750969800@www.bradleybeachnj.gov
SUMMARY:Spring Bocce League
DESCRIPTION:
URL:https://www.bradleybeachnj.gov/event/spring-bocce-league-4/2025-06-26/
LOCATION:NJ
CATEGORIES:Recreation Calendar
END:VEVENT
BEGIN:VEVENT
DTSTART;TZID=America/New_York:20250625T190000
DTEND;TZID=America/New_York:20250625T210000
DTSTAMP:20260424T070102
CREATED:20250616T121038Z
LAST-MODIFIED:20250616T121038Z
UID:10001606-1750878000-1750885200@www.bradleybeachnj.gov
SUMMARY:Summer Jazz Series
DESCRIPTION:Bradley Beach Tourism Commission presents its 2025 event series! Click here for more information and full schedule! 
URL:https://www.bradleybeachnj.gov/event/summer-jazz-series/2025-06-25/
LOCATION:Riley Park
CATEGORIES:Community Events Calendar,Tourism Event Calendar
ATTACH;FMTTYPE=image/png:https://www.bradleybeachnj.gov/wp-content/uploads/2025/06/Screenshot-2025-03-18-at-8.51.08 AM.png
END:VEVENT
BEGIN:VEVENT
DTSTART;TZID=America/New_York:20250625T190000
DTEND;TZID=America/New_York:20250625T210000
DTSTAMP:20260424T070102
CREATED:20250616T120101Z
LAST-MODIFIED:20250616T120437Z
UID:10001877-1750878000-1750885200@www.bradleybeachnj.gov
SUMMARY:Beatles Concert
DESCRIPTION:Bradley Beach Tourism Commission presents its 2025 event series! Click here for more information and full schedule! 
URL:https://www.bradleybeachnj.gov/event/beatles-concert/
LOCATION:Riley Park
CATEGORIES:Community Events Calendar,Tourism Event Calendar
ATTACH;FMTTYPE=image/jpeg:https://www.bradleybeachnj.gov/wp-content/uploads/2025/06/493257359_1107178664787303_48204932084954713_n.jpg
END:VEVENT
BEGIN:VEVENT
DTSTART;TZID=America/New_York:20250625T183000
DTEND;TZID=America/New_York:20250625T203000
DTSTAMP:20260424T070102
CREATED:20250409T132823Z
LAST-MODIFIED:20250409T132823Z
UID:10001804-1750876200-1750883400@www.bradleybeachnj.gov
SUMMARY:Spring Bocce League
DESCRIPTION:
URL:https://www.bradleybeachnj.gov/event/spring-bocce-league-3/2025-06-25/
LOCATION:NJ
CATEGORIES:Recreation Calendar
END:VEVENT
BEGIN:VEVENT
DTSTART;TZID=America/New_York:20250625T120000
DTEND;TZID=America/New_York:20250625T150000
DTSTAMP:20260424T070102
CREATED:20250409T133626Z
LAST-MODIFIED:20250409T133626Z
UID:10001852-1750852800-1750863600@www.bradleybeachnj.gov
SUMMARY:Senior Club Meeting
DESCRIPTION:
URL:https://www.bradleybeachnj.gov/event/senior-club-meeting-12/
LOCATION:Carmen Biase Center\, 719 Main St\, Bradley Beach\, NJ\, 07720\, United States
CATEGORIES:Recreation Calendar
END:VEVENT
BEGIN:VEVENT
DTSTART;TZID=America/New_York:20250624T183000
DTEND;TZID=America/New_York:20250624T203000
DTSTAMP:20260424T070102
CREATED:20250409T132744Z
LAST-MODIFIED:20250409T132744Z
UID:10001796-1750789800-1750797000@www.bradleybeachnj.gov
SUMMARY:Spring Bocce League
DESCRIPTION:
URL:https://www.bradleybeachnj.gov/event/spring-bocce-league-2/2025-06-24/
LOCATION:NJ
CATEGORIES:Recreation Calendar
END:VEVENT
BEGIN:VEVENT
DTSTART;TZID=America/New_York:20250624T180000
DTEND;TZID=America/New_York:20250624T200000
DTSTAMP:20260424T070102
CREATED:20250616T122231Z
LAST-MODIFIED:20250616T122231Z
UID:10001629-1750788000-1750795200@www.bradleybeachnj.gov
SUMMARY:Country Line Dance Lessons
DESCRIPTION:
URL:https://www.bradleybeachnj.gov/event/country-line-dance-lessons/
LOCATION:5th Ave Gazebo\, 5th ave\, Bradley Beach\, New Jersey\, 07720
CATEGORIES:Community Events Calendar,Tourism Event Calendar
ATTACH;FMTTYPE=image/jpeg:https://www.bradleybeachnj.gov/wp-content/uploads/2025/06/499243544_122198017064106976_6073492526588553111_n-1.jpg
END:VEVENT
BEGIN:VEVENT
DTSTART;TZID=America/New_York:20250623T190000
DTEND;TZID=America/New_York:20250623T210000
DTSTAMP:20260424T070102
CREATED:20250616T121038Z
LAST-MODIFIED:20250616T121038Z
UID:10001605-1750705200-1750712400@www.bradleybeachnj.gov
SUMMARY:Summer Jazz Series
DESCRIPTION:Bradley Beach Tourism Commission presents its 2025 event series! Click here for more information and full schedule! 
URL:https://www.bradleybeachnj.gov/event/summer-jazz-series/2025-06-23/
LOCATION:Riley Park
CATEGORIES:Community Events Calendar,Tourism Event Calendar
ATTACH;FMTTYPE=image/png:https://www.bradleybeachnj.gov/wp-content/uploads/2025/06/Screenshot-2025-03-18-at-8.51.08 AM.png
END:VEVENT
BEGIN:VEVENT
DTSTART;TZID=America/New_York:20250623T183000
DTEND;TZID=America/New_York:20250623T183000
DTSTAMP:20260424T070102
CREATED:20241211T025353Z
LAST-MODIFIED:20250612T171640Z
UID:10001747-1750703400-1750703400@www.bradleybeachnj.gov
SUMMARY:Charter Study Commission Meeting *CANCELLED*
DESCRIPTION:701 Main Street\, Bradley Beach \nPLEASE BE ADVISED THIS MEETING HAS BEEN CANCELLED.
URL:https://www.bradleybeachnj.gov/event/charter-study-commission-meeting-13/
LOCATION:NJ
CATEGORIES:Borough Meetings
END:VEVENT
BEGIN:VEVENT
DTSTART;TZID=America/New_York:20250620T130000
DTEND;TZID=America/New_York:20250620T150000
DTSTAMP:20260424T070102
CREATED:20250409T133333Z
LAST-MODIFIED:20250409T133333Z
UID:10001823-1750424400-1750431600@www.bradleybeachnj.gov
SUMMARY:Mah Jong Open Play
DESCRIPTION:
URL:https://www.bradleybeachnj.gov/event/mah-jong-open-play/2025-06-20/
LOCATION:Carmen Biase Center\, 719 Main St\, Bradley Beach\, NJ\, 07720\, United States
CATEGORIES:Recreation Calendar
END:VEVENT
BEGIN:VEVENT
DTSTART;TZID=America/New_York:20250619T183000
DTEND;TZID=America/New_York:20250619T203000
DTSTAMP:20260424T070102
CREATED:20250409T132905Z
LAST-MODIFIED:20250409T132905Z
UID:10001811-1750357800-1750365000@www.bradleybeachnj.gov
SUMMARY:Spring Bocce League
DESCRIPTION:
URL:https://www.bradleybeachnj.gov/event/spring-bocce-league-4/2025-06-19/
LOCATION:NJ
CATEGORIES:Recreation Calendar
END:VEVENT
BEGIN:VEVENT
DTSTART;TZID=America/New_York:20250619T183000
DTEND;TZID=America/New_York:20250619T183000
DTSTAMP:20260424T070102
CREATED:20250212T205706Z
LAST-MODIFIED:20250605T134040Z
UID:10001773-1750357800-1750357800@www.bradleybeachnj.gov
SUMMARY:LAND USE BOARD MEETING CANCELLED BOROUGH HALL CLOSED FOR HOLIDAY
DESCRIPTION:
URL:https://www.bradleybeachnj.gov/event/land-use-board-regular-meeting-18/
LOCATION:Borough Hall Meeting Room\, 701 Main Street\, Bradley Beach\, NJ\, 07720\, United States
CATEGORIES:Borough Meetings
END:VEVENT
BEGIN:VEVENT
DTSTART;TZID=America/New_York:20250618T190000
DTEND;TZID=America/New_York:20250618T210000
DTSTAMP:20260424T070102
CREATED:20250616T121038Z
LAST-MODIFIED:20250616T121038Z
UID:10001604-1750273200-1750280400@www.bradleybeachnj.gov
SUMMARY:Summer Jazz Series
DESCRIPTION:Bradley Beach Tourism Commission presents its 2025 event series! Click here for more information and full schedule! 
URL:https://www.bradleybeachnj.gov/event/summer-jazz-series/2025-06-18/
LOCATION:Riley Park
CATEGORIES:Community Events Calendar,Tourism Event Calendar
ATTACH;FMTTYPE=image/png:https://www.bradleybeachnj.gov/wp-content/uploads/2025/06/Screenshot-2025-03-18-at-8.51.08 AM.png
END:VEVENT
BEGIN:VEVENT
DTSTART;TZID=America/New_York:20250618T183000
DTEND;TZID=America/New_York:20250618T203000
DTSTAMP:20260424T070102
CREATED:20250409T132823Z
LAST-MODIFIED:20250409T132823Z
UID:10001803-1750271400-1750278600@www.bradleybeachnj.gov
SUMMARY:Spring Bocce League
DESCRIPTION:
URL:https://www.bradleybeachnj.gov/event/spring-bocce-league-3/2025-06-18/
LOCATION:NJ
CATEGORIES:Recreation Calendar
END:VEVENT
BEGIN:VEVENT
DTSTART;TZID=America/New_York:20250618T183000
DTEND;TZID=America/New_York:20250618T183000
DTSTAMP:20260424T070102
CREATED:20241218T155021Z
LAST-MODIFIED:20250619T032631Z
UID:10001750-1750271400-1750271400@www.bradleybeachnj.gov
SUMMARY:Public Hearing/Adoption for the 2025 Budget Amendment & Municipal Budget & Council Business Meeting 6/18/25 (Rescheduled from 6/17/25)
DESCRIPTION:701 Main Street\, Bradley Beach \n6-18-25 Council Business Meeting Hybrid Video \nhttps://youtu.be/HkvJLwFNwtk \n6-18-25 Council Business Meeting Agenda \nBradley Beach Report of Financial Review  \nResolution 2025-216 Adoption of the 2025 Municipal Budget \nResolution 2025-214 Award of Bid for Newark Avenue Concession – To be posted when available. \nResolution 2025-217 Seasonal Gate Guard Appointments \nResolution 2025-218 ABC License Renewa D’Arcy’s Tavern \nResolution 2025-219 Approval to Temporarily add LED Lighting in Fletcher Lake \nResolution 2025-220 Ocean Park Avenue Improvements Grant FY2026 MA \nResolution 2025-221 Authorizing Purchase of Playground Equipment for Recreation Center through ESCNJ Cooperative Contract \nResolution 2025-222 Rubber Recycle NJ State Contract for the Recreation Center Playground \nResolution 2025-223 Endorsing the 2025 Housing Element (HEFSP) \nResolution 2025-224 Authorizing an Amendment to a Proposal from Suburban Consulting Engineers for Sewer Replacement Grant Application (REVISED for 6.18.25) \n2025-225 Award of Contract for Fifth Avenue Sanitary Sewer Improvements\, Phase I – To be posted when available. \nResolution 2025-226 Bill List 6-18-25 \nResolution 2025-227 Executive Session 6-18-25 \nIn accordance with the provisions of the Open Public Meetings Act\, N.J.S.A 10:4-6 to 10:4-21\, the Borough of Bradley Beach will hold their Budget Amendment Introduction Public Hearing & Council Business Meeting thereafter on Wednesday\, June 18\, 2025 at 6:30 p.m. This will be a Hybrid Meeting and may be attended both in person and through Zoom\, to include streaming services and other online meeting platforms from the Meeting Room\, 701 Main Street\, Bradley Beach\, NJ 07720. Formal action will be taken. \nAs a courtesy to the public this meeting may be attended via Zoom. If for any reason Zoom fails or is disconnected\, the in-person meeting will continue without interruption\, and action can and will be taken providing there is an in-person Council Quorum. \nTopic: June 18\, 2025 Public Hearing & Adoption for the Budget Amendment and Municipal Budget & Hearing & Council Business Meeting\nTime: 6:30 P.M. Eastern Time (US and Canada) \nJoin Zoom Meeting\nhttps://us06web.zoom.us/j/81717347164?pwd=ag3uYmPQQvPrwbs8HB1b7dhdWgx9Ao.1 \nMeeting ID: 817 1734 7164\nPasscode: 906754 \nOne tap mobile\n+13092053325\,\,81717347164#\,\,\,\,*906754# US\n+13126266799\,\,81717347164#\,\,\,\,*906754# US (Chicago) \nDial by your location\n• +1 309 205 3325 US\n• +1 312 626 6799 US (Chicago)\n• +1 646 558 8656 US (New York)\n• +1 646 931 3860 US\n• +1 301 715 8592 US (Washington DC)\n• +1 305 224 1968 US\n• +1 719 359 4580 US\n• +1 720 707 2699 US (Denver)\n• +1 253 205 0468 US\n• +1 253 215 8782 US (Tacoma)\n• +1 346 248 7799 US (Houston)\n• +1 360 209 5623 US\n• +1 386 347 5053 US\n• +1 507 473 4847 US\n• +1 564 217 2000 US\n• +1 669 444 9171 US\n• +1 689 278 1000 US \nFind your local number: https://us06web.zoom.us/u/kbxMV5B3qS \nThe meeting also will be streamed live on our regular YouTube Board Meeting Channel for public viewing only. \nhttps://www.youtube.com/channel/UCrn8buRB6-0XVnSbhBYnHDg/videos \nErica Kostyz\, RMC\, CMR\nMunicipal Clerk
URL:https://www.bradleybeachnj.gov/event/council-business-meeting-48/
LOCATION:NJ
CATEGORIES:Borough Meetings
END:VEVENT
BEGIN:VEVENT
DTSTART;TZID=America/New_York:20250617T183000
DTEND;TZID=America/New_York:20250617T203000
DTSTAMP:20260424T070102
CREATED:20250409T132744Z
LAST-MODIFIED:20250409T132744Z
UID:10001795-1750185000-1750192200@www.bradleybeachnj.gov
SUMMARY:Spring Bocce League
DESCRIPTION:
URL:https://www.bradleybeachnj.gov/event/spring-bocce-league-2/2025-06-17/
LOCATION:NJ
CATEGORIES:Recreation Calendar
END:VEVENT
BEGIN:VEVENT
DTSTART;TZID=America/New_York:20250616T190000
DTEND;TZID=America/New_York:20250616T210000
DTSTAMP:20260424T070102
CREATED:20250616T121038Z
LAST-MODIFIED:20250616T121038Z
UID:10001603-1750100400-1750107600@www.bradleybeachnj.gov
SUMMARY:Summer Jazz Series
DESCRIPTION:Bradley Beach Tourism Commission presents its 2025 event series! Click here for more information and full schedule! 
URL:https://www.bradleybeachnj.gov/event/summer-jazz-series/2025-06-16/
LOCATION:Riley Park
CATEGORIES:Community Events Calendar,Tourism Event Calendar
ATTACH;FMTTYPE=image/png:https://www.bradleybeachnj.gov/wp-content/uploads/2025/06/Screenshot-2025-03-18-at-8.51.08 AM.png
END:VEVENT
BEGIN:VEVENT
DTSTART;TZID=America/New_York:20250613T180000
DTEND;TZID=America/New_York:20250613T200000
DTSTAMP:20260424T070102
CREATED:20250520T140706Z
LAST-MODIFIED:20250520T140706Z
UID:10001871-1749837600-1749844800@www.bradleybeachnj.gov
SUMMARY:Fathers Day Kickball Tournament
DESCRIPTION:
URL:https://www.bradleybeachnj.gov/event/fathers-day-kickball-tournament/
LOCATION:NJ
CATEGORIES:Recreation Calendar
ATTACH;FMTTYPE=image/png:https://www.bradleybeachnj.gov/wp-content/uploads/2025/05/Fathers-Day-Kickball-5.png
END:VEVENT
BEGIN:VEVENT
DTSTART;TZID=America/New_York:20250613T130000
DTEND;TZID=America/New_York:20250613T150000
DTSTAMP:20260424T070102
CREATED:20250409T133333Z
LAST-MODIFIED:20250409T133333Z
UID:10001822-1749819600-1749826800@www.bradleybeachnj.gov
SUMMARY:Mah Jong Open Play
DESCRIPTION:
URL:https://www.bradleybeachnj.gov/event/mah-jong-open-play/2025-06-13/
LOCATION:Carmen Biase Center\, 719 Main St\, Bradley Beach\, NJ\, 07720\, United States
CATEGORIES:Recreation Calendar
END:VEVENT
BEGIN:VEVENT
DTSTART;TZID=America/New_York:20250612T183000
DTEND;TZID=America/New_York:20250612T203000
DTSTAMP:20260424T070102
CREATED:20250409T132905Z
LAST-MODIFIED:20250409T132905Z
UID:10001810-1749753000-1749760200@www.bradleybeachnj.gov
SUMMARY:Spring Bocce League
DESCRIPTION:
URL:https://www.bradleybeachnj.gov/event/spring-bocce-league-4/2025-06-12/
LOCATION:NJ
CATEGORIES:Recreation Calendar
END:VEVENT
END:VCALENDAR