BEGIN:VCALENDAR
VERSION:2.0
PRODID:-//Bradley Beach - ECPv6.15.18//NONSGML v1.0//EN
CALSCALE:GREGORIAN
METHOD:PUBLISH
X-ORIGINAL-URL:https://www.bradleybeachnj.gov
X-WR-CALDESC:Events for Bradley Beach
REFRESH-INTERVAL;VALUE=DURATION:PT1H
X-Robots-Tag:noindex
X-PUBLISHED-TTL:PT1H
BEGIN:VTIMEZONE
TZID:America/New_York
BEGIN:DAYLIGHT
TZOFFSETFROM:-0500
TZOFFSETTO:-0400
TZNAME:EDT
DTSTART:20290311T070000
END:DAYLIGHT
BEGIN:STANDARD
TZOFFSETFROM:-0400
TZOFFSETTO:-0500
TZNAME:EST
DTSTART:20291104T060000
END:STANDARD
BEGIN:DAYLIGHT
TZOFFSETFROM:-0500
TZOFFSETTO:-0400
TZNAME:EDT
DTSTART:20300310T070000
END:DAYLIGHT
BEGIN:STANDARD
TZOFFSETFROM:-0400
TZOFFSETTO:-0500
TZNAME:EST
DTSTART:20301103T060000
END:STANDARD
BEGIN:DAYLIGHT
TZOFFSETFROM:-0500
TZOFFSETTO:-0400
TZNAME:EDT
DTSTART:20310309T070000
END:DAYLIGHT
BEGIN:STANDARD
TZOFFSETFROM:-0400
TZOFFSETTO:-0500
TZNAME:EST
DTSTART:20311102T060000
END:STANDARD
END:VTIMEZONE
BEGIN:VEVENT
DTSTART;TZID=America/New_York:20300510T130000
DTEND;TZID=America/New_York:20300510T150000
DTSTAMP:20260425T115552
CREATED:20260217T145947Z
LAST-MODIFIED:20260217T145947Z
UID:10002293-1904648400-1904655600@www.bradleybeachnj.gov
SUMMARY:Open Play Mahjong
DESCRIPTION:
URL:https://www.bradleybeachnj.gov/event/open-play-mahjong/2030-05-10/
LOCATION:Carmen Biase Center\, 719 Main St\, Bradley Beach\, NJ\, 07720\, United States
CATEGORIES:Recreation Calendar
END:VEVENT
BEGIN:VEVENT
DTSTART;TZID=America/New_York:20300517T130000
DTEND;TZID=America/New_York:20300517T150000
DTSTAMP:20260425T115552
CREATED:20260217T145947Z
LAST-MODIFIED:20260217T145947Z
UID:10002294-1905253200-1905260400@www.bradleybeachnj.gov
SUMMARY:Open Play Mahjong
DESCRIPTION:
URL:https://www.bradleybeachnj.gov/event/open-play-mahjong/2030-05-17/
LOCATION:Carmen Biase Center\, 719 Main St\, Bradley Beach\, NJ\, 07720\, United States
CATEGORIES:Recreation Calendar
END:VEVENT
BEGIN:VEVENT
DTSTART;TZID=America/New_York:20300524T130000
DTEND;TZID=America/New_York:20300524T150000
DTSTAMP:20260425T115552
CREATED:20260217T145947Z
LAST-MODIFIED:20260217T145947Z
UID:10002295-1905858000-1905865200@www.bradleybeachnj.gov
SUMMARY:Open Play Mahjong
DESCRIPTION:
URL:https://www.bradleybeachnj.gov/event/open-play-mahjong/2030-05-24/
LOCATION:Carmen Biase Center\, 719 Main St\, Bradley Beach\, NJ\, 07720\, United States
CATEGORIES:Recreation Calendar
END:VEVENT
BEGIN:VEVENT
DTSTART;TZID=America/New_York:20300531T130000
DTEND;TZID=America/New_York:20300531T150000
DTSTAMP:20260425T115552
CREATED:20260217T145947Z
LAST-MODIFIED:20260217T145947Z
UID:10002296-1906462800-1906470000@www.bradleybeachnj.gov
SUMMARY:Open Play Mahjong
DESCRIPTION:
URL:https://www.bradleybeachnj.gov/event/open-play-mahjong/2030-05-31/
LOCATION:Carmen Biase Center\, 719 Main St\, Bradley Beach\, NJ\, 07720\, United States
CATEGORIES:Recreation Calendar
END:VEVENT
BEGIN:VEVENT
DTSTART;TZID=America/New_York:20300607T130000
DTEND;TZID=America/New_York:20300607T150000
DTSTAMP:20260425T115552
CREATED:20260217T145947Z
LAST-MODIFIED:20260217T145947Z
UID:10002297-1907067600-1907074800@www.bradleybeachnj.gov
SUMMARY:Open Play Mahjong
DESCRIPTION:
URL:https://www.bradleybeachnj.gov/event/open-play-mahjong/2030-06-07/
LOCATION:Carmen Biase Center\, 719 Main St\, Bradley Beach\, NJ\, 07720\, United States
CATEGORIES:Recreation Calendar
END:VEVENT
BEGIN:VEVENT
DTSTART;TZID=America/New_York:20300614T130000
DTEND;TZID=America/New_York:20300614T150000
DTSTAMP:20260425T115552
CREATED:20260217T145947Z
LAST-MODIFIED:20260217T145947Z
UID:10002298-1907672400-1907679600@www.bradleybeachnj.gov
SUMMARY:Open Play Mahjong
DESCRIPTION:
URL:https://www.bradleybeachnj.gov/event/open-play-mahjong/2030-06-14/
LOCATION:Carmen Biase Center\, 719 Main St\, Bradley Beach\, NJ\, 07720\, United States
CATEGORIES:Recreation Calendar
END:VEVENT
BEGIN:VEVENT
DTSTART;TZID=America/New_York:20300621T130000
DTEND;TZID=America/New_York:20300621T150000
DTSTAMP:20260425T115552
CREATED:20260217T145947Z
LAST-MODIFIED:20260217T145947Z
UID:10002299-1908277200-1908284400@www.bradleybeachnj.gov
SUMMARY:Open Play Mahjong
DESCRIPTION:
URL:https://www.bradleybeachnj.gov/event/open-play-mahjong/2030-06-21/
LOCATION:Carmen Biase Center\, 719 Main St\, Bradley Beach\, NJ\, 07720\, United States
CATEGORIES:Recreation Calendar
END:VEVENT
BEGIN:VEVENT
DTSTART;TZID=America/New_York:20300628T130000
DTEND;TZID=America/New_York:20300628T150000
DTSTAMP:20260425T115552
CREATED:20260217T145947Z
LAST-MODIFIED:20260217T145947Z
UID:10002300-1908882000-1908889200@www.bradleybeachnj.gov
SUMMARY:Open Play Mahjong
DESCRIPTION:
URL:https://www.bradleybeachnj.gov/event/open-play-mahjong/2030-06-28/
LOCATION:Carmen Biase Center\, 719 Main St\, Bradley Beach\, NJ\, 07720\, United States
CATEGORIES:Recreation Calendar
END:VEVENT
BEGIN:VEVENT
DTSTART;TZID=America/New_York:20300705T130000
DTEND;TZID=America/New_York:20300705T150000
DTSTAMP:20260425T115552
CREATED:20260217T145947Z
LAST-MODIFIED:20260217T145947Z
UID:10002301-1909486800-1909494000@www.bradleybeachnj.gov
SUMMARY:Open Play Mahjong
DESCRIPTION:
URL:https://www.bradleybeachnj.gov/event/open-play-mahjong/2030-07-05/
LOCATION:Carmen Biase Center\, 719 Main St\, Bradley Beach\, NJ\, 07720\, United States
CATEGORIES:Recreation Calendar
END:VEVENT
BEGIN:VEVENT
DTSTART;TZID=America/New_York:20300712T130000
DTEND;TZID=America/New_York:20300712T150000
DTSTAMP:20260425T115552
CREATED:20260217T145947Z
LAST-MODIFIED:20260217T145947Z
UID:10002302-1910091600-1910098800@www.bradleybeachnj.gov
SUMMARY:Open Play Mahjong
DESCRIPTION:
URL:https://www.bradleybeachnj.gov/event/open-play-mahjong/2030-07-12/
LOCATION:Carmen Biase Center\, 719 Main St\, Bradley Beach\, NJ\, 07720\, United States
CATEGORIES:Recreation Calendar
END:VEVENT
BEGIN:VEVENT
DTSTART;TZID=America/New_York:20300719T130000
DTEND;TZID=America/New_York:20300719T150000
DTSTAMP:20260425T115552
CREATED:20260217T145947Z
LAST-MODIFIED:20260217T145947Z
UID:10002303-1910696400-1910703600@www.bradleybeachnj.gov
SUMMARY:Open Play Mahjong
DESCRIPTION:
URL:https://www.bradleybeachnj.gov/event/open-play-mahjong/2030-07-19/
LOCATION:Carmen Biase Center\, 719 Main St\, Bradley Beach\, NJ\, 07720\, United States
CATEGORIES:Recreation Calendar
END:VEVENT
BEGIN:VEVENT
DTSTART;TZID=America/New_York:20300726T130000
DTEND;TZID=America/New_York:20300726T150000
DTSTAMP:20260425T115552
CREATED:20260217T145947Z
LAST-MODIFIED:20260217T145947Z
UID:10002304-1911301200-1911308400@www.bradleybeachnj.gov
SUMMARY:Open Play Mahjong
DESCRIPTION:
URL:https://www.bradleybeachnj.gov/event/open-play-mahjong/2030-07-26/
LOCATION:Carmen Biase Center\, 719 Main St\, Bradley Beach\, NJ\, 07720\, United States
CATEGORIES:Recreation Calendar
END:VEVENT
BEGIN:VEVENT
DTSTART;TZID=America/New_York:20300802T130000
DTEND;TZID=America/New_York:20300802T150000
DTSTAMP:20260425T115552
CREATED:20260217T145947Z
LAST-MODIFIED:20260217T145947Z
UID:10002305-1911906000-1911913200@www.bradleybeachnj.gov
SUMMARY:Open Play Mahjong
DESCRIPTION:
URL:https://www.bradleybeachnj.gov/event/open-play-mahjong/2030-08-02/
LOCATION:Carmen Biase Center\, 719 Main St\, Bradley Beach\, NJ\, 07720\, United States
CATEGORIES:Recreation Calendar
END:VEVENT
BEGIN:VEVENT
DTSTART;TZID=America/New_York:20300809T130000
DTEND;TZID=America/New_York:20300809T150000
DTSTAMP:20260425T115552
CREATED:20260217T145947Z
LAST-MODIFIED:20260217T145947Z
UID:10002306-1912510800-1912518000@www.bradleybeachnj.gov
SUMMARY:Open Play Mahjong
DESCRIPTION:
URL:https://www.bradleybeachnj.gov/event/open-play-mahjong/2030-08-09/
LOCATION:Carmen Biase Center\, 719 Main St\, Bradley Beach\, NJ\, 07720\, United States
CATEGORIES:Recreation Calendar
END:VEVENT
BEGIN:VEVENT
DTSTART;TZID=America/New_York:20300816T130000
DTEND;TZID=America/New_York:20300816T150000
DTSTAMP:20260425T115552
CREATED:20260217T145947Z
LAST-MODIFIED:20260217T145947Z
UID:10002307-1913115600-1913122800@www.bradleybeachnj.gov
SUMMARY:Open Play Mahjong
DESCRIPTION:
URL:https://www.bradleybeachnj.gov/event/open-play-mahjong/2030-08-16/
LOCATION:Carmen Biase Center\, 719 Main St\, Bradley Beach\, NJ\, 07720\, United States
CATEGORIES:Recreation Calendar
END:VEVENT
BEGIN:VEVENT
DTSTART;TZID=America/New_York:20300823T130000
DTEND;TZID=America/New_York:20300823T150000
DTSTAMP:20260425T115552
CREATED:20260217T145947Z
LAST-MODIFIED:20260217T145947Z
UID:10002308-1913720400-1913727600@www.bradleybeachnj.gov
SUMMARY:Open Play Mahjong
DESCRIPTION:
URL:https://www.bradleybeachnj.gov/event/open-play-mahjong/2030-08-23/
LOCATION:Carmen Biase Center\, 719 Main St\, Bradley Beach\, NJ\, 07720\, United States
CATEGORIES:Recreation Calendar
END:VEVENT
BEGIN:VEVENT
DTSTART;TZID=America/New_York:20300830T130000
DTEND;TZID=America/New_York:20300830T150000
DTSTAMP:20260425T115552
CREATED:20260217T145947Z
LAST-MODIFIED:20260217T145947Z
UID:10002309-1914325200-1914332400@www.bradleybeachnj.gov
SUMMARY:Open Play Mahjong
DESCRIPTION:
URL:https://www.bradleybeachnj.gov/event/open-play-mahjong/2030-08-30/
LOCATION:Carmen Biase Center\, 719 Main St\, Bradley Beach\, NJ\, 07720\, United States
CATEGORIES:Recreation Calendar
END:VEVENT
BEGIN:VEVENT
DTSTART;TZID=America/New_York:20300906T130000
DTEND;TZID=America/New_York:20300906T150000
DTSTAMP:20260425T115552
CREATED:20260217T145947Z
LAST-MODIFIED:20260217T145947Z
UID:10002310-1914930000-1914937200@www.bradleybeachnj.gov
SUMMARY:Open Play Mahjong
DESCRIPTION:
URL:https://www.bradleybeachnj.gov/event/open-play-mahjong/2030-09-06/
LOCATION:Carmen Biase Center\, 719 Main St\, Bradley Beach\, NJ\, 07720\, United States
CATEGORIES:Recreation Calendar
END:VEVENT
BEGIN:VEVENT
DTSTART;TZID=America/New_York:20300913T130000
DTEND;TZID=America/New_York:20300913T150000
DTSTAMP:20260425T115552
CREATED:20260217T145947Z
LAST-MODIFIED:20260217T145947Z
UID:10002311-1915534800-1915542000@www.bradleybeachnj.gov
SUMMARY:Open Play Mahjong
DESCRIPTION:
URL:https://www.bradleybeachnj.gov/event/open-play-mahjong/2030-09-13/
LOCATION:Carmen Biase Center\, 719 Main St\, Bradley Beach\, NJ\, 07720\, United States
CATEGORIES:Recreation Calendar
END:VEVENT
BEGIN:VEVENT
DTSTART;TZID=America/New_York:20300920T130000
DTEND;TZID=America/New_York:20300920T150000
DTSTAMP:20260425T115552
CREATED:20260217T145947Z
LAST-MODIFIED:20260217T145947Z
UID:10002312-1916139600-1916146800@www.bradleybeachnj.gov
SUMMARY:Open Play Mahjong
DESCRIPTION:
URL:https://www.bradleybeachnj.gov/event/open-play-mahjong/2030-09-20/
LOCATION:Carmen Biase Center\, 719 Main St\, Bradley Beach\, NJ\, 07720\, United States
CATEGORIES:Recreation Calendar
END:VEVENT
BEGIN:VEVENT
DTSTART;TZID=America/New_York:20300927T130000
DTEND;TZID=America/New_York:20300927T150000
DTSTAMP:20260425T115552
CREATED:20260217T145947Z
LAST-MODIFIED:20260217T145947Z
UID:10002313-1916744400-1916751600@www.bradleybeachnj.gov
SUMMARY:Open Play Mahjong
DESCRIPTION:
URL:https://www.bradleybeachnj.gov/event/open-play-mahjong/2030-09-27/
LOCATION:Carmen Biase Center\, 719 Main St\, Bradley Beach\, NJ\, 07720\, United States
CATEGORIES:Recreation Calendar
END:VEVENT
BEGIN:VEVENT
DTSTART;TZID=America/New_York:20301004T130000
DTEND;TZID=America/New_York:20301004T150000
DTSTAMP:20260425T115552
CREATED:20260217T145947Z
LAST-MODIFIED:20260217T145947Z
UID:10002314-1917349200-1917356400@www.bradleybeachnj.gov
SUMMARY:Open Play Mahjong
DESCRIPTION:
URL:https://www.bradleybeachnj.gov/event/open-play-mahjong/2030-10-04/
LOCATION:Carmen Biase Center\, 719 Main St\, Bradley Beach\, NJ\, 07720\, United States
CATEGORIES:Recreation Calendar
END:VEVENT
BEGIN:VEVENT
DTSTART;TZID=America/New_York:20301011T130000
DTEND;TZID=America/New_York:20301011T150000
DTSTAMP:20260425T115552
CREATED:20260217T145947Z
LAST-MODIFIED:20260217T145947Z
UID:10002315-1917954000-1917961200@www.bradleybeachnj.gov
SUMMARY:Open Play Mahjong
DESCRIPTION:
URL:https://www.bradleybeachnj.gov/event/open-play-mahjong/2030-10-11/
LOCATION:Carmen Biase Center\, 719 Main St\, Bradley Beach\, NJ\, 07720\, United States
CATEGORIES:Recreation Calendar
END:VEVENT
BEGIN:VEVENT
DTSTART;TZID=America/New_York:20301018T130000
DTEND;TZID=America/New_York:20301018T150000
DTSTAMP:20260425T115552
CREATED:20260217T145947Z
LAST-MODIFIED:20260217T145947Z
UID:10002316-1918558800-1918566000@www.bradleybeachnj.gov
SUMMARY:Open Play Mahjong
DESCRIPTION:
URL:https://www.bradleybeachnj.gov/event/open-play-mahjong/2030-10-18/
LOCATION:Carmen Biase Center\, 719 Main St\, Bradley Beach\, NJ\, 07720\, United States
CATEGORIES:Recreation Calendar
END:VEVENT
BEGIN:VEVENT
DTSTART;TZID=America/New_York:20301025T130000
DTEND;TZID=America/New_York:20301025T150000
DTSTAMP:20260425T115552
CREATED:20260217T145947Z
LAST-MODIFIED:20260217T145947Z
UID:10002317-1919163600-1919170800@www.bradleybeachnj.gov
SUMMARY:Open Play Mahjong
DESCRIPTION:
URL:https://www.bradleybeachnj.gov/event/open-play-mahjong/2030-10-25/
LOCATION:Carmen Biase Center\, 719 Main St\, Bradley Beach\, NJ\, 07720\, United States
CATEGORIES:Recreation Calendar
END:VEVENT
BEGIN:VEVENT
DTSTART;TZID=America/New_York:20301101T130000
DTEND;TZID=America/New_York:20301101T150000
DTSTAMP:20260425T115552
CREATED:20260217T145947Z
LAST-MODIFIED:20260217T145947Z
UID:10002318-1919768400-1919775600@www.bradleybeachnj.gov
SUMMARY:Open Play Mahjong
DESCRIPTION:
URL:https://www.bradleybeachnj.gov/event/open-play-mahjong/2030-11-01/
LOCATION:Carmen Biase Center\, 719 Main St\, Bradley Beach\, NJ\, 07720\, United States
CATEGORIES:Recreation Calendar
END:VEVENT
BEGIN:VEVENT
DTSTART;TZID=America/New_York:20301108T130000
DTEND;TZID=America/New_York:20301108T150000
DTSTAMP:20260425T115552
CREATED:20260217T145947Z
LAST-MODIFIED:20260217T145947Z
UID:10002319-1920373200-1920380400@www.bradleybeachnj.gov
SUMMARY:Open Play Mahjong
DESCRIPTION:
URL:https://www.bradleybeachnj.gov/event/open-play-mahjong/2030-11-08/
LOCATION:Carmen Biase Center\, 719 Main St\, Bradley Beach\, NJ\, 07720\, United States
CATEGORIES:Recreation Calendar
END:VEVENT
BEGIN:VEVENT
DTSTART;TZID=America/New_York:20301115T130000
DTEND;TZID=America/New_York:20301115T150000
DTSTAMP:20260425T115552
CREATED:20260217T145947Z
LAST-MODIFIED:20260217T145947Z
UID:10002320-1920978000-1920985200@www.bradleybeachnj.gov
SUMMARY:Open Play Mahjong
DESCRIPTION:
URL:https://www.bradleybeachnj.gov/event/open-play-mahjong/2030-11-15/
LOCATION:Carmen Biase Center\, 719 Main St\, Bradley Beach\, NJ\, 07720\, United States
CATEGORIES:Recreation Calendar
END:VEVENT
BEGIN:VEVENT
DTSTART;TZID=America/New_York:20301122T130000
DTEND;TZID=America/New_York:20301122T150000
DTSTAMP:20260425T115552
CREATED:20260217T145947Z
LAST-MODIFIED:20260217T145947Z
UID:10002321-1921582800-1921590000@www.bradleybeachnj.gov
SUMMARY:Open Play Mahjong
DESCRIPTION:
URL:https://www.bradleybeachnj.gov/event/open-play-mahjong/2030-11-22/
LOCATION:Carmen Biase Center\, 719 Main St\, Bradley Beach\, NJ\, 07720\, United States
CATEGORIES:Recreation Calendar
END:VEVENT
BEGIN:VEVENT
DTSTART;TZID=America/New_York:20301129T130000
DTEND;TZID=America/New_York:20301129T150000
DTSTAMP:20260425T115552
CREATED:20260217T145947Z
LAST-MODIFIED:20260217T145947Z
UID:10002322-1922187600-1922194800@www.bradleybeachnj.gov
SUMMARY:Open Play Mahjong
DESCRIPTION:
URL:https://www.bradleybeachnj.gov/event/open-play-mahjong/2030-11-29/
LOCATION:Carmen Biase Center\, 719 Main St\, Bradley Beach\, NJ\, 07720\, United States
CATEGORIES:Recreation Calendar
END:VEVENT
END:VCALENDAR