BEGIN:VCALENDAR
VERSION:2.0
PRODID:-//Bradley Beach - ECPv6.15.18//NONSGML v1.0//EN
CALSCALE:GREGORIAN
METHOD:PUBLISH
X-ORIGINAL-URL:https://www.bradleybeachnj.gov
X-WR-CALDESC:Events for Bradley Beach
REFRESH-INTERVAL;VALUE=DURATION:PT1H
X-Robots-Tag:noindex
X-PUBLISHED-TTL:PT1H
BEGIN:VTIMEZONE
TZID:America/New_York
BEGIN:DAYLIGHT
TZOFFSETFROM:-0500
TZOFFSETTO:-0400
TZNAME:EDT
DTSTART:20250309T070000
END:DAYLIGHT
BEGIN:STANDARD
TZOFFSETFROM:-0400
TZOFFSETTO:-0500
TZNAME:EST
DTSTART:20251102T060000
END:STANDARD
BEGIN:DAYLIGHT
TZOFFSETFROM:-0500
TZOFFSETTO:-0400
TZNAME:EDT
DTSTART:20260308T070000
END:DAYLIGHT
BEGIN:STANDARD
TZOFFSETFROM:-0400
TZOFFSETTO:-0500
TZNAME:EST
DTSTART:20261101T060000
END:STANDARD
BEGIN:DAYLIGHT
TZOFFSETFROM:-0500
TZOFFSETTO:-0400
TZNAME:EDT
DTSTART:20270314T070000
END:DAYLIGHT
BEGIN:STANDARD
TZOFFSETFROM:-0400
TZOFFSETTO:-0500
TZNAME:EST
DTSTART:20271107T060000
END:STANDARD
END:VTIMEZONE
BEGIN:VEVENT
DTSTART;TZID=America/New_York:20260820T183000
DTEND;TZID=America/New_York:20260820T220000
DTSTAMP:20260423T065034
CREATED:20260123T132135Z
LAST-MODIFIED:20260123T132135Z
UID:10002063-1787250600-1787263200@www.bradleybeachnj.gov
SUMMARY:Land Use Board Meeting
DESCRIPTION:
URL:https://www.bradleybeachnj.gov/event/land-use-board-meeting-18/
LOCATION:Borough Hall Meeting Room\, 701 Main Street\, Bradley Beach\, NJ\, 07720\, United States
CATEGORIES:Borough Calendar,Borough Meetings
END:VEVENT
BEGIN:VEVENT
DTSTART;TZID=America/New_York:20260821T130000
DTEND;TZID=America/New_York:20260821T150000
DTSTAMP:20260423T065034
CREATED:20260217T145947Z
LAST-MODIFIED:20260217T145947Z
UID:10002099-1787317200-1787324400@www.bradleybeachnj.gov
SUMMARY:Open Play Mahjong
DESCRIPTION:
URL:https://www.bradleybeachnj.gov/event/open-play-mahjong/2026-08-21/
LOCATION:Carmen Biase Center\, 719 Main St\, Bradley Beach\, NJ\, 07720\, United States
CATEGORIES:Recreation Calendar
END:VEVENT
BEGIN:VEVENT
DTSTART;TZID=America/New_York:20260828T130000
DTEND;TZID=America/New_York:20260828T150000
DTSTAMP:20260423T065034
CREATED:20260217T145947Z
LAST-MODIFIED:20260217T145947Z
UID:10002100-1787922000-1787929200@www.bradleybeachnj.gov
SUMMARY:Open Play Mahjong
DESCRIPTION:
URL:https://www.bradleybeachnj.gov/event/open-play-mahjong/2026-08-28/
LOCATION:Carmen Biase Center\, 719 Main St\, Bradley Beach\, NJ\, 07720\, United States
CATEGORIES:Recreation Calendar
END:VEVENT
BEGIN:VEVENT
DTSTART;TZID=America/New_York:20260901T173000
DTEND;TZID=America/New_York:20260901T173000
DTSTAMP:20260423T065034
CREATED:20251224T180548Z
LAST-MODIFIED:20251224T180548Z
UID:10002042-1788283800-1788283800@www.bradleybeachnj.gov
SUMMARY:Council Business Meeting
DESCRIPTION:701 Main Street
URL:https://www.bradleybeachnj.gov/event/council-business-meeting-72/
LOCATION:NJ
CATEGORIES:Borough Meetings
END:VEVENT
BEGIN:VEVENT
DTSTART;TZID=America/New_York:20260904T130000
DTEND;TZID=America/New_York:20260904T150000
DTSTAMP:20260423T065034
CREATED:20260217T145947Z
LAST-MODIFIED:20260217T145947Z
UID:10002101-1788526800-1788534000@www.bradleybeachnj.gov
SUMMARY:Open Play Mahjong
DESCRIPTION:
URL:https://www.bradleybeachnj.gov/event/open-play-mahjong/2026-09-04/
LOCATION:Carmen Biase Center\, 719 Main St\, Bradley Beach\, NJ\, 07720\, United States
CATEGORIES:Recreation Calendar
END:VEVENT
BEGIN:VEVENT
DTSTART;TZID=America/New_York:20260911T130000
DTEND;TZID=America/New_York:20260911T150000
DTSTAMP:20260423T065035
CREATED:20260217T145947Z
LAST-MODIFIED:20260217T145947Z
UID:10002102-1789131600-1789138800@www.bradleybeachnj.gov
SUMMARY:Open Play Mahjong
DESCRIPTION:
URL:https://www.bradleybeachnj.gov/event/open-play-mahjong/2026-09-11/
LOCATION:Carmen Biase Center\, 719 Main St\, Bradley Beach\, NJ\, 07720\, United States
CATEGORIES:Recreation Calendar
END:VEVENT
BEGIN:VEVENT
DTSTART;TZID=America/New_York:20260915T080000
DTEND;TZID=America/New_York:20260915T170000
DTSTAMP:20260423T065035
CREATED:20251224T180642Z
LAST-MODIFIED:20251224T180642Z
UID:10002043-1789459200-1789491600@www.bradleybeachnj.gov
SUMMARY:Council Business Meeting
DESCRIPTION:701 Main Street
URL:https://www.bradleybeachnj.gov/event/council-business-meeting-73/
LOCATION:NJ
CATEGORIES:Borough Meetings
END:VEVENT
BEGIN:VEVENT
DTSTART;TZID=America/New_York:20260917T183000
DTEND;TZID=America/New_York:20260917T220000
DTSTAMP:20260423T065035
CREATED:20260123T132222Z
LAST-MODIFIED:20260123T132222Z
UID:10002064-1789669800-1789682400@www.bradleybeachnj.gov
SUMMARY:Land Use Board Meeting
DESCRIPTION:
URL:https://www.bradleybeachnj.gov/event/land-use-board-meeting-19/
LOCATION:Borough Hall Meeting Room\, 701 Main Street\, Bradley Beach\, NJ\, 07720\, United States
CATEGORIES:Borough Calendar,Borough Meetings
END:VEVENT
BEGIN:VEVENT
DTSTART;TZID=America/New_York:20260918T130000
DTEND;TZID=America/New_York:20260918T150000
DTSTAMP:20260423T065035
CREATED:20260217T145947Z
LAST-MODIFIED:20260217T145947Z
UID:10002103-1789736400-1789743600@www.bradleybeachnj.gov
SUMMARY:Open Play Mahjong
DESCRIPTION:
URL:https://www.bradleybeachnj.gov/event/open-play-mahjong/2026-09-18/
LOCATION:Carmen Biase Center\, 719 Main St\, Bradley Beach\, NJ\, 07720\, United States
CATEGORIES:Recreation Calendar
END:VEVENT
BEGIN:VEVENT
DTSTART;TZID=America/New_York:20260925T130000
DTEND;TZID=America/New_York:20260925T150000
DTSTAMP:20260423T065035
CREATED:20260217T145947Z
LAST-MODIFIED:20260217T145947Z
UID:10002104-1790341200-1790348400@www.bradleybeachnj.gov
SUMMARY:Open Play Mahjong
DESCRIPTION:
URL:https://www.bradleybeachnj.gov/event/open-play-mahjong/2026-09-25/
LOCATION:Carmen Biase Center\, 719 Main St\, Bradley Beach\, NJ\, 07720\, United States
CATEGORIES:Recreation Calendar
END:VEVENT
BEGIN:VEVENT
DTSTART;TZID=America/New_York:20261002T130000
DTEND;TZID=America/New_York:20261002T150000
DTSTAMP:20260423T065035
CREATED:20260217T145947Z
LAST-MODIFIED:20260217T145947Z
UID:10002105-1790946000-1790953200@www.bradleybeachnj.gov
SUMMARY:Open Play Mahjong
DESCRIPTION:
URL:https://www.bradleybeachnj.gov/event/open-play-mahjong/2026-10-02/
LOCATION:Carmen Biase Center\, 719 Main St\, Bradley Beach\, NJ\, 07720\, United States
CATEGORIES:Recreation Calendar
END:VEVENT
BEGIN:VEVENT
DTSTART;TZID=America/New_York:20261006T173000
DTEND;TZID=America/New_York:20261006T173000
DTSTAMP:20260423T065035
CREATED:20251224T180814Z
LAST-MODIFIED:20251224T180814Z
UID:10002044-1791307800-1791307800@www.bradleybeachnj.gov
SUMMARY:Council Business Meeting
DESCRIPTION:701 Main Street
URL:https://www.bradleybeachnj.gov/event/council-business-meeting-74/
LOCATION:NJ
CATEGORIES:Borough Meetings
END:VEVENT
BEGIN:VEVENT
DTSTART;TZID=America/New_York:20261009T130000
DTEND;TZID=America/New_York:20261009T150000
DTSTAMP:20260423T065035
CREATED:20260217T145947Z
LAST-MODIFIED:20260217T145947Z
UID:10002106-1791550800-1791558000@www.bradleybeachnj.gov
SUMMARY:Open Play Mahjong
DESCRIPTION:
URL:https://www.bradleybeachnj.gov/event/open-play-mahjong/2026-10-09/
LOCATION:Carmen Biase Center\, 719 Main St\, Bradley Beach\, NJ\, 07720\, United States
CATEGORIES:Recreation Calendar
END:VEVENT
BEGIN:VEVENT
DTSTART;TZID=America/New_York:20261015T183000
DTEND;TZID=America/New_York:20261015T220000
DTSTAMP:20260423T065035
CREATED:20260123T132310Z
LAST-MODIFIED:20260123T132310Z
UID:10002065-1792089000-1792101600@www.bradleybeachnj.gov
SUMMARY:Land Use Board Meeting
DESCRIPTION:
URL:https://www.bradleybeachnj.gov/event/land-use-board-meeting-20/
LOCATION:Borough Hall Meeting Room\, 701 Main Street\, Bradley Beach\, NJ\, 07720\, United States
CATEGORIES:Borough Calendar,Borough Meetings
END:VEVENT
BEGIN:VEVENT
DTSTART;TZID=America/New_York:20261016T130000
DTEND;TZID=America/New_York:20261016T150000
DTSTAMP:20260423T065035
CREATED:20260217T145947Z
LAST-MODIFIED:20260217T145947Z
UID:10002107-1792155600-1792162800@www.bradleybeachnj.gov
SUMMARY:Open Play Mahjong
DESCRIPTION:
URL:https://www.bradleybeachnj.gov/event/open-play-mahjong/2026-10-16/
LOCATION:Carmen Biase Center\, 719 Main St\, Bradley Beach\, NJ\, 07720\, United States
CATEGORIES:Recreation Calendar
END:VEVENT
BEGIN:VEVENT
DTSTART;TZID=America/New_York:20261020T173000
DTEND;TZID=America/New_York:20261020T173000
DTSTAMP:20260423T065035
CREATED:20251224T180947Z
LAST-MODIFIED:20251224T180947Z
UID:10002045-1792517400-1792517400@www.bradleybeachnj.gov
SUMMARY:Council Business Meeting
DESCRIPTION:701 Main Street
URL:https://www.bradleybeachnj.gov/event/council-business-meeting-75/
LOCATION:NJ
CATEGORIES:Borough Meetings
END:VEVENT
BEGIN:VEVENT
DTSTART;TZID=America/New_York:20261023T130000
DTEND;TZID=America/New_York:20261023T150000
DTSTAMP:20260423T065035
CREATED:20260217T145947Z
LAST-MODIFIED:20260217T145947Z
UID:10002108-1792760400-1792767600@www.bradleybeachnj.gov
SUMMARY:Open Play Mahjong
DESCRIPTION:
URL:https://www.bradleybeachnj.gov/event/open-play-mahjong/2026-10-23/
LOCATION:Carmen Biase Center\, 719 Main St\, Bradley Beach\, NJ\, 07720\, United States
CATEGORIES:Recreation Calendar
END:VEVENT
BEGIN:VEVENT
DTSTART;TZID=America/New_York:20261030T130000
DTEND;TZID=America/New_York:20261030T150000
DTSTAMP:20260423T065035
CREATED:20260217T145947Z
LAST-MODIFIED:20260217T145947Z
UID:10002109-1793365200-1793372400@www.bradleybeachnj.gov
SUMMARY:Open Play Mahjong
DESCRIPTION:
URL:https://www.bradleybeachnj.gov/event/open-play-mahjong/2026-10-30/
LOCATION:Carmen Biase Center\, 719 Main St\, Bradley Beach\, NJ\, 07720\, United States
CATEGORIES:Recreation Calendar
END:VEVENT
BEGIN:VEVENT
DTSTART;TZID=America/New_York:20261106T130000
DTEND;TZID=America/New_York:20261106T150000
DTSTAMP:20260423T065035
CREATED:20260217T145947Z
LAST-MODIFIED:20260217T145947Z
UID:10002110-1793970000-1793977200@www.bradleybeachnj.gov
SUMMARY:Open Play Mahjong
DESCRIPTION:
URL:https://www.bradleybeachnj.gov/event/open-play-mahjong/2026-11-06/
LOCATION:Carmen Biase Center\, 719 Main St\, Bradley Beach\, NJ\, 07720\, United States
CATEGORIES:Recreation Calendar
END:VEVENT
BEGIN:VEVENT
DTSTART;TZID=America/New_York:20261110T173000
DTEND;TZID=America/New_York:20261110T173000
DTSTAMP:20260423T065035
CREATED:20251224T181243Z
LAST-MODIFIED:20251224T181243Z
UID:10002047-1794331800-1794331800@www.bradleybeachnj.gov
SUMMARY:Council Business Meeting
DESCRIPTION:701 Main Street
URL:https://www.bradleybeachnj.gov/event/council-business-meeting-77/
LOCATION:NJ
CATEGORIES:Borough Meetings
END:VEVENT
BEGIN:VEVENT
DTSTART;TZID=America/New_York:20261113T130000
DTEND;TZID=America/New_York:20261113T150000
DTSTAMP:20260423T065035
CREATED:20260217T145947Z
LAST-MODIFIED:20260217T145947Z
UID:10002111-1794574800-1794582000@www.bradleybeachnj.gov
SUMMARY:Open Play Mahjong
DESCRIPTION:
URL:https://www.bradleybeachnj.gov/event/open-play-mahjong/2026-11-13/
LOCATION:Carmen Biase Center\, 719 Main St\, Bradley Beach\, NJ\, 07720\, United States
CATEGORIES:Recreation Calendar
END:VEVENT
BEGIN:VEVENT
DTSTART;TZID=America/New_York:20261119T183000
DTEND;TZID=America/New_York:20261119T220000
DTSTAMP:20260423T065035
CREATED:20260123T132344Z
LAST-MODIFIED:20260123T132344Z
UID:10002066-1795113000-1795125600@www.bradleybeachnj.gov
SUMMARY:Land Use Board Meeting
DESCRIPTION:
URL:https://www.bradleybeachnj.gov/event/land-use-board-meeting-21/
LOCATION:Borough Hall Meeting Room\, 701 Main Street\, Bradley Beach\, NJ\, 07720\, United States
CATEGORIES:Borough Calendar,Borough Meetings
END:VEVENT
BEGIN:VEVENT
DTSTART;TZID=America/New_York:20261120T130000
DTEND;TZID=America/New_York:20261120T150000
DTSTAMP:20260423T065035
CREATED:20260217T145947Z
LAST-MODIFIED:20260217T145947Z
UID:10002112-1795179600-1795186800@www.bradleybeachnj.gov
SUMMARY:Open Play Mahjong
DESCRIPTION:
URL:https://www.bradleybeachnj.gov/event/open-play-mahjong/2026-11-20/
LOCATION:Carmen Biase Center\, 719 Main St\, Bradley Beach\, NJ\, 07720\, United States
CATEGORIES:Recreation Calendar
END:VEVENT
BEGIN:VEVENT
DTSTART;TZID=America/New_York:20261127T130000
DTEND;TZID=America/New_York:20261127T150000
DTSTAMP:20260423T065035
CREATED:20260217T145947Z
LAST-MODIFIED:20260217T145947Z
UID:10002113-1795784400-1795791600@www.bradleybeachnj.gov
SUMMARY:Open Play Mahjong
DESCRIPTION:
URL:https://www.bradleybeachnj.gov/event/open-play-mahjong/2026-11-27/
LOCATION:Carmen Biase Center\, 719 Main St\, Bradley Beach\, NJ\, 07720\, United States
CATEGORIES:Recreation Calendar
END:VEVENT
BEGIN:VEVENT
DTSTART;TZID=America/New_York:20261204T130000
DTEND;TZID=America/New_York:20261204T150000
DTSTAMP:20260423T065035
CREATED:20260217T145947Z
LAST-MODIFIED:20260217T145947Z
UID:10002114-1796389200-1796396400@www.bradleybeachnj.gov
SUMMARY:Open Play Mahjong
DESCRIPTION:
URL:https://www.bradleybeachnj.gov/event/open-play-mahjong/2026-12-04/
LOCATION:Carmen Biase Center\, 719 Main St\, Bradley Beach\, NJ\, 07720\, United States
CATEGORIES:Recreation Calendar
END:VEVENT
BEGIN:VEVENT
DTSTART;TZID=America/New_York:20261211T130000
DTEND;TZID=America/New_York:20261211T150000
DTSTAMP:20260423T065035
CREATED:20260217T145947Z
LAST-MODIFIED:20260217T145947Z
UID:10002115-1796994000-1797001200@www.bradleybeachnj.gov
SUMMARY:Open Play Mahjong
DESCRIPTION:
URL:https://www.bradleybeachnj.gov/event/open-play-mahjong/2026-12-11/
LOCATION:Carmen Biase Center\, 719 Main St\, Bradley Beach\, NJ\, 07720\, United States
CATEGORIES:Recreation Calendar
END:VEVENT
BEGIN:VEVENT
DTSTART;TZID=America/New_York:20261215T173000
DTEND;TZID=America/New_York:20261215T173000
DTSTAMP:20260423T065035
CREATED:20251224T181056Z
LAST-MODIFIED:20251224T181056Z
UID:10002046-1797355800-1797355800@www.bradleybeachnj.gov
SUMMARY:Council Business Meeting
DESCRIPTION:701 Main Street
URL:https://www.bradleybeachnj.gov/event/council-business-meeting-76/
LOCATION:NJ
CATEGORIES:Borough Meetings
END:VEVENT
BEGIN:VEVENT
DTSTART;TZID=America/New_York:20261217T183000
DTEND;TZID=America/New_York:20261217T220000
DTSTAMP:20260423T065035
CREATED:20260123T132417Z
LAST-MODIFIED:20260123T132417Z
UID:10002067-1797532200-1797544800@www.bradleybeachnj.gov
SUMMARY:Land Use Board Meeting
DESCRIPTION:
URL:https://www.bradleybeachnj.gov/event/land-use-board-meeting-22/
LOCATION:Borough Hall Meeting Room\, 701 Main Street\, Bradley Beach\, NJ\, 07720\, United States
CATEGORIES:Borough Calendar,Borough Meetings
END:VEVENT
BEGIN:VEVENT
DTSTART;TZID=America/New_York:20261218T130000
DTEND;TZID=America/New_York:20261218T150000
DTSTAMP:20260423T065035
CREATED:20260217T145947Z
LAST-MODIFIED:20260217T145947Z
UID:10002116-1797598800-1797606000@www.bradleybeachnj.gov
SUMMARY:Open Play Mahjong
DESCRIPTION:
URL:https://www.bradleybeachnj.gov/event/open-play-mahjong/2026-12-18/
LOCATION:Carmen Biase Center\, 719 Main St\, Bradley Beach\, NJ\, 07720\, United States
CATEGORIES:Recreation Calendar
END:VEVENT
BEGIN:VEVENT
DTSTART;TZID=America/New_York:20261225T130000
DTEND;TZID=America/New_York:20261225T150000
DTSTAMP:20260423T065035
CREATED:20260217T145947Z
LAST-MODIFIED:20260217T145947Z
UID:10002117-1798203600-1798210800@www.bradleybeachnj.gov
SUMMARY:Open Play Mahjong
DESCRIPTION:
URL:https://www.bradleybeachnj.gov/event/open-play-mahjong/2026-12-25/
LOCATION:Carmen Biase Center\, 719 Main St\, Bradley Beach\, NJ\, 07720\, United States
CATEGORIES:Recreation Calendar
END:VEVENT
END:VCALENDAR