BEGIN:VCALENDAR
VERSION:2.0
PRODID:-//Bradley Beach - ECPv6.15.18//NONSGML v1.0//EN
CALSCALE:GREGORIAN
METHOD:PUBLISH
X-WR-CALNAME:Bradley Beach
X-ORIGINAL-URL:https://www.bradleybeachnj.gov
X-WR-CALDESC:Events for Bradley Beach
REFRESH-INTERVAL;VALUE=DURATION:PT1H
X-Robots-Tag:noindex
X-PUBLISHED-TTL:PT1H
BEGIN:VTIMEZONE
TZID:America/New_York
BEGIN:DAYLIGHT
TZOFFSETFROM:-0500
TZOFFSETTO:-0400
TZNAME:EDT
DTSTART:20250309T070000
END:DAYLIGHT
BEGIN:STANDARD
TZOFFSETFROM:-0400
TZOFFSETTO:-0500
TZNAME:EST
DTSTART:20251102T060000
END:STANDARD
BEGIN:DAYLIGHT
TZOFFSETFROM:-0500
TZOFFSETTO:-0400
TZNAME:EDT
DTSTART:20260308T070000
END:DAYLIGHT
BEGIN:STANDARD
TZOFFSETFROM:-0400
TZOFFSETTO:-0500
TZNAME:EST
DTSTART:20261101T060000
END:STANDARD
BEGIN:DAYLIGHT
TZOFFSETFROM:-0500
TZOFFSETTO:-0400
TZNAME:EDT
DTSTART:20270314T070000
END:DAYLIGHT
BEGIN:STANDARD
TZOFFSETFROM:-0400
TZOFFSETTO:-0500
TZNAME:EST
DTSTART:20271107T060000
END:STANDARD
END:VTIMEZONE
BEGIN:VEVENT
DTSTART;TZID=America/New_York:20260805T173000
DTEND;TZID=America/New_York:20260805T173000
DTSTAMP:20260423T020302
CREATED:20251224T180225Z
LAST-MODIFIED:20251224T180225Z
UID:10002040-1785951000-1785951000@www.bradleybeachnj.gov
SUMMARY:Council Business Meeting (Wednesday due to National Night Out)
DESCRIPTION:701 Main Street
URL:https://www.bradleybeachnj.gov/event/council-business-meeting-wednesday-due-to-national-night-out/
LOCATION:NJ
CATEGORIES:Borough Meetings
END:VEVENT
BEGIN:VEVENT
DTSTART;TZID=America/New_York:20260807T130000
DTEND;TZID=America/New_York:20260807T150000
DTSTAMP:20260423T020302
CREATED:20260217T145947Z
LAST-MODIFIED:20260217T145947Z
UID:10002097-1786107600-1786114800@www.bradleybeachnj.gov
SUMMARY:Open Play Mahjong
DESCRIPTION:
URL:https://www.bradleybeachnj.gov/event/open-play-mahjong/2026-08-07/
LOCATION:Carmen Biase Center\, 719 Main St\, Bradley Beach\, NJ\, 07720\, United States
CATEGORIES:Recreation Calendar
END:VEVENT
BEGIN:VEVENT
DTSTART;TZID=America/New_York:20260814T130000
DTEND;TZID=America/New_York:20260814T150000
DTSTAMP:20260423T020302
CREATED:20260217T145947Z
LAST-MODIFIED:20260217T145947Z
UID:10002098-1786712400-1786719600@www.bradleybeachnj.gov
SUMMARY:Open Play Mahjong
DESCRIPTION:
URL:https://www.bradleybeachnj.gov/event/open-play-mahjong/2026-08-14/
LOCATION:Carmen Biase Center\, 719 Main St\, Bradley Beach\, NJ\, 07720\, United States
CATEGORIES:Recreation Calendar
END:VEVENT
BEGIN:VEVENT
DTSTART;TZID=America/New_York:20260818T173000
DTEND;TZID=America/New_York:20260818T173000
DTSTAMP:20260423T020302
CREATED:20251224T180332Z
LAST-MODIFIED:20251224T180452Z
UID:10002041-1787074200-1787074200@www.bradleybeachnj.gov
SUMMARY:Council Business Meeting
DESCRIPTION:701 Main Street
URL:https://www.bradleybeachnj.gov/event/council-business-meeting-71/
LOCATION:NJ
CATEGORIES:Borough Meetings
END:VEVENT
BEGIN:VEVENT
DTSTART;TZID=America/New_York:20260820T183000
DTEND;TZID=America/New_York:20260820T220000
DTSTAMP:20260423T020302
CREATED:20260123T132135Z
LAST-MODIFIED:20260123T132135Z
UID:10002063-1787250600-1787263200@www.bradleybeachnj.gov
SUMMARY:Land Use Board Meeting
DESCRIPTION:
URL:https://www.bradleybeachnj.gov/event/land-use-board-meeting-18/
LOCATION:Borough Hall Meeting Room\, 701 Main Street\, Bradley Beach\, NJ\, 07720\, United States
CATEGORIES:Borough Calendar,Borough Meetings
END:VEVENT
BEGIN:VEVENT
DTSTART;TZID=America/New_York:20260821T130000
DTEND;TZID=America/New_York:20260821T150000
DTSTAMP:20260423T020302
CREATED:20260217T145947Z
LAST-MODIFIED:20260217T145947Z
UID:10002099-1787317200-1787324400@www.bradleybeachnj.gov
SUMMARY:Open Play Mahjong
DESCRIPTION:
URL:https://www.bradleybeachnj.gov/event/open-play-mahjong/2026-08-21/
LOCATION:Carmen Biase Center\, 719 Main St\, Bradley Beach\, NJ\, 07720\, United States
CATEGORIES:Recreation Calendar
END:VEVENT
BEGIN:VEVENT
DTSTART;TZID=America/New_York:20260828T130000
DTEND;TZID=America/New_York:20260828T150000
DTSTAMP:20260423T020302
CREATED:20260217T145947Z
LAST-MODIFIED:20260217T145947Z
UID:10002100-1787922000-1787929200@www.bradleybeachnj.gov
SUMMARY:Open Play Mahjong
DESCRIPTION:
URL:https://www.bradleybeachnj.gov/event/open-play-mahjong/2026-08-28/
LOCATION:Carmen Biase Center\, 719 Main St\, Bradley Beach\, NJ\, 07720\, United States
CATEGORIES:Recreation Calendar
END:VEVENT
END:VCALENDAR