BEGIN:VCALENDAR
VERSION:2.0
PRODID:-//Bradley Beach - ECPv6.15.18//NONSGML v1.0//EN
CALSCALE:GREGORIAN
METHOD:PUBLISH
X-ORIGINAL-URL:https://www.bradleybeachnj.gov
X-WR-CALDESC:Events for Bradley Beach
REFRESH-INTERVAL;VALUE=DURATION:PT1H
X-Robots-Tag:noindex
X-PUBLISHED-TTL:PT1H
BEGIN:VTIMEZONE
TZID:America/New_York
BEGIN:DAYLIGHT
TZOFFSETFROM:-0500
TZOFFSETTO:-0400
TZNAME:EDT
DTSTART:20250309T070000
END:DAYLIGHT
BEGIN:STANDARD
TZOFFSETFROM:-0400
TZOFFSETTO:-0500
TZNAME:EST
DTSTART:20251102T060000
END:STANDARD
BEGIN:DAYLIGHT
TZOFFSETFROM:-0500
TZOFFSETTO:-0400
TZNAME:EDT
DTSTART:20260308T070000
END:DAYLIGHT
BEGIN:STANDARD
TZOFFSETFROM:-0400
TZOFFSETTO:-0500
TZNAME:EST
DTSTART:20261101T060000
END:STANDARD
BEGIN:DAYLIGHT
TZOFFSETFROM:-0500
TZOFFSETTO:-0400
TZNAME:EDT
DTSTART:20270314T070000
END:DAYLIGHT
BEGIN:STANDARD
TZOFFSETFROM:-0400
TZOFFSETTO:-0500
TZNAME:EST
DTSTART:20271107T060000
END:STANDARD
END:VTIMEZONE
BEGIN:VEVENT
DTSTART;TZID=America/New_York:20261002T130000
DTEND;TZID=America/New_York:20261002T150000
DTSTAMP:20260423T050013
CREATED:20260217T145947Z
LAST-MODIFIED:20260217T145947Z
UID:10002105-1790946000-1790953200@www.bradleybeachnj.gov
SUMMARY:Open Play Mahjong
DESCRIPTION:
URL:https://www.bradleybeachnj.gov/event/open-play-mahjong/2026-10-02/
LOCATION:Carmen Biase Center\, 719 Main St\, Bradley Beach\, NJ\, 07720\, United States
CATEGORIES:Recreation Calendar
END:VEVENT
BEGIN:VEVENT
DTSTART;TZID=America/New_York:20261006T173000
DTEND;TZID=America/New_York:20261006T173000
DTSTAMP:20260423T050013
CREATED:20251224T180814Z
LAST-MODIFIED:20251224T180814Z
UID:10002044-1791307800-1791307800@www.bradleybeachnj.gov
SUMMARY:Council Business Meeting
DESCRIPTION:701 Main Street
URL:https://www.bradleybeachnj.gov/event/council-business-meeting-74/
LOCATION:NJ
CATEGORIES:Borough Meetings
END:VEVENT
BEGIN:VEVENT
DTSTART;TZID=America/New_York:20261009T130000
DTEND;TZID=America/New_York:20261009T150000
DTSTAMP:20260423T050013
CREATED:20260217T145947Z
LAST-MODIFIED:20260217T145947Z
UID:10002106-1791550800-1791558000@www.bradleybeachnj.gov
SUMMARY:Open Play Mahjong
DESCRIPTION:
URL:https://www.bradleybeachnj.gov/event/open-play-mahjong/2026-10-09/
LOCATION:Carmen Biase Center\, 719 Main St\, Bradley Beach\, NJ\, 07720\, United States
CATEGORIES:Recreation Calendar
END:VEVENT
BEGIN:VEVENT
DTSTART;TZID=America/New_York:20261015T183000
DTEND;TZID=America/New_York:20261015T220000
DTSTAMP:20260423T050013
CREATED:20260123T132310Z
LAST-MODIFIED:20260123T132310Z
UID:10002065-1792089000-1792101600@www.bradleybeachnj.gov
SUMMARY:Land Use Board Meeting
DESCRIPTION:
URL:https://www.bradleybeachnj.gov/event/land-use-board-meeting-20/
LOCATION:Borough Hall Meeting Room\, 701 Main Street\, Bradley Beach\, NJ\, 07720\, United States
CATEGORIES:Borough Calendar,Borough Meetings
END:VEVENT
BEGIN:VEVENT
DTSTART;TZID=America/New_York:20261016T130000
DTEND;TZID=America/New_York:20261016T150000
DTSTAMP:20260423T050013
CREATED:20260217T145947Z
LAST-MODIFIED:20260217T145947Z
UID:10002107-1792155600-1792162800@www.bradleybeachnj.gov
SUMMARY:Open Play Mahjong
DESCRIPTION:
URL:https://www.bradleybeachnj.gov/event/open-play-mahjong/2026-10-16/
LOCATION:Carmen Biase Center\, 719 Main St\, Bradley Beach\, NJ\, 07720\, United States
CATEGORIES:Recreation Calendar
END:VEVENT
BEGIN:VEVENT
DTSTART;TZID=America/New_York:20261020T173000
DTEND;TZID=America/New_York:20261020T173000
DTSTAMP:20260423T050013
CREATED:20251224T180947Z
LAST-MODIFIED:20251224T180947Z
UID:10002045-1792517400-1792517400@www.bradleybeachnj.gov
SUMMARY:Council Business Meeting
DESCRIPTION:701 Main Street
URL:https://www.bradleybeachnj.gov/event/council-business-meeting-75/
LOCATION:NJ
CATEGORIES:Borough Meetings
END:VEVENT
BEGIN:VEVENT
DTSTART;TZID=America/New_York:20261023T130000
DTEND;TZID=America/New_York:20261023T150000
DTSTAMP:20260423T050013
CREATED:20260217T145947Z
LAST-MODIFIED:20260217T145947Z
UID:10002108-1792760400-1792767600@www.bradleybeachnj.gov
SUMMARY:Open Play Mahjong
DESCRIPTION:
URL:https://www.bradleybeachnj.gov/event/open-play-mahjong/2026-10-23/
LOCATION:Carmen Biase Center\, 719 Main St\, Bradley Beach\, NJ\, 07720\, United States
CATEGORIES:Recreation Calendar
END:VEVENT
BEGIN:VEVENT
DTSTART;TZID=America/New_York:20261030T130000
DTEND;TZID=America/New_York:20261030T150000
DTSTAMP:20260423T050013
CREATED:20260217T145947Z
LAST-MODIFIED:20260217T145947Z
UID:10002109-1793365200-1793372400@www.bradleybeachnj.gov
SUMMARY:Open Play Mahjong
DESCRIPTION:
URL:https://www.bradleybeachnj.gov/event/open-play-mahjong/2026-10-30/
LOCATION:Carmen Biase Center\, 719 Main St\, Bradley Beach\, NJ\, 07720\, United States
CATEGORIES:Recreation Calendar
END:VEVENT
END:VCALENDAR