BEGIN:VCALENDAR
VERSION:2.0
PRODID:-//Bradley Beach - ECPv6.15.18//NONSGML v1.0//EN
CALSCALE:GREGORIAN
METHOD:PUBLISH
X-WR-CALNAME:Bradley Beach
X-ORIGINAL-URL:https://www.bradleybeachnj.gov
X-WR-CALDESC:Events for Bradley Beach
REFRESH-INTERVAL;VALUE=DURATION:PT1H
X-Robots-Tag:noindex
X-PUBLISHED-TTL:PT1H
BEGIN:VTIMEZONE
TZID:America/New_York
BEGIN:DAYLIGHT
TZOFFSETFROM:-0500
TZOFFSETTO:-0400
TZNAME:EDT
DTSTART:20250309T070000
END:DAYLIGHT
BEGIN:STANDARD
TZOFFSETFROM:-0400
TZOFFSETTO:-0500
TZNAME:EST
DTSTART:20251102T060000
END:STANDARD
BEGIN:DAYLIGHT
TZOFFSETFROM:-0500
TZOFFSETTO:-0400
TZNAME:EDT
DTSTART:20260308T070000
END:DAYLIGHT
BEGIN:STANDARD
TZOFFSETFROM:-0400
TZOFFSETTO:-0500
TZNAME:EST
DTSTART:20261101T060000
END:STANDARD
BEGIN:DAYLIGHT
TZOFFSETFROM:-0500
TZOFFSETTO:-0400
TZNAME:EDT
DTSTART:20270314T070000
END:DAYLIGHT
BEGIN:STANDARD
TZOFFSETFROM:-0400
TZOFFSETTO:-0500
TZNAME:EST
DTSTART:20271107T060000
END:STANDARD
END:VTIMEZONE
BEGIN:VEVENT
DTSTART;TZID=America/New_York:20260422T120000
DTEND;TZID=America/New_York:20260422T150000
DTSTAMP:20260422T192439
CREATED:20260217T150344Z
LAST-MODIFIED:20260217T150400Z
UID:10002336-1776859200-1776870000@www.bradleybeachnj.gov
SUMMARY:Senior Club Meeting
DESCRIPTION:
URL:https://www.bradleybeachnj.gov/event/senior-clun-meeting/
LOCATION:Carmen Biase Center\, 719 Main St\, Bradley Beach\, NJ\, 07720\, United States
CATEGORIES:Recreation Calendar
END:VEVENT
BEGIN:VEVENT
DTSTART;TZID=America/New_York:20260424T130000
DTEND;TZID=America/New_York:20260424T150000
DTSTAMP:20260422T192439
CREATED:20260217T145947Z
LAST-MODIFIED:20260217T145947Z
UID:10002082-1777035600-1777042800@www.bradleybeachnj.gov
SUMMARY:Open Play Mahjong
DESCRIPTION:
URL:https://www.bradleybeachnj.gov/event/open-play-mahjong/2026-04-24/
LOCATION:Carmen Biase Center\, 719 Main St\, Bradley Beach\, NJ\, 07720\, United States
CATEGORIES:Recreation Calendar
END:VEVENT
BEGIN:VEVENT
DTSTART;TZID=America/New_York:20260425T110000
DTEND;TZID=America/New_York:20260425T130000
DTSTAMP:20260422T192439
CREATED:20260417T212555Z
LAST-MODIFIED:20260417T212555Z
UID:10002345-1777114800-1777122000@www.bradleybeachnj.gov
SUMMARY:Recreation Park Grand Reopening
DESCRIPTION:
URL:https://www.bradleybeachnj.gov/event/recreation-park-grand-reopening/
LOCATION:Bradley Beach Rec Center\, 39 1/2 Main St\, Bradley Beach\, NJ\, 07720\, United States
CATEGORIES:Recreation Calendar
END:VEVENT
END:VCALENDAR