BEGIN:VCALENDAR
VERSION:2.0
PRODID:-//Bradley Beach - ECPv6.15.18//NONSGML v1.0//EN
CALSCALE:GREGORIAN
METHOD:PUBLISH
X-WR-CALNAME:Bradley Beach
X-ORIGINAL-URL:https://www.bradleybeachnj.gov
X-WR-CALDESC:Events for Bradley Beach
REFRESH-INTERVAL;VALUE=DURATION:PT1H
X-Robots-Tag:noindex
X-PUBLISHED-TTL:PT1H
BEGIN:VTIMEZONE
TZID:America/New_York
BEGIN:DAYLIGHT
TZOFFSETFROM:-0500
TZOFFSETTO:-0400
TZNAME:EDT
DTSTART:20220313T070000
END:DAYLIGHT
BEGIN:STANDARD
TZOFFSETFROM:-0400
TZOFFSETTO:-0500
TZNAME:EST
DTSTART:20221106T060000
END:STANDARD
BEGIN:DAYLIGHT
TZOFFSETFROM:-0500
TZOFFSETTO:-0400
TZNAME:EDT
DTSTART:20230312T070000
END:DAYLIGHT
BEGIN:STANDARD
TZOFFSETFROM:-0400
TZOFFSETTO:-0500
TZNAME:EST
DTSTART:20231105T060000
END:STANDARD
BEGIN:DAYLIGHT
TZOFFSETFROM:-0500
TZOFFSETTO:-0400
TZNAME:EDT
DTSTART:20240310T070000
END:DAYLIGHT
BEGIN:STANDARD
TZOFFSETFROM:-0400
TZOFFSETTO:-0500
TZNAME:EST
DTSTART:20241103T060000
END:STANDARD
END:VTIMEZONE
BEGIN:VEVENT
DTSTART;TZID=America/New_York:20230929T103000
DTEND;TZID=America/New_York:20230929T123000
DTSTAMP:20260424T030216
CREATED:20231013T172541Z
LAST-MODIFIED:20231013T172541Z
UID:10001504-1695983400-1695990600@www.bradleybeachnj.gov
SUMMARY:Womens Round Robin Bocce
DESCRIPTION:
URL:https://www.bradleybeachnj.gov/event/womens-round-robin-bocce/2023-09-29/
CATEGORIES:Recreation Calendar
END:VEVENT
BEGIN:VEVENT
DTSTART;TZID=America/New_York:20230928T190000
DTEND;TZID=America/New_York:20230928T200000
DTSTAMP:20260424T030216
CREATED:20230531T154533Z
LAST-MODIFIED:20230531T154602Z
UID:10001177-1695927600-1695931200@www.bradleybeachnj.gov
SUMMARY:Sunset Yoga w/ Salted Soul
DESCRIPTION:
URL:https://www.bradleybeachnj.gov/event/sunset-yoga-w-salted-soul/2023-09-28/
LOCATION:LaReine Ave Beach
CATEGORIES:Recreation Calendar
END:VEVENT
BEGIN:VEVENT
DTSTART;TZID=America/New_York:20230927T183000
DTEND;TZID=America/New_York:20230927T203000
DTSTAMP:20260424T030216
CREATED:20231013T172425Z
LAST-MODIFIED:20231013T172425Z
UID:10001309-1695839400-1695846600@www.bradleybeachnj.gov
SUMMARY:Bocce
DESCRIPTION:
URL:https://www.bradleybeachnj.gov/event/bocce/2023-09-27/
CATEGORIES:Recreation Calendar
END:VEVENT
BEGIN:VEVENT
DTSTART;TZID=America/New_York:20230926T100000
DTEND;TZID=America/New_York:20230926T110000
DTSTAMP:20260424T030216
CREATED:20231012T182208Z
LAST-MODIFIED:20231012T182208Z
UID:10001295-1695722400-1695726000@www.bradleybeachnj.gov
SUMMARY:Crosswords and Coffee
DESCRIPTION:
URL:https://www.bradleybeachnj.gov/event/crosswords-and-coffee-7/2023-09-26/
LOCATION:Bradley Beach Rec Center\, 39 1/2 Main St\, Bradley Beach\, NJ\, 07720\, United States
CATEGORIES:Recreation Calendar
END:VEVENT
BEGIN:VEVENT
DTSTART;TZID=America/New_York:20230923T080000
DTEND;TZID=America/New_York:20230923T090000
DTSTAMP:20260424T030216
CREATED:20230531T154824Z
LAST-MODIFIED:20230531T154946Z
UID:10001201-1695456000-1695459600@www.bradleybeachnj.gov
SUMMARY:Sunrise Yoga w/ Salted Soul
DESCRIPTION:
URL:https://www.bradleybeachnj.gov/event/sunrise-yoga-w-salted-soul/2023-09-23/
LOCATION:LaReine Ave Beach
CATEGORIES:Recreation Calendar
END:VEVENT
BEGIN:VEVENT
DTSTART;TZID=America/New_York:20230922T103000
DTEND;TZID=America/New_York:20230922T123000
DTSTAMP:20260424T030216
CREATED:20231013T172541Z
LAST-MODIFIED:20231013T172541Z
UID:10001503-1695378600-1695385800@www.bradleybeachnj.gov
SUMMARY:Womens Round Robin Bocce
DESCRIPTION:
URL:https://www.bradleybeachnj.gov/event/womens-round-robin-bocce/2023-09-22/
CATEGORIES:Recreation Calendar
END:VEVENT
BEGIN:VEVENT
DTSTART;TZID=America/New_York:20230921T190000
DTEND;TZID=America/New_York:20230921T200000
DTSTAMP:20260424T030216
CREATED:20230531T154533Z
LAST-MODIFIED:20230531T154602Z
UID:10001176-1695322800-1695326400@www.bradleybeachnj.gov
SUMMARY:Sunset Yoga w/ Salted Soul
DESCRIPTION:
URL:https://www.bradleybeachnj.gov/event/sunset-yoga-w-salted-soul/2023-09-21/
LOCATION:LaReine Ave Beach
CATEGORIES:Recreation Calendar
END:VEVENT
BEGIN:VEVENT
DTSTART;TZID=America/New_York:20230920T183000
DTEND;TZID=America/New_York:20230920T203000
DTSTAMP:20260424T030216
CREATED:20231013T172425Z
LAST-MODIFIED:20231013T172425Z
UID:10001308-1695234600-1695241800@www.bradleybeachnj.gov
SUMMARY:Bocce
DESCRIPTION:
URL:https://www.bradleybeachnj.gov/event/bocce/2023-09-20/
CATEGORIES:Recreation Calendar
END:VEVENT
BEGIN:VEVENT
DTSTART;TZID=America/New_York:20230919T100000
DTEND;TZID=America/New_York:20230919T110000
DTSTAMP:20260424T030216
CREATED:20231012T182208Z
LAST-MODIFIED:20231012T182208Z
UID:10001294-1695117600-1695121200@www.bradleybeachnj.gov
SUMMARY:Crosswords and Coffee
DESCRIPTION:
URL:https://www.bradleybeachnj.gov/event/crosswords-and-coffee-7/2023-09-19/
LOCATION:Bradley Beach Rec Center\, 39 1/2 Main St\, Bradley Beach\, NJ\, 07720\, United States
CATEGORIES:Recreation Calendar
END:VEVENT
BEGIN:VEVENT
DTSTART;TZID=America/New_York:20230916T080000
DTEND;TZID=America/New_York:20230916T090000
DTSTAMP:20260424T030216
CREATED:20230531T154824Z
LAST-MODIFIED:20230531T154946Z
UID:10001200-1694851200-1694854800@www.bradleybeachnj.gov
SUMMARY:Sunrise Yoga w/ Salted Soul
DESCRIPTION:
URL:https://www.bradleybeachnj.gov/event/sunrise-yoga-w-salted-soul/2023-09-16/
LOCATION:LaReine Ave Beach
CATEGORIES:Recreation Calendar
END:VEVENT
BEGIN:VEVENT
DTSTART;TZID=America/New_York:20230915T103000
DTEND;TZID=America/New_York:20230915T123000
DTSTAMP:20260424T030216
CREATED:20231013T172541Z
LAST-MODIFIED:20231013T172541Z
UID:10001502-1694773800-1694781000@www.bradleybeachnj.gov
SUMMARY:Womens Round Robin Bocce
DESCRIPTION:
URL:https://www.bradleybeachnj.gov/event/womens-round-robin-bocce/2023-09-15/
CATEGORIES:Recreation Calendar
END:VEVENT
BEGIN:VEVENT
DTSTART;TZID=America/New_York:20230914T190000
DTEND;TZID=America/New_York:20230914T200000
DTSTAMP:20260424T030216
CREATED:20230531T154533Z
LAST-MODIFIED:20230531T154602Z
UID:10001175-1694718000-1694721600@www.bradleybeachnj.gov
SUMMARY:Sunset Yoga w/ Salted Soul
DESCRIPTION:
URL:https://www.bradleybeachnj.gov/event/sunset-yoga-w-salted-soul/2023-09-14/
LOCATION:LaReine Ave Beach
CATEGORIES:Recreation Calendar
END:VEVENT
BEGIN:VEVENT
DTSTART;TZID=America/New_York:20230913T183000
DTEND;TZID=America/New_York:20230913T203000
DTSTAMP:20260424T030216
CREATED:20231013T172425Z
LAST-MODIFIED:20231013T172425Z
UID:10001307-1694629800-1694637000@www.bradleybeachnj.gov
SUMMARY:Bocce
DESCRIPTION:
URL:https://www.bradleybeachnj.gov/event/bocce/2023-09-13/
CATEGORIES:Recreation Calendar
END:VEVENT
BEGIN:VEVENT
DTSTART;TZID=America/New_York:20230909T080000
DTEND;TZID=America/New_York:20230909T090000
DTSTAMP:20260424T030216
CREATED:20230531T154824Z
LAST-MODIFIED:20230531T154946Z
UID:10001199-1694246400-1694250000@www.bradleybeachnj.gov
SUMMARY:Sunrise Yoga w/ Salted Soul
DESCRIPTION:
URL:https://www.bradleybeachnj.gov/event/sunrise-yoga-w-salted-soul/2023-09-09/
LOCATION:LaReine Ave Beach
CATEGORIES:Recreation Calendar
END:VEVENT
BEGIN:VEVENT
DTSTART;TZID=America/New_York:20230908T103000
DTEND;TZID=America/New_York:20230908T123000
DTSTAMP:20260424T030216
CREATED:20231013T172541Z
LAST-MODIFIED:20231013T172541Z
UID:10001501-1694169000-1694176200@www.bradleybeachnj.gov
SUMMARY:Womens Round Robin Bocce
DESCRIPTION:
URL:https://www.bradleybeachnj.gov/event/womens-round-robin-bocce/2023-09-08/
CATEGORIES:Recreation Calendar
END:VEVENT
BEGIN:VEVENT
DTSTART;TZID=America/New_York:20230907T190000
DTEND;TZID=America/New_York:20230907T200000
DTSTAMP:20260424T030216
CREATED:20230531T154533Z
LAST-MODIFIED:20230531T154602Z
UID:10001174-1694113200-1694116800@www.bradleybeachnj.gov
SUMMARY:Sunset Yoga w/ Salted Soul
DESCRIPTION:
URL:https://www.bradleybeachnj.gov/event/sunset-yoga-w-salted-soul/2023-09-07/
LOCATION:LaReine Ave Beach
CATEGORIES:Recreation Calendar
END:VEVENT
BEGIN:VEVENT
DTSTART;TZID=America/New_York:20230906T183000
DTEND;TZID=America/New_York:20230906T203000
DTSTAMP:20260424T030216
CREATED:20231013T172425Z
LAST-MODIFIED:20231013T172425Z
UID:10001306-1694025000-1694032200@www.bradleybeachnj.gov
SUMMARY:Bocce
DESCRIPTION:
URL:https://www.bradleybeachnj.gov/event/bocce/2023-09-06/
CATEGORIES:Recreation Calendar
END:VEVENT
BEGIN:VEVENT
DTSTART;TZID=America/New_York:20230902T080000
DTEND;TZID=America/New_York:20230902T090000
DTSTAMP:20260424T030216
CREATED:20230531T154824Z
LAST-MODIFIED:20230531T154946Z
UID:10001198-1693641600-1693645200@www.bradleybeachnj.gov
SUMMARY:Sunrise Yoga w/ Salted Soul
DESCRIPTION:
URL:https://www.bradleybeachnj.gov/event/sunrise-yoga-w-salted-soul/2023-09-02/
LOCATION:LaReine Ave Beach
CATEGORIES:Recreation Calendar
END:VEVENT
BEGIN:VEVENT
DTSTART;TZID=America/New_York:20230831T190000
DTEND;TZID=America/New_York:20230831T200000
DTSTAMP:20260424T030216
CREATED:20230531T154533Z
LAST-MODIFIED:20230531T154602Z
UID:10001173-1693508400-1693512000@www.bradleybeachnj.gov
SUMMARY:Sunset Yoga w/ Salted Soul
DESCRIPTION:
URL:https://www.bradleybeachnj.gov/event/sunset-yoga-w-salted-soul/2023-08-31/
LOCATION:LaReine Ave Beach
CATEGORIES:Recreation Calendar
END:VEVENT
BEGIN:VEVENT
DTSTART;TZID=America/New_York:20230828T190000
DTEND;TZID=America/New_York:20230828T194500
DTSTAMP:20260424T030216
CREATED:20230531T170349Z
LAST-MODIFIED:20230531T170349Z
UID:10001266-1693249200-1693251900@www.bradleybeachnj.gov
SUMMARY:Yin w/Salted Soul
DESCRIPTION:
URL:https://www.bradleybeachnj.gov/event/yin-w-salted-soul/2023-08-28/
LOCATION:LaReine Ave Beach
CATEGORIES:Recreation Calendar
END:VEVENT
BEGIN:VEVENT
DTSTART;TZID=America/New_York:20230828T183000
DTEND;TZID=America/New_York:20230828T203000
DTSTAMP:20260424T030216
CREATED:20230822T171530Z
LAST-MODIFIED:20230822T171530Z
UID:10001499-1693247400-1693254600@www.bradleybeachnj.gov
SUMMARY:Back to School Bingo
DESCRIPTION:
URL:https://www.bradleybeachnj.gov/event/back-to-school-bingo-2/
LOCATION:Bradley Beach Rec Center\, 39 1/2 Main St\, Bradley Beach\, NJ\, 07720\, United States
CATEGORIES:Recreation Calendar
END:VEVENT
BEGIN:VEVENT
DTSTART;TZID=America/New_York:20230828T080000
DTEND;TZID=America/New_York:20230828T083000
DTSTAMP:20260424T030216
CREATED:20230531T170147Z
LAST-MODIFIED:20230531T170147Z
UID:10001250-1693209600-1693211400@www.bradleybeachnj.gov
SUMMARY:Morning Meditation w/ Salted Soul
DESCRIPTION:
URL:https://www.bradleybeachnj.gov/event/morning-meditation-w-salted-soul/2023-08-28/
LOCATION:LaReine Ave Beach
CATEGORIES:Recreation Calendar
END:VEVENT
BEGIN:VEVENT
DTSTART;TZID=America/New_York:20230828T070000
DTEND;TZID=America/New_York:20230828T080000
DTSTAMP:20260424T030216
CREATED:20230531T170024Z
LAST-MODIFIED:20230531T170024Z
UID:10001232-1693206000-1693209600@www.bradleybeachnj.gov
SUMMARY:Sunrise Yoga w/ Salted Soul
DESCRIPTION:
URL:https://www.bradleybeachnj.gov/event/sunrise-yoga-w-salted-soul-3/2023-08-28/
LOCATION:LaReine Ave Beach
CATEGORIES:Recreation Calendar
END:VEVENT
BEGIN:VEVENT
DTSTART;TZID=America/New_York:20230826T080000
DTEND;TZID=America/New_York:20230826T090000
DTSTAMP:20260424T030216
CREATED:20230531T154824Z
LAST-MODIFIED:20230531T154946Z
UID:10001197-1693036800-1693040400@www.bradleybeachnj.gov
SUMMARY:Sunrise Yoga w/ Salted Soul
DESCRIPTION:
URL:https://www.bradleybeachnj.gov/event/sunrise-yoga-w-salted-soul/2023-08-26/
LOCATION:LaReine Ave Beach
CATEGORIES:Recreation Calendar
END:VEVENT
BEGIN:VEVENT
DTSTART;TZID=America/New_York:20230824T190000
DTEND;TZID=America/New_York:20230824T200000
DTSTAMP:20260424T030216
CREATED:20230531T154533Z
LAST-MODIFIED:20230531T154602Z
UID:10001172-1692903600-1692907200@www.bradleybeachnj.gov
SUMMARY:Sunset Yoga w/ Salted Soul
DESCRIPTION:
URL:https://www.bradleybeachnj.gov/event/sunset-yoga-w-salted-soul/2023-08-24/
LOCATION:LaReine Ave Beach
CATEGORIES:Recreation Calendar
END:VEVENT
BEGIN:VEVENT
DTSTART;TZID=America/New_York:20230821T190000
DTEND;TZID=America/New_York:20230821T194500
DTSTAMP:20260424T030216
CREATED:20230531T170349Z
LAST-MODIFIED:20230531T170349Z
UID:10001265-1692644400-1692647100@www.bradleybeachnj.gov
SUMMARY:Yin w/Salted Soul
DESCRIPTION:
URL:https://www.bradleybeachnj.gov/event/yin-w-salted-soul/2023-08-21/
LOCATION:LaReine Ave Beach
CATEGORIES:Recreation Calendar
END:VEVENT
BEGIN:VEVENT
DTSTART;TZID=America/New_York:20230821T080000
DTEND;TZID=America/New_York:20230821T083000
DTSTAMP:20260424T030216
CREATED:20230531T170147Z
LAST-MODIFIED:20230531T170147Z
UID:10001249-1692604800-1692606600@www.bradleybeachnj.gov
SUMMARY:Morning Meditation w/ Salted Soul
DESCRIPTION:
URL:https://www.bradleybeachnj.gov/event/morning-meditation-w-salted-soul/2023-08-21/
LOCATION:LaReine Ave Beach
CATEGORIES:Recreation Calendar
END:VEVENT
BEGIN:VEVENT
DTSTART;TZID=America/New_York:20230821T070000
DTEND;TZID=America/New_York:20230821T080000
DTSTAMP:20260424T030216
CREATED:20230531T170024Z
LAST-MODIFIED:20230531T170024Z
UID:10001231-1692601200-1692604800@www.bradleybeachnj.gov
SUMMARY:Sunrise Yoga w/ Salted Soul
DESCRIPTION:
URL:https://www.bradleybeachnj.gov/event/sunrise-yoga-w-salted-soul-3/2023-08-21/
LOCATION:LaReine Ave Beach
CATEGORIES:Recreation Calendar
END:VEVENT
BEGIN:VEVENT
DTSTART;TZID=America/New_York:20230820T180000
DTEND;TZID=America/New_York:20230820T200000
DTSTAMP:20260424T030216
CREATED:20230728T145801Z
LAST-MODIFIED:20230728T145801Z
UID:10001495-1692554400-1692561600@www.bradleybeachnj.gov
SUMMARY:Back to School Bingo
DESCRIPTION:
URL:https://www.bradleybeachnj.gov/event/back-to-school-bingo/
LOCATION:Bradley Beach Rec Center\, 39 1/2 Main St\, Bradley Beach\, NJ\, 07720\, United States
CATEGORIES:Recreation Calendar
END:VEVENT
BEGIN:VEVENT
DTSTART;TZID=America/New_York:20230819T100000
DTEND;TZID=America/New_York:20230819T110000
DTSTAMP:20260424T030216
CREATED:20230728T150006Z
LAST-MODIFIED:20230728T150006Z
UID:10001496-1692439200-1692442800@www.bradleybeachnj.gov
SUMMARY:Giggle Wiggle and Go w/ Shoreline Dance Academy
DESCRIPTION:
URL:https://www.bradleybeachnj.gov/event/giggle-wiggle-and-go-w-shoreline-dance-academy/
LOCATION:Bradley Beach Rec Center\, 39 1/2 Main St\, Bradley Beach\, NJ\, 07720\, United States
CATEGORIES:Recreation Calendar
END:VEVENT
END:VCALENDAR