BEGIN:VCALENDAR
VERSION:2.0
PRODID:-//Bradley Beach - ECPv6.15.18//NONSGML v1.0//EN
CALSCALE:GREGORIAN
METHOD:PUBLISH
X-ORIGINAL-URL:https://www.bradleybeachnj.gov
X-WR-CALDESC:Events for Bradley Beach
REFRESH-INTERVAL;VALUE=DURATION:PT1H
X-Robots-Tag:noindex
X-PUBLISHED-TTL:PT1H
BEGIN:VTIMEZONE
TZID:America/New_York
BEGIN:DAYLIGHT
TZOFFSETFROM:-0500
TZOFFSETTO:-0400
TZNAME:EDT
DTSTART:20220313T070000
END:DAYLIGHT
BEGIN:STANDARD
TZOFFSETFROM:-0400
TZOFFSETTO:-0500
TZNAME:EST
DTSTART:20221106T060000
END:STANDARD
BEGIN:DAYLIGHT
TZOFFSETFROM:-0500
TZOFFSETTO:-0400
TZNAME:EDT
DTSTART:20230312T070000
END:DAYLIGHT
BEGIN:STANDARD
TZOFFSETFROM:-0400
TZOFFSETTO:-0500
TZNAME:EST
DTSTART:20231105T060000
END:STANDARD
BEGIN:DAYLIGHT
TZOFFSETFROM:-0500
TZOFFSETTO:-0400
TZNAME:EDT
DTSTART:20240310T070000
END:DAYLIGHT
BEGIN:STANDARD
TZOFFSETFROM:-0400
TZOFFSETTO:-0500
TZNAME:EST
DTSTART:20241103T060000
END:STANDARD
END:VTIMEZONE
BEGIN:VEVENT
DTSTART;TZID=America/New_York:20230718T180000
DTEND;TZID=America/New_York:20230718T193000
DTSTAMP:20260424T193438
CREATED:20230619T153547Z
LAST-MODIFIED:20230619T153547Z
UID:10001485-1689703200-1689708600@www.bradleybeachnj.gov
SUMMARY:BB Rec Soccer Clinic
DESCRIPTION:
URL:https://www.bradleybeachnj.gov/event/bb-rec-soccer-clinic/2023-07-18/
LOCATION:Bradley Beach Rec Center\, 39 1/2 Main St\, Bradley Beach\, NJ\, 07720\, United States
CATEGORIES:Recreation Calendar
END:VEVENT
BEGIN:VEVENT
DTSTART;TZID=America/New_York:20230717T190000
DTEND;TZID=America/New_York:20230717T194500
DTSTAMP:20260424T193438
CREATED:20230531T170349Z
LAST-MODIFIED:20230531T170349Z
UID:10001260-1689620400-1689623100@www.bradleybeachnj.gov
SUMMARY:Yin w/Salted Soul
DESCRIPTION:
URL:https://www.bradleybeachnj.gov/event/yin-w-salted-soul/2023-07-17/
LOCATION:LaReine Ave Beach
CATEGORIES:Recreation Calendar
END:VEVENT
BEGIN:VEVENT
DTSTART;TZID=America/New_York:20230717T080000
DTEND;TZID=America/New_York:20230717T083000
DTSTAMP:20260424T193438
CREATED:20230531T170147Z
LAST-MODIFIED:20230531T170147Z
UID:10001244-1689580800-1689582600@www.bradleybeachnj.gov
SUMMARY:Morning Meditation w/ Salted Soul
DESCRIPTION:
URL:https://www.bradleybeachnj.gov/event/morning-meditation-w-salted-soul/2023-07-17/
LOCATION:LaReine Ave Beach
CATEGORIES:Recreation Calendar
END:VEVENT
BEGIN:VEVENT
DTSTART;TZID=America/New_York:20230717T070000
DTEND;TZID=America/New_York:20230717T080000
DTSTAMP:20260424T193438
CREATED:20230531T170024Z
LAST-MODIFIED:20230531T170024Z
UID:10001226-1689577200-1689580800@www.bradleybeachnj.gov
SUMMARY:Sunrise Yoga w/ Salted Soul
DESCRIPTION:
URL:https://www.bradleybeachnj.gov/event/sunrise-yoga-w-salted-soul-3/2023-07-17/
LOCATION:LaReine Ave Beach
CATEGORIES:Recreation Calendar
END:VEVENT
BEGIN:VEVENT
DTSTART;TZID=America/New_York:20230715T080000
DTEND;TZID=America/New_York:20230715T090000
DTSTAMP:20260424T193438
CREATED:20230531T154824Z
LAST-MODIFIED:20230531T154946Z
UID:10001191-1689408000-1689411600@www.bradleybeachnj.gov
SUMMARY:Sunrise Yoga w/ Salted Soul
DESCRIPTION:
URL:https://www.bradleybeachnj.gov/event/sunrise-yoga-w-salted-soul/2023-07-15/
LOCATION:LaReine Ave Beach
CATEGORIES:Recreation Calendar
END:VEVENT
BEGIN:VEVENT
DTSTART;TZID=America/New_York:20230713T190000
DTEND;TZID=America/New_York:20230713T200000
DTSTAMP:20260424T193438
CREATED:20230531T154533Z
LAST-MODIFIED:20230531T154602Z
UID:10001166-1689274800-1689278400@www.bradleybeachnj.gov
SUMMARY:Sunset Yoga w/ Salted Soul
DESCRIPTION:
URL:https://www.bradleybeachnj.gov/event/sunset-yoga-w-salted-soul/2023-07-13/
LOCATION:LaReine Ave Beach
CATEGORIES:Recreation Calendar
END:VEVENT
BEGIN:VEVENT
DTSTART;TZID=America/New_York:20230711T180000
DTEND;TZID=America/New_York:20230711T193000
DTSTAMP:20260424T193438
CREATED:20230619T153547Z
LAST-MODIFIED:20230619T153547Z
UID:10001484-1689098400-1689103800@www.bradleybeachnj.gov
SUMMARY:BB Rec Soccer Clinic
DESCRIPTION:
URL:https://www.bradleybeachnj.gov/event/bb-rec-soccer-clinic/2023-07-11/
LOCATION:Bradley Beach Rec Center\, 39 1/2 Main St\, Bradley Beach\, NJ\, 07720\, United States
CATEGORIES:Recreation Calendar
END:VEVENT
BEGIN:VEVENT
DTSTART;TZID=America/New_York:20230710T190000
DTEND;TZID=America/New_York:20230710T194500
DTSTAMP:20260424T193438
CREATED:20230531T170349Z
LAST-MODIFIED:20230531T170349Z
UID:10001259-1689015600-1689018300@www.bradleybeachnj.gov
SUMMARY:Yin w/Salted Soul
DESCRIPTION:
URL:https://www.bradleybeachnj.gov/event/yin-w-salted-soul/2023-07-10/
LOCATION:LaReine Ave Beach
CATEGORIES:Recreation Calendar
END:VEVENT
BEGIN:VEVENT
DTSTART;TZID=America/New_York:20230710T080000
DTEND;TZID=America/New_York:20230710T083000
DTSTAMP:20260424T193438
CREATED:20230531T170147Z
LAST-MODIFIED:20230531T170147Z
UID:10001243-1688976000-1688977800@www.bradleybeachnj.gov
SUMMARY:Morning Meditation w/ Salted Soul
DESCRIPTION:
URL:https://www.bradleybeachnj.gov/event/morning-meditation-w-salted-soul/2023-07-10/
LOCATION:LaReine Ave Beach
CATEGORIES:Recreation Calendar
END:VEVENT
BEGIN:VEVENT
DTSTART;TZID=America/New_York:20230710T070000
DTEND;TZID=America/New_York:20230710T080000
DTSTAMP:20260424T193438
CREATED:20230531T170024Z
LAST-MODIFIED:20230531T170024Z
UID:10001225-1688972400-1688976000@www.bradleybeachnj.gov
SUMMARY:Sunrise Yoga w/ Salted Soul
DESCRIPTION:
URL:https://www.bradleybeachnj.gov/event/sunrise-yoga-w-salted-soul-3/2023-07-10/
LOCATION:LaReine Ave Beach
CATEGORIES:Recreation Calendar
END:VEVENT
BEGIN:VEVENT
DTSTART;TZID=America/New_York:20230708T080000
DTEND;TZID=America/New_York:20230708T090000
DTSTAMP:20260424T193438
CREATED:20230531T154824Z
LAST-MODIFIED:20230531T154946Z
UID:10001190-1688803200-1688806800@www.bradleybeachnj.gov
SUMMARY:Sunrise Yoga w/ Salted Soul
DESCRIPTION:
URL:https://www.bradleybeachnj.gov/event/sunrise-yoga-w-salted-soul/2023-07-08/
LOCATION:LaReine Ave Beach
CATEGORIES:Recreation Calendar
END:VEVENT
BEGIN:VEVENT
DTSTART;TZID=America/New_York:20230706T190000
DTEND;TZID=America/New_York:20230706T200000
DTSTAMP:20260424T193438
CREATED:20230531T154533Z
LAST-MODIFIED:20230531T154602Z
UID:10001165-1688670000-1688673600@www.bradleybeachnj.gov
SUMMARY:Sunset Yoga w/ Salted Soul
DESCRIPTION:
URL:https://www.bradleybeachnj.gov/event/sunset-yoga-w-salted-soul/2023-07-06/
LOCATION:LaReine Ave Beach
CATEGORIES:Recreation Calendar
END:VEVENT
BEGIN:VEVENT
DTSTART;TZID=America/New_York:20230703T080000
DTEND;TZID=America/New_York:20230703T083000
DTSTAMP:20260424T193438
CREATED:20230531T170147Z
LAST-MODIFIED:20230531T170147Z
UID:10001242-1688371200-1688373000@www.bradleybeachnj.gov
SUMMARY:Morning Meditation w/ Salted Soul
DESCRIPTION:
URL:https://www.bradleybeachnj.gov/event/morning-meditation-w-salted-soul/2023-07-03/
LOCATION:LaReine Ave Beach
CATEGORIES:Recreation Calendar
END:VEVENT
BEGIN:VEVENT
DTSTART;TZID=America/New_York:20230703T070000
DTEND;TZID=America/New_York:20230703T080000
DTSTAMP:20260424T193438
CREATED:20230531T170024Z
LAST-MODIFIED:20230531T170024Z
UID:10001224-1688367600-1688371200@www.bradleybeachnj.gov
SUMMARY:Sunrise Yoga w/ Salted Soul
DESCRIPTION:
URL:https://www.bradleybeachnj.gov/event/sunrise-yoga-w-salted-soul-3/2023-07-03/
LOCATION:LaReine Ave Beach
CATEGORIES:Recreation Calendar
END:VEVENT
BEGIN:VEVENT
DTSTART;TZID=America/New_York:20230701T080000
DTEND;TZID=America/New_York:20230701T090000
DTSTAMP:20260424T193438
CREATED:20230531T154824Z
LAST-MODIFIED:20230531T154946Z
UID:10001189-1688198400-1688202000@www.bradleybeachnj.gov
SUMMARY:Sunrise Yoga w/ Salted Soul
DESCRIPTION:
URL:https://www.bradleybeachnj.gov/event/sunrise-yoga-w-salted-soul/2023-07-01/
LOCATION:LaReine Ave Beach
CATEGORIES:Recreation Calendar
END:VEVENT
BEGIN:VEVENT
DTSTART;TZID=America/New_York:20230629T190000
DTEND;TZID=America/New_York:20230629T200000
DTSTAMP:20260424T193438
CREATED:20230531T154533Z
LAST-MODIFIED:20230531T154602Z
UID:10001164-1688065200-1688068800@www.bradleybeachnj.gov
SUMMARY:Sunset Yoga w/ Salted Soul
DESCRIPTION:
URL:https://www.bradleybeachnj.gov/event/sunset-yoga-w-salted-soul/2023-06-29/
LOCATION:LaReine Ave Beach
CATEGORIES:Recreation Calendar
END:VEVENT
BEGIN:VEVENT
DTSTART;TZID=America/New_York:20230624T080000
DTEND;TZID=America/New_York:20230624T090000
DTSTAMP:20260424T193438
CREATED:20230531T154824Z
LAST-MODIFIED:20230531T154946Z
UID:10001188-1687593600-1687597200@www.bradleybeachnj.gov
SUMMARY:Sunrise Yoga w/ Salted Soul
DESCRIPTION:
URL:https://www.bradleybeachnj.gov/event/sunrise-yoga-w-salted-soul/2023-06-24/
LOCATION:LaReine Ave Beach
CATEGORIES:Recreation Calendar
END:VEVENT
BEGIN:VEVENT
DTSTART;TZID=America/New_York:20230622T190000
DTEND;TZID=America/New_York:20230622T200000
DTSTAMP:20260424T193438
CREATED:20230531T154533Z
LAST-MODIFIED:20230531T154602Z
UID:10001163-1687460400-1687464000@www.bradleybeachnj.gov
SUMMARY:Sunset Yoga w/ Salted Soul
DESCRIPTION:
URL:https://www.bradleybeachnj.gov/event/sunset-yoga-w-salted-soul/2023-06-22/
LOCATION:LaReine Ave Beach
CATEGORIES:Recreation Calendar
END:VEVENT
BEGIN:VEVENT
DTSTART;TZID=America/New_York:20230617T080000
DTEND;TZID=America/New_York:20230617T090000
DTSTAMP:20260424T193438
CREATED:20230531T154824Z
LAST-MODIFIED:20230531T154946Z
UID:10001187-1686988800-1686992400@www.bradleybeachnj.gov
SUMMARY:Sunrise Yoga w/ Salted Soul
DESCRIPTION:
URL:https://www.bradleybeachnj.gov/event/sunrise-yoga-w-salted-soul/2023-06-17/
LOCATION:LaReine Ave Beach
CATEGORIES:Recreation Calendar
END:VEVENT
BEGIN:VEVENT
DTSTART;TZID=America/New_York:20230615T190000
DTEND;TZID=America/New_York:20230615T200000
DTSTAMP:20260424T193438
CREATED:20230531T154533Z
LAST-MODIFIED:20230531T154602Z
UID:10001162-1686855600-1686859200@www.bradleybeachnj.gov
SUMMARY:Sunset Yoga w/ Salted Soul
DESCRIPTION:
URL:https://www.bradleybeachnj.gov/event/sunset-yoga-w-salted-soul/2023-06-15/
LOCATION:LaReine Ave Beach
CATEGORIES:Recreation Calendar
END:VEVENT
BEGIN:VEVENT
DTSTART;TZID=America/New_York:20230610T080000
DTEND;TZID=America/New_York:20230610T090000
DTSTAMP:20260424T193438
CREATED:20230531T154824Z
LAST-MODIFIED:20230531T154946Z
UID:10001186-1686384000-1686387600@www.bradleybeachnj.gov
SUMMARY:Sunrise Yoga w/ Salted Soul
DESCRIPTION:
URL:https://www.bradleybeachnj.gov/event/sunrise-yoga-w-salted-soul/2023-06-10/
LOCATION:LaReine Ave Beach
CATEGORIES:Recreation Calendar
END:VEVENT
BEGIN:VEVENT
DTSTART;TZID=America/New_York:20230608T190000
DTEND;TZID=America/New_York:20230608T200000
DTSTAMP:20260424T193438
CREATED:20230531T154533Z
LAST-MODIFIED:20230531T154602Z
UID:10001161-1686250800-1686254400@www.bradleybeachnj.gov
SUMMARY:Sunset Yoga w/ Salted Soul
DESCRIPTION:
URL:https://www.bradleybeachnj.gov/event/sunset-yoga-w-salted-soul/2023-06-08/
LOCATION:LaReine Ave Beach
CATEGORIES:Recreation Calendar
END:VEVENT
BEGIN:VEVENT
DTSTART;TZID=America/New_York:20230603T080000
DTEND;TZID=America/New_York:20230603T090000
DTSTAMP:20260424T193438
CREATED:20230531T154824Z
LAST-MODIFIED:20230531T154946Z
UID:10001185-1685779200-1685782800@www.bradleybeachnj.gov
SUMMARY:Sunrise Yoga w/ Salted Soul
DESCRIPTION:
URL:https://www.bradleybeachnj.gov/event/sunrise-yoga-w-salted-soul/2023-06-03/
LOCATION:LaReine Ave Beach
CATEGORIES:Recreation Calendar
END:VEVENT
BEGIN:VEVENT
DTSTART;TZID=America/New_York:20230601T190000
DTEND;TZID=America/New_York:20230601T200000
DTSTAMP:20260424T193438
CREATED:20230531T154533Z
LAST-MODIFIED:20230531T154602Z
UID:10001160-1685646000-1685649600@www.bradleybeachnj.gov
SUMMARY:Sunset Yoga w/ Salted Soul
DESCRIPTION:
URL:https://www.bradleybeachnj.gov/event/sunset-yoga-w-salted-soul/2023-06-01/
LOCATION:LaReine Ave Beach
CATEGORIES:Recreation Calendar
END:VEVENT
BEGIN:VEVENT
DTSTART;TZID=America/New_York:20230506T130000
DTEND;TZID=America/New_York:20230506T153000
DTSTAMP:20260424T193438
CREATED:20230417T190935Z
LAST-MODIFIED:20230417T190935Z
UID:10001404-1683378000-1683387000@www.bradleybeachnj.gov
SUMMARY:EZ Ride Bike Rodeo
DESCRIPTION:
URL:https://www.bradleybeachnj.gov/event/ez-ride-bike-rodeo/
LOCATION:Bradley Beach Rec Center\, 39 1/2 Main St\, Bradley Beach\, NJ\, 07720\, United States
END:VEVENT
BEGIN:VEVENT
DTSTART;TZID=America/New_York:20230425T100000
DTEND;TZID=America/New_York:20230425T110000
DTSTAMP:20260424T193438
CREATED:20230202T164153Z
LAST-MODIFIED:20230228T170940Z
UID:10001132-1682416800-1682420400@www.bradleybeachnj.gov
SUMMARY:Crosswords and Coffee
DESCRIPTION:
URL:https://www.bradleybeachnj.gov/event/crosswords-and-coffee-6/2023-04-25/
LOCATION:Bradley Beach Rec Center\, 39 1/2 Main St\, Bradley Beach\, NJ\, 07720\, United States
CATEGORIES:Recreation Calendar
END:VEVENT
BEGIN:VEVENT
DTSTART;TZID=America/New_York:20230418T100000
DTEND;TZID=America/New_York:20230418T110000
DTSTAMP:20260424T193438
CREATED:20230202T164153Z
LAST-MODIFIED:20230228T170940Z
UID:10001131-1681812000-1681815600@www.bradleybeachnj.gov
SUMMARY:Crosswords and Coffee
DESCRIPTION:
URL:https://www.bradleybeachnj.gov/event/crosswords-and-coffee-6/2023-04-18/
LOCATION:Bradley Beach Rec Center\, 39 1/2 Main St\, Bradley Beach\, NJ\, 07720\, United States
CATEGORIES:Recreation Calendar
END:VEVENT
BEGIN:VEVENT
DTSTART;TZID=America/New_York:20230411T191500
DTEND;TZID=America/New_York:20230411T200000
DTSTAMP:20260424T193438
CREATED:20230213T212243Z
LAST-MODIFIED:20230213T212243Z
UID:10001343-1681240500-1681243200@www.bradleybeachnj.gov
SUMMARY:Zumba Night Class
DESCRIPTION:
URL:https://www.bradleybeachnj.gov/event/zumba-night-class-7/
LOCATION:Bradley Beach Rec Center\, 39 1/2 Main St\, Bradley Beach\, NJ\, 07720\, United States
CATEGORIES:Recreation Calendar
END:VEVENT
BEGIN:VEVENT
DTSTART;TZID=America/New_York:20230411T100000
DTEND;TZID=America/New_York:20230411T110000
DTSTAMP:20260424T193438
CREATED:20230202T164153Z
LAST-MODIFIED:20230228T170940Z
UID:10001130-1681207200-1681210800@www.bradleybeachnj.gov
SUMMARY:Crosswords and Coffee
DESCRIPTION:
URL:https://www.bradleybeachnj.gov/event/crosswords-and-coffee-6/2023-04-11/
LOCATION:Bradley Beach Rec Center\, 39 1/2 Main St\, Bradley Beach\, NJ\, 07720\, United States
CATEGORIES:Recreation Calendar
END:VEVENT
BEGIN:VEVENT
DTSTART;TZID=America/New_York:20230406T083000
DTEND;TZID=America/New_York:20230406T123000
DTSTAMP:20260424T193439
CREATED:20230228T170702Z
LAST-MODIFIED:20230228T170702Z
UID:10001359-1680769800-1680784200@www.bradleybeachnj.gov
SUMMARY:BB Rec Baseball & Softball Camp
DESCRIPTION:
URL:https://www.bradleybeachnj.gov/event/bb-rec-baseball-softball-camp/2023-04-06/
LOCATION:Bradley Beach Rec Center\, 39 1/2 Main St\, Bradley Beach\, NJ\, 07720\, United States
CATEGORIES:Recreation Calendar
END:VEVENT
END:VCALENDAR