BEGIN:VCALENDAR
VERSION:2.0
PRODID:-//Bradley Beach - ECPv6.15.18//NONSGML v1.0//EN
CALSCALE:GREGORIAN
METHOD:PUBLISH
X-ORIGINAL-URL:https://www.bradleybeachnj.gov
X-WR-CALDESC:Events for Bradley Beach
REFRESH-INTERVAL;VALUE=DURATION:PT1H
X-Robots-Tag:noindex
X-PUBLISHED-TTL:PT1H
BEGIN:VTIMEZONE
TZID:America/New_York
BEGIN:DAYLIGHT
TZOFFSETFROM:-0500
TZOFFSETTO:-0400
TZNAME:EDT
DTSTART:20230312T070000
END:DAYLIGHT
BEGIN:STANDARD
TZOFFSETFROM:-0400
TZOFFSETTO:-0500
TZNAME:EST
DTSTART:20231105T060000
END:STANDARD
BEGIN:DAYLIGHT
TZOFFSETFROM:-0500
TZOFFSETTO:-0400
TZNAME:EDT
DTSTART:20240310T070000
END:DAYLIGHT
BEGIN:STANDARD
TZOFFSETFROM:-0400
TZOFFSETTO:-0500
TZNAME:EST
DTSTART:20241103T060000
END:STANDARD
BEGIN:DAYLIGHT
TZOFFSETFROM:-0500
TZOFFSETTO:-0400
TZNAME:EDT
DTSTART:20250309T070000
END:DAYLIGHT
BEGIN:STANDARD
TZOFFSETFROM:-0400
TZOFFSETTO:-0500
TZNAME:EST
DTSTART:20251102T060000
END:STANDARD
BEGIN:DAYLIGHT
TZOFFSETFROM:-0500
TZOFFSETTO:-0400
TZNAME:EDT
DTSTART:20260308T070000
END:DAYLIGHT
BEGIN:STANDARD
TZOFFSETFROM:-0400
TZOFFSETTO:-0500
TZNAME:EST
DTSTART:20261101T060000
END:STANDARD
END:VTIMEZONE
BEGIN:VEVENT
DTSTART;TZID=America/New_York:20250527T160000
DTEND;TZID=America/New_York:20250527T170000
DTSTAMP:20260423T050335
CREATED:20250409T133832Z
LAST-MODIFIED:20250520T141222Z
UID:10001855-1748361600-1748365200@www.bradleybeachnj.gov
SUMMARY:BBRC Evening Pickleball Lessons
DESCRIPTION:
URL:https://www.bradleybeachnj.gov/event/bbrc-evening-pickleball-lessons/2025-05-27/
LOCATION:Bradley Beach Rec Center\, 39 1/2 Main St\, Bradley Beach\, NJ\, 07720\, United States
CATEGORIES:Recreation Calendar
END:VEVENT
BEGIN:VEVENT
DTSTART;TZID=America/New_York:20250520T160000
DTEND;TZID=America/New_York:20250520T170000
DTSTAMP:20260423T050335
CREATED:20250409T133832Z
LAST-MODIFIED:20250520T141222Z
UID:10001854-1747756800-1747760400@www.bradleybeachnj.gov
SUMMARY:BBRC Evening Pickleball Lessons
DESCRIPTION:
URL:https://www.bradleybeachnj.gov/event/bbrc-evening-pickleball-lessons/2025-05-20/
LOCATION:Bradley Beach Rec Center\, 39 1/2 Main St\, Bradley Beach\, NJ\, 07720\, United States
CATEGORIES:Recreation Calendar
END:VEVENT
BEGIN:VEVENT
DTSTART;TZID=America/New_York:20250513T160000
DTEND;TZID=America/New_York:20250513T170000
DTSTAMP:20260423T050335
CREATED:20250409T133832Z
LAST-MODIFIED:20250520T141222Z
UID:10001853-1747152000-1747155600@www.bradleybeachnj.gov
SUMMARY:BBRC Evening Pickleball Lessons
DESCRIPTION:
URL:https://www.bradleybeachnj.gov/event/bbrc-evening-pickleball-lessons/2025-05-13/
LOCATION:Bradley Beach Rec Center\, 39 1/2 Main St\, Bradley Beach\, NJ\, 07720\, United States
CATEGORIES:Recreation Calendar
END:VEVENT
BEGIN:VEVENT
DTSTART;TZID=America/New_York:20250430T180000
DTEND;TZID=America/New_York:20250430T200000
DTSTAMP:20260423T050335
CREATED:20250324T145902Z
LAST-MODIFIED:20250324T145902Z
UID:10001584-1746036000-1746043200@www.bradleybeachnj.gov
SUMMARY:BB Rec Bowling Club
DESCRIPTION:
URL:https://www.bradleybeachnj.gov/event/bb-rec-bowling-club/
CATEGORIES:Recreation Calendar
ATTACH;FMTTYPE=image/png:https://www.bradleybeachnj.gov/wp-content/uploads/2025/03/Bb-Bowling-Club.png
END:VEVENT
BEGIN:VEVENT
DTSTART;TZID=America/New_York:20250412T193000
DTEND;TZID=America/New_York:20250412T203000
DTSTAMP:20260423T050335
CREATED:20250324T141208Z
LAST-MODIFIED:20250324T141208Z
UID:10001580-1744486200-1744489800@www.bradleybeachnj.gov
SUMMARY:Glow in the Dark Egg Hunt
DESCRIPTION:
URL:https://www.bradleybeachnj.gov/event/glow-in-the-dark-egg-hunt/
LOCATION:Bradley Beach Rec Center\, 39 1/2 Main St\, Bradley Beach\, NJ\, 07720\, United States
CATEGORIES:Recreation Calendar
ATTACH;FMTTYPE=image/png:https://www.bradleybeachnj.gov/wp-content/uploads/2025/03/Glow-in-the-dark-Easter-Egg-Hunt-1.png
END:VEVENT
BEGIN:VEVENT
DTSTART;TZID=America/New_York:20250330T143000
DTEND;TZID=America/New_York:20250330T193000
DTSTAMP:20260423T050335
CREATED:20250314T144429Z
LAST-MODIFIED:20250314T144429Z
UID:10001782-1743345000-1743363000@www.bradleybeachnj.gov
SUMMARY:PTA Gift Auction DROP OFF
DESCRIPTION:
URL:https://www.bradleybeachnj.gov/event/pta-gift-auction-drop-off/
LOCATION:Bradley Beach Rec Center\, 39 1/2 Main St\, Bradley Beach\, NJ\, 07720\, United States
CATEGORIES:Recreation Calendar
ATTACH;FMTTYPE=image/png:https://www.bradleybeachnj.gov/wp-content/uploads/2025/03/PTA-Gift-auction-4.png
END:VEVENT
BEGIN:VEVENT
DTSTART;TZID=America/New_York:20250324T090000
DTEND;TZID=America/New_York:20250324T150000
DTSTAMP:20260423T050335
CREATED:20250324T175158Z
LAST-MODIFIED:20250324T175158Z
UID:10001784-1742806800-1742828400@www.bradleybeachnj.gov
SUMMARY:First Day of Summer Camp 2025
DESCRIPTION:
URL:https://www.bradleybeachnj.gov/event/first-day-of-summer-camp-2025/
LOCATION:Bradley Beach Rec Center\, 39 1/2 Main St\, Bradley Beach\, NJ\, 07720\, United States
CATEGORIES:Recreation Calendar
END:VEVENT
BEGIN:VEVENT
DTSTART;TZID=America/New_York:20241227T130000
DTEND;TZID=America/New_York:20241227T150000
DTSTAMP:20260423T050335
CREATED:20240815T171605Z
LAST-MODIFIED:20240912T164813Z
UID:10001723-1735304400-1735311600@www.bradleybeachnj.gov
SUMMARY:Open Mahjongg
DESCRIPTION:
URL:https://www.bradleybeachnj.gov/event/open-mahjongg/2024-12-27/
LOCATION:Bradley Beach Rec Center\, 39 1/2 Main St\, Bradley Beach\, NJ\, 07720\, United States
CATEGORIES:Recreation Calendar
END:VEVENT
BEGIN:VEVENT
DTSTART;TZID=America/New_York:20241220T130000
DTEND;TZID=America/New_York:20241220T150000
DTSTAMP:20260423T050335
CREATED:20240815T171605Z
LAST-MODIFIED:20240912T164813Z
UID:10001722-1734699600-1734706800@www.bradleybeachnj.gov
SUMMARY:Open Mahjongg
DESCRIPTION:
URL:https://www.bradleybeachnj.gov/event/open-mahjongg/2024-12-20/
LOCATION:Bradley Beach Rec Center\, 39 1/2 Main St\, Bradley Beach\, NJ\, 07720\, United States
CATEGORIES:Recreation Calendar
END:VEVENT
BEGIN:VEVENT
DTSTART;TZID=America/New_York:20241213T130000
DTEND;TZID=America/New_York:20241213T150000
DTSTAMP:20260423T050335
CREATED:20240815T171605Z
LAST-MODIFIED:20240912T164813Z
UID:10001721-1734094800-1734102000@www.bradleybeachnj.gov
SUMMARY:Open Mahjongg
DESCRIPTION:
URL:https://www.bradleybeachnj.gov/event/open-mahjongg/2024-12-13/
LOCATION:Bradley Beach Rec Center\, 39 1/2 Main St\, Bradley Beach\, NJ\, 07720\, United States
CATEGORIES:Recreation Calendar
END:VEVENT
BEGIN:VEVENT
DTSTART;TZID=America/New_York:20241206T130000
DTEND;TZID=America/New_York:20241206T150000
DTSTAMP:20260423T050335
CREATED:20240815T171605Z
LAST-MODIFIED:20240912T164813Z
UID:10001720-1733490000-1733497200@www.bradleybeachnj.gov
SUMMARY:Open Mahjongg
DESCRIPTION:
URL:https://www.bradleybeachnj.gov/event/open-mahjongg/2024-12-06/
LOCATION:Bradley Beach Rec Center\, 39 1/2 Main St\, Bradley Beach\, NJ\, 07720\, United States
CATEGORIES:Recreation Calendar
END:VEVENT
BEGIN:VEVENT
DTSTART;TZID=America/New_York:20241129T130000
DTEND;TZID=America/New_York:20241129T150000
DTSTAMP:20260423T050335
CREATED:20240815T171605Z
LAST-MODIFIED:20240912T164813Z
UID:10001719-1732885200-1732892400@www.bradleybeachnj.gov
SUMMARY:Open Mahjongg
DESCRIPTION:
URL:https://www.bradleybeachnj.gov/event/open-mahjongg/2024-11-29/
LOCATION:Bradley Beach Rec Center\, 39 1/2 Main St\, Bradley Beach\, NJ\, 07720\, United States
CATEGORIES:Recreation Calendar
END:VEVENT
BEGIN:VEVENT
DTSTART;TZID=America/New_York:20241125T170000
DTEND;TZID=America/New_York:20241125T190000
DTSTAMP:20260423T050335
CREATED:20241125T163102Z
LAST-MODIFIED:20241125T163102Z
UID:10001733-1732554000-1732561200@www.bradleybeachnj.gov
SUMMARY:Grinch-Gram Deliveries
DESCRIPTION:
URL:https://www.bradleybeachnj.gov/event/grinch-gram-deliveries/
CATEGORIES:Recreation Calendar
END:VEVENT
BEGIN:VEVENT
DTSTART;TZID=America/New_York:20241122T130000
DTEND;TZID=America/New_York:20241122T150000
DTSTAMP:20260423T050335
CREATED:20240815T171605Z
LAST-MODIFIED:20240912T164813Z
UID:10001718-1732280400-1732287600@www.bradleybeachnj.gov
SUMMARY:Open Mahjongg
DESCRIPTION:
URL:https://www.bradleybeachnj.gov/event/open-mahjongg/2024-11-22/
LOCATION:Bradley Beach Rec Center\, 39 1/2 Main St\, Bradley Beach\, NJ\, 07720\, United States
CATEGORIES:Recreation Calendar
END:VEVENT
BEGIN:VEVENT
DTSTART;TZID=America/New_York:20241115T130000
DTEND;TZID=America/New_York:20241115T150000
DTSTAMP:20260423T050335
CREATED:20240815T171605Z
LAST-MODIFIED:20240912T164813Z
UID:10001717-1731675600-1731682800@www.bradleybeachnj.gov
SUMMARY:Open Mahjongg
DESCRIPTION:
URL:https://www.bradleybeachnj.gov/event/open-mahjongg/2024-11-15/
LOCATION:Bradley Beach Rec Center\, 39 1/2 Main St\, Bradley Beach\, NJ\, 07720\, United States
CATEGORIES:Recreation Calendar
END:VEVENT
BEGIN:VEVENT
DTSTART;TZID=America/New_York:20241108T130000
DTEND;TZID=America/New_York:20241108T150000
DTSTAMP:20260423T050335
CREATED:20240815T171605Z
LAST-MODIFIED:20240912T164813Z
UID:10001716-1731070800-1731078000@www.bradleybeachnj.gov
SUMMARY:Open Mahjongg
DESCRIPTION:
URL:https://www.bradleybeachnj.gov/event/open-mahjongg/2024-11-08/
LOCATION:Bradley Beach Rec Center\, 39 1/2 Main St\, Bradley Beach\, NJ\, 07720\, United States
CATEGORIES:Recreation Calendar
END:VEVENT
BEGIN:VEVENT
DTSTART;TZID=America/New_York:20241101T130000
DTEND;TZID=America/New_York:20241101T150000
DTSTAMP:20260423T050335
CREATED:20240815T171605Z
LAST-MODIFIED:20240912T164813Z
UID:10001715-1730466000-1730473200@www.bradleybeachnj.gov
SUMMARY:Open Mahjongg
DESCRIPTION:
URL:https://www.bradleybeachnj.gov/event/open-mahjongg/2024-11-01/
LOCATION:Bradley Beach Rec Center\, 39 1/2 Main St\, Bradley Beach\, NJ\, 07720\, United States
CATEGORIES:Recreation Calendar
END:VEVENT
BEGIN:VEVENT
DTSTART;TZID=America/New_York:20241027T130000
DTEND;TZID=America/New_York:20241027T150000
DTSTAMP:20260423T050335
CREATED:20241001T130257Z
LAST-MODIFIED:20241001T130410Z
UID:10001530-1730034000-1730041200@www.bradleybeachnj.gov
SUMMARY:Trunk-Or-Treat
DESCRIPTION:Trunk-Or-Treat will be in the Municipal Parking lot from 1 to 3 pm.  \nIf you’d like to participate as a Trunk giving out goodies click the link to sign up!  \nhttps://register.capturepoint.com/reg/cat_program_list_detail.cfm?season_id=32296&program_id=2364744 \n 
URL:https://www.bradleybeachnj.gov/event/trunk-or-treat/
CATEGORIES:Community Events Calendar
END:VEVENT
BEGIN:VEVENT
DTSTART;TZID=America/New_York:20241025T130000
DTEND;TZID=America/New_York:20241025T150000
DTSTAMP:20260423T050335
CREATED:20240815T171605Z
LAST-MODIFIED:20240912T164813Z
UID:10001714-1729861200-1729868400@www.bradleybeachnj.gov
SUMMARY:Open Mahjongg
DESCRIPTION:
URL:https://www.bradleybeachnj.gov/event/open-mahjongg/2024-10-25/
LOCATION:Bradley Beach Rec Center\, 39 1/2 Main St\, Bradley Beach\, NJ\, 07720\, United States
CATEGORIES:Recreation Calendar
END:VEVENT
BEGIN:VEVENT
DTSTART;TZID=America/New_York:20241021T123000
DTEND;TZID=America/New_York:20241021T150000
DTSTAMP:20260423T050335
CREATED:20240926T170157Z
LAST-MODIFIED:20240926T170157Z
UID:10001516-1729513800-1729522800@www.bradleybeachnj.gov
SUMMARY:Matinee Movie Monday
DESCRIPTION:
URL:https://www.bradleybeachnj.gov/event/matinee-movie-monday-2/
LOCATION:Bradley Beach Rec Center\, 39 1/2 Main St\, Bradley Beach\, NJ\, 07720\, United States
CATEGORIES:Recreation Calendar
END:VEVENT
BEGIN:VEVENT
DTSTART;TZID=America/New_York:20241021T103000
DTEND;TZID=America/New_York:20241021T113000
DTSTAMP:20260423T050335
CREATED:20241004T220248Z
LAST-MODIFIED:20241004T220248Z
UID:10001728-1729506600-1729510200@www.bradleybeachnj.gov
SUMMARY:Chair Yoga at the Rec Center
DESCRIPTION:
URL:https://www.bradleybeachnj.gov/event/chair-yoga-at-the-rec-center/
LOCATION:Bradley Beach Rec Center\, 39 1/2 Main St\, Bradley Beach\, NJ\, 07720\, United States
CATEGORIES:Recreation Calendar
END:VEVENT
BEGIN:VEVENT
DTSTART;TZID=America/New_York:20241018T130000
DTEND;TZID=America/New_York:20241018T150000
DTSTAMP:20260423T050335
CREATED:20240815T171605Z
LAST-MODIFIED:20240912T164813Z
UID:10001713-1729256400-1729263600@www.bradleybeachnj.gov
SUMMARY:Open Mahjongg
DESCRIPTION:
URL:https://www.bradleybeachnj.gov/event/open-mahjongg/2024-10-18/
LOCATION:Bradley Beach Rec Center\, 39 1/2 Main St\, Bradley Beach\, NJ\, 07720\, United States
CATEGORIES:Recreation Calendar
END:VEVENT
BEGIN:VEVENT
DTSTART;TZID=America/New_York:20241011T130000
DTEND;TZID=America/New_York:20241011T150000
DTSTAMP:20260423T050335
CREATED:20240815T171605Z
LAST-MODIFIED:20240912T164813Z
UID:10001712-1728651600-1728658800@www.bradleybeachnj.gov
SUMMARY:Open Mahjongg
DESCRIPTION:
URL:https://www.bradleybeachnj.gov/event/open-mahjongg/2024-10-11/
LOCATION:Bradley Beach Rec Center\, 39 1/2 Main St\, Bradley Beach\, NJ\, 07720\, United States
CATEGORIES:Recreation Calendar
END:VEVENT
BEGIN:VEVENT
DTSTART;TZID=America/New_York:20241009T153000
DTEND;TZID=America/New_York:20241009T163000
DTSTAMP:20260423T050335
CREATED:20240930T185940Z
LAST-MODIFIED:20240930T185940Z
UID:10001526-1728487800-1728491400@www.bradleybeachnj.gov
SUMMARY:Homework Helpers Club
DESCRIPTION:
URL:https://www.bradleybeachnj.gov/event/homework-helpers-club/
LOCATION:Bradley Beach Rec Center\, 39 1/2 Main St\, Bradley Beach\, NJ\, 07720\, United States
CATEGORIES:Recreation Calendar
END:VEVENT
BEGIN:VEVENT
DTSTART;TZID=America/New_York:20241007T123000
DTEND;TZID=America/New_York:20241007T150000
DTSTAMP:20260423T050335
CREATED:20240926T170043Z
LAST-MODIFIED:20240926T170043Z
UID:10001514-1728304200-1728313200@www.bradleybeachnj.gov
SUMMARY:Matinee Movie Monday
DESCRIPTION:
URL:https://www.bradleybeachnj.gov/event/matinee-movie-monday/
LOCATION:Bradley Beach Rec Center\, 39 1/2 Main St\, Bradley Beach\, NJ\, 07720\, United States
CATEGORIES:Recreation Calendar
END:VEVENT
BEGIN:VEVENT
DTSTART;TZID=America/New_York:20241004T130000
DTEND;TZID=America/New_York:20241004T150000
DTSTAMP:20260423T050335
CREATED:20240815T171605Z
LAST-MODIFIED:20240912T164813Z
UID:10001711-1728046800-1728054000@www.bradleybeachnj.gov
SUMMARY:Open Mahjongg
DESCRIPTION:
URL:https://www.bradleybeachnj.gov/event/open-mahjongg/2024-10-04/
LOCATION:Bradley Beach Rec Center\, 39 1/2 Main St\, Bradley Beach\, NJ\, 07720\, United States
CATEGORIES:Recreation Calendar
END:VEVENT
BEGIN:VEVENT
DTSTART;TZID=America/New_York:20241001T090000
DTEND;TZID=America/New_York:20241001T150000
DTSTAMP:20260423T050335
CREATED:20240930T185148Z
LAST-MODIFIED:20240930T185148Z
UID:10001524-1727773200-1727794800@www.bradleybeachnj.gov
SUMMARY:Table Tennis Tuesday
DESCRIPTION:
URL:https://www.bradleybeachnj.gov/event/table-tennis-tuesday/
LOCATION:Bradley Beach Rec Center\, 39 1/2 Main St\, Bradley Beach\, NJ\, 07720\, United States
CATEGORIES:Recreation Calendar
END:VEVENT
BEGIN:VEVENT
DTSTART;TZID=America/New_York:20240927T150000
DTEND;TZID=America/New_York:20240927T190000
DTSTAMP:20260423T050335
CREATED:20240926T170702Z
LAST-MODIFIED:20240926T170702Z
UID:10001522-1727449200-1727463600@www.bradleybeachnj.gov
SUMMARY:Open Rec
DESCRIPTION:
URL:https://www.bradleybeachnj.gov/event/open-rec-2/
LOCATION:Bradley Beach Rec Center\, 39 1/2 Main St\, Bradley Beach\, NJ\, 07720\, United States
CATEGORIES:Recreation Calendar
END:VEVENT
BEGIN:VEVENT
DTSTART;TZID=America/New_York:20240927T130000
DTEND;TZID=America/New_York:20240927T150000
DTSTAMP:20260423T050335
CREATED:20240815T171605Z
LAST-MODIFIED:20240912T164813Z
UID:10001710-1727442000-1727449200@www.bradleybeachnj.gov
SUMMARY:Open Mahjongg
DESCRIPTION:
URL:https://www.bradleybeachnj.gov/event/open-mahjongg/2024-09-27/
LOCATION:Bradley Beach Rec Center\, 39 1/2 Main St\, Bradley Beach\, NJ\, 07720\, United States
CATEGORIES:Recreation Calendar
END:VEVENT
BEGIN:VEVENT
DTSTART;TZID=America/New_York:20240926T150000
DTEND;TZID=America/New_York:20240926T180000
DTSTAMP:20260423T050335
CREATED:20240926T170534Z
LAST-MODIFIED:20240926T170534Z
UID:10001520-1727362800-1727373600@www.bradleybeachnj.gov
SUMMARY:Open Rec
DESCRIPTION:
URL:https://www.bradleybeachnj.gov/event/open-rec/
LOCATION:Bradley Beach Rec Center\, 39 1/2 Main St\, Bradley Beach\, NJ\, 07720\, United States
CATEGORIES:Recreation Calendar
END:VEVENT
END:VCALENDAR