BEGIN:VCALENDAR
VERSION:2.0
PRODID:-//Bradley Beach - ECPv6.15.18//NONSGML v1.0//EN
CALSCALE:GREGORIAN
METHOD:PUBLISH
X-WR-CALNAME:Bradley Beach
X-ORIGINAL-URL:https://www.bradleybeachnj.gov
X-WR-CALDESC:Events for Bradley Beach
REFRESH-INTERVAL;VALUE=DURATION:PT1H
X-Robots-Tag:noindex
X-PUBLISHED-TTL:PT1H
BEGIN:VTIMEZONE
TZID:America/New_York
BEGIN:DAYLIGHT
TZOFFSETFROM:-0500
TZOFFSETTO:-0400
TZNAME:EDT
DTSTART:20230312T070000
END:DAYLIGHT
BEGIN:STANDARD
TZOFFSETFROM:-0400
TZOFFSETTO:-0500
TZNAME:EST
DTSTART:20231105T060000
END:STANDARD
BEGIN:DAYLIGHT
TZOFFSETFROM:-0500
TZOFFSETTO:-0400
TZNAME:EDT
DTSTART:20240310T070000
END:DAYLIGHT
BEGIN:STANDARD
TZOFFSETFROM:-0400
TZOFFSETTO:-0500
TZNAME:EST
DTSTART:20241103T060000
END:STANDARD
BEGIN:DAYLIGHT
TZOFFSETFROM:-0500
TZOFFSETTO:-0400
TZNAME:EDT
DTSTART:20250309T070000
END:DAYLIGHT
BEGIN:STANDARD
TZOFFSETFROM:-0400
TZOFFSETTO:-0500
TZNAME:EST
DTSTART:20251102T060000
END:STANDARD
END:VTIMEZONE
BEGIN:VEVENT
DTSTART;TZID=America/New_York:20240927T130000
DTEND;TZID=America/New_York:20240927T150000
DTSTAMP:20260423T111950
CREATED:20240815T171605Z
LAST-MODIFIED:20240912T164813Z
UID:10001710-1727442000-1727449200@www.bradleybeachnj.gov
SUMMARY:Open Mahjongg
DESCRIPTION:
URL:https://www.bradleybeachnj.gov/event/open-mahjongg/2024-09-27/
LOCATION:Bradley Beach Rec Center\, 39 1/2 Main St\, Bradley Beach\, NJ\, 07720\, United States
CATEGORIES:Recreation Calendar
END:VEVENT
BEGIN:VEVENT
DTSTART;TZID=America/New_York:20240926T150000
DTEND;TZID=America/New_York:20240926T180000
DTSTAMP:20260423T111950
CREATED:20240926T170534Z
LAST-MODIFIED:20240926T170534Z
UID:10001520-1727362800-1727373600@www.bradleybeachnj.gov
SUMMARY:Open Rec
DESCRIPTION:
URL:https://www.bradleybeachnj.gov/event/open-rec/
LOCATION:Bradley Beach Rec Center\, 39 1/2 Main St\, Bradley Beach\, NJ\, 07720\, United States
CATEGORIES:Recreation Calendar
END:VEVENT
BEGIN:VEVENT
DTSTART;TZID=America/New_York:20240925T120000
DTEND;TZID=America/New_York:20240925T150000
DTSTAMP:20260423T111950
CREATED:20240126T140202Z
LAST-MODIFIED:20240126T140202Z
UID:10001397-1727265600-1727276400@www.bradleybeachnj.gov
SUMMARY:Senior Club Meeting
DESCRIPTION:
URL:https://www.bradleybeachnj.gov/event/senior-club-meeting-8/
CATEGORIES:Recreation Calendar
END:VEVENT
BEGIN:VEVENT
DTSTART;TZID=America/New_York:20240920T130000
DTEND;TZID=America/New_York:20240920T150000
DTSTAMP:20260423T111950
CREATED:20240815T171605Z
LAST-MODIFIED:20240912T164813Z
UID:10001709-1726837200-1726844400@www.bradleybeachnj.gov
SUMMARY:Open Mahjongg
DESCRIPTION:
URL:https://www.bradleybeachnj.gov/event/open-mahjongg/2024-09-20/
LOCATION:Bradley Beach Rec Center\, 39 1/2 Main St\, Bradley Beach\, NJ\, 07720\, United States
CATEGORIES:Recreation Calendar
END:VEVENT
BEGIN:VEVENT
DTSTART;TZID=America/New_York:20240913T130000
DTEND;TZID=America/New_York:20240913T150000
DTSTAMP:20260423T111950
CREATED:20240815T171605Z
LAST-MODIFIED:20240912T164813Z
UID:10001708-1726232400-1726239600@www.bradleybeachnj.gov
SUMMARY:Open Mahjongg
DESCRIPTION:
URL:https://www.bradleybeachnj.gov/event/open-mahjongg/2024-09-13/
LOCATION:Bradley Beach Rec Center\, 39 1/2 Main St\, Bradley Beach\, NJ\, 07720\, United States
CATEGORIES:Recreation Calendar
END:VEVENT
BEGIN:VEVENT
DTSTART;TZID=America/New_York:20240818T180000
DTEND;TZID=America/New_York:20240818T200000
DTSTAMP:20260423T111950
CREATED:20240812T161940Z
LAST-MODIFIED:20240812T161940Z
UID:10001707-1724004000-1724011200@www.bradleybeachnj.gov
SUMMARY:Back To School Bingo!
DESCRIPTION:
URL:https://www.bradleybeachnj.gov/event/back-to-school-bingo-3/
LOCATION:Bradley Beach Rec Center\, 39 1/2 Main St\, Bradley Beach\, NJ\, 07720\, United States
CATEGORIES:Recreation Calendar
END:VEVENT
BEGIN:VEVENT
DTSTART;TZID=America/New_York:20240717T183000
DTEND;TZID=America/New_York:20240717T203000
DTSTAMP:20260423T111950
CREATED:20240708T152846Z
LAST-MODIFIED:20240708T152846Z
UID:10001694-1721241000-1721248200@www.bradleybeachnj.gov
SUMMARY:Summer Bocce League
DESCRIPTION:
URL:https://www.bradleybeachnj.gov/event/summer-bocce-league-3/
CATEGORIES:Recreation Calendar
END:VEVENT
BEGIN:VEVENT
DTSTART;TZID=America/New_York:20240716T183000
DTEND;TZID=America/New_York:20240716T203000
DTSTAMP:20260423T111950
CREATED:20240708T152750Z
LAST-MODIFIED:20240708T152750Z
UID:10001693-1721154600-1721161800@www.bradleybeachnj.gov
SUMMARY:Summer Bocce League
DESCRIPTION:
URL:https://www.bradleybeachnj.gov/event/summer-bocce-league-2/
CATEGORIES:Recreation Calendar
END:VEVENT
BEGIN:VEVENT
DTSTART;TZID=America/New_York:20240716T173000
DTEND;TZID=America/New_York:20240716T183000
DTSTAMP:20260423T111950
CREATED:20240708T153120Z
LAST-MODIFIED:20240708T153120Z
UID:10001695-1721151000-1721154600@www.bradleybeachnj.gov
SUMMARY:Soccer In The Sand
DESCRIPTION:
URL:https://www.bradleybeachnj.gov/event/soccer-in-the-sand/
CATEGORIES:Recreation Calendar
END:VEVENT
BEGIN:VEVENT
DTSTART;TZID=America/New_York:20240715T183000
DTEND;TZID=America/New_York:20240715T203000
DTSTAMP:20260423T111950
CREATED:20240708T152645Z
LAST-MODIFIED:20240708T152645Z
UID:10001692-1721068200-1721075400@www.bradleybeachnj.gov
SUMMARY:Summer Bocce League
DESCRIPTION:
URL:https://www.bradleybeachnj.gov/event/summer-bocce-league/
CATEGORIES:Recreation Calendar
END:VEVENT
BEGIN:VEVENT
DTSTART;TZID=America/New_York:20240626T120000
DTEND;TZID=America/New_York:20240626T150000
DTSTAMP:20260423T111950
CREATED:20240126T140108Z
LAST-MODIFIED:20240126T140108Z
UID:10001395-1719403200-1719414000@www.bradleybeachnj.gov
SUMMARY:Senior Club Meeting
DESCRIPTION:
URL:https://www.bradleybeachnj.gov/event/senior-club-meeting-7/
CATEGORIES:Recreation Calendar
END:VEVENT
BEGIN:VEVENT
DTSTART;TZID=America/New_York:20240603T190000
DTEND;TZID=America/New_York:20240603T190000
DTSTAMP:20260423T111950
CREATED:20240515T153209Z
LAST-MODIFIED:20240515T153209Z
UID:10001489-1717441200-1717441200@www.bradleybeachnj.gov
SUMMARY:Salted Soul Yoga On The Beach
DESCRIPTION:Mellow Movements and Meditation Yoga with Mel Gustray from Salted Soul Yoga 
URL:https://www.bradleybeachnj.gov/event/salted-soul-yoga-on-the-beach/
LOCATION:LaReine Ave Beach
CATEGORIES:Recreation Calendar
END:VEVENT
BEGIN:VEVENT
DTSTART;TZID=America/New_York:20240530T190000
DTEND;TZID=America/New_York:20240530T200000
DTSTAMP:20260423T111950
CREATED:20240515T153424Z
LAST-MODIFIED:20240515T153424Z
UID:10001491-1717095600-1717099200@www.bradleybeachnj.gov
SUMMARY:Salted Soul Yoga On The Beach
DESCRIPTION:Sunset Yoga with Mel Gustray from Salted Soul Yoga 
URL:https://www.bradleybeachnj.gov/event/salted-soul-yoga-on-the-beach-2/
LOCATION:LaReine Ave Beach
CATEGORIES:Recreation Calendar
END:VEVENT
BEGIN:VEVENT
DTSTART;TZID=America/New_York:20240525T080000
DTEND;TZID=America/New_York:20240525T090000
DTSTAMP:20260423T111950
CREATED:20240515T153559Z
LAST-MODIFIED:20240515T153559Z
UID:10001680-1716624000-1716627600@www.bradleybeachnj.gov
SUMMARY:Salted Soul Yoga On The Beach
DESCRIPTION:Sunrise Yoga with Mel Gustray from Salted Soul Yoga 
URL:https://www.bradleybeachnj.gov/event/salted-soul-yoga-on-the-beach-3/
LOCATION:LaReine Ave Beach
CATEGORIES:Recreation Calendar
END:VEVENT
BEGIN:VEVENT
DTSTART;TZID=America/New_York:20240523T194500
DTEND;TZID=America/New_York:20240523T203000
DTSTAMP:20260423T111950
CREATED:20240515T153922Z
LAST-MODIFIED:20240515T153922Z
UID:10001682-1716493500-1716496200@www.bradleybeachnj.gov
SUMMARY:Salted Soul Yoga Workshop On The Beach
DESCRIPTION:Full Moon Meditation Circle and Sound Bath with Mel Gustray from Salted Soul Yoga 
URL:https://www.bradleybeachnj.gov/event/salted-soul-yoga-workshop-on-the-beach-2/
LOCATION:LaReine Ave Beach
CATEGORIES:Recreation Calendar
END:VEVENT
BEGIN:VEVENT
DTSTART;TZID=America/New_York:20240523T183000
DTEND;TZID=America/New_York:20240523T193000
DTSTAMP:20260423T111950
CREATED:20240515T153743Z
LAST-MODIFIED:20240515T153743Z
UID:10001681-1716489000-1716492600@www.bradleybeachnj.gov
SUMMARY:Salted Soul Yoga Workshop On The Beach
DESCRIPTION:Full Moon Yoga with Mel Gustray from Salted Soul Yoga 
URL:https://www.bradleybeachnj.gov/event/salted-soul-yoga-workshop-on-the-beach/
LOCATION:LaReine Ave Beach
CATEGORIES:Recreation Calendar
END:VEVENT
BEGIN:VEVENT
DTSTART;TZID=America/New_York:20240522T120000
DTEND;TZID=America/New_York:20240522T150000
DTSTAMP:20260423T111950
CREATED:20240126T140013Z
LAST-MODIFIED:20240126T140013Z
UID:10001595-1716379200-1716390000@www.bradleybeachnj.gov
SUMMARY:Senior Club Meeting
DESCRIPTION:
URL:https://www.bradleybeachnj.gov/event/senior-club-meeting-6/
CATEGORIES:Recreation Calendar
END:VEVENT
BEGIN:VEVENT
DTSTART;TZID=America/New_York:20240510T160000
DTEND;TZID=America/New_York:20240510T170000
DTSTAMP:20260423T111950
CREATED:20240417T174542Z
LAST-MODIFIED:20240417T174542Z
UID:10001481-1715356800-1715360400@www.bradleybeachnj.gov
SUMMARY:Mother's Day Build-A-Bouquet
DESCRIPTION:To register scan the QR code on the flyer or follow the link HERE . \n 
URL:https://www.bradleybeachnj.gov/event/mothers-day-build-a-bouquet/
LOCATION:Bradley Beach Rec Center\, 39 1/2 Main St\, Bradley Beach\, NJ\, 07720\, United States
CATEGORIES:Recreation Calendar
END:VEVENT
BEGIN:VEVENT
DTSTART;TZID=America/New_York:20240507T173000
DTEND;TZID=America/New_York:20240507T183000
DTSTAMP:20260423T111950
CREATED:20240415T141404Z
LAST-MODIFIED:20240415T141404Z
UID:10001670-1715103000-1715106600@www.bradleybeachnj.gov
SUMMARY:Beginners Pickle Ball Lessons
DESCRIPTION:
URL:https://www.bradleybeachnj.gov/event/beginners-pickle-ball-lessons-2/
LOCATION:Bradley Beach Rec Center\, 39 1/2 Main St\, Bradley Beach\, NJ\, 07720\, United States
CATEGORIES:Recreation Calendar
END:VEVENT
BEGIN:VEVENT
DTSTART;TZID=America/New_York:20240507T163000
DTEND;TZID=America/New_York:20240507T173000
DTSTAMP:20260423T111950
CREATED:20240415T141228Z
LAST-MODIFIED:20240415T141257Z
UID:10001669-1715099400-1715103000@www.bradleybeachnj.gov
SUMMARY:Beginners  Pickle Ball Lessons
DESCRIPTION:
URL:https://www.bradleybeachnj.gov/event/beginners-pickle-ball-lessons/
LOCATION:Bradley Beach Rec Center\, 39 1/2 Main St\, Bradley Beach\, NJ\, 07720\, United States
CATEGORIES:Recreation Calendar
END:VEVENT
BEGIN:VEVENT
DTSTART;TZID=America/New_York:20240424T120000
DTEND;TZID=America/New_York:20240424T150000
DTSTAMP:20260423T111950
CREATED:20240126T135912Z
LAST-MODIFIED:20240126T135912Z
UID:10001594-1713960000-1713970800@www.bradleybeachnj.gov
SUMMARY:Senior Club Meeting
DESCRIPTION:
URL:https://www.bradleybeachnj.gov/event/senior-club-meeting-5/
CATEGORIES:Recreation Calendar
END:VEVENT
BEGIN:VEVENT
DTSTART;TZID=America/New_York:20240419T110000
DTEND;TZID=America/New_York:20240419T133000
DTSTAMP:20260423T111950
CREATED:20240415T142037Z
LAST-MODIFIED:20240415T142037Z
UID:10001671-1713524400-1713533400@www.bradleybeachnj.gov
SUMMARY:Beginner Friendly Open Play Mah Jongg
DESCRIPTION:For anyone who is just learning and would like to play with other people of the same level. We have a couple Mah Jongg sets available at the rec but if you have your own feel free to bring it and a friend! You must also bring your own Mah Jongg card which can be purchased through –  \n\n\n\nhttps://www.nationalmahjonggleague.org\n\n 
URL:https://www.bradleybeachnj.gov/event/beginner-friendly-open-play-mah-jongg/
LOCATION:Bradley Beach Rec Center\, 39 1/2 Main St\, Bradley Beach\, NJ\, 07720\, United States
CATEGORIES:Recreation Calendar
END:VEVENT
BEGIN:VEVENT
DTSTART;TZID=America/New_York:20240409T093000
DTEND;TZID=America/New_York:20240409T223000
DTSTAMP:20260423T111950
CREATED:20240311T135945Z
LAST-MODIFIED:20240311T135945Z
UID:10001440-1712655000-1712701800@www.bradleybeachnj.gov
SUMMARY:Pickle Ball Lessons
DESCRIPTION:
URL:https://www.bradleybeachnj.gov/event/pickle-ball-lessons/
LOCATION:Bradley Beach Rec Center\, 39 1/2 Main St\, Bradley Beach\, NJ\, 07720\, United States
CATEGORIES:Recreation Calendar
END:VEVENT
BEGIN:VEVENT
DTSTART;TZID=America/New_York:20240407T110000
DTEND;TZID=America/New_York:20240407T150000
DTSTAMP:20260423T111950
CREATED:20240313T201722Z
LAST-MODIFIED:20240313T201722Z
UID:10001654-1712487600-1712502000@www.bradleybeachnj.gov
SUMMARY:K-8th Chess Tournaments
DESCRIPTION:
URL:https://www.bradleybeachnj.gov/event/k-8th-chess-tournaments/
LOCATION:Bradley Beach Rec Center\, 39 1/2 Main St\, Bradley Beach\, NJ\, 07720\, United States
CATEGORIES:Recreation Calendar
END:VEVENT
BEGIN:VEVENT
DTSTART;TZID=America/New_York:20240406T110000
DTEND;TZID=America/New_York:20240406T133000
DTSTAMP:20260423T111950
CREATED:20240313T201557Z
LAST-MODIFIED:20240313T201557Z
UID:10001444-1712401200-1712410200@www.bradleybeachnj.gov
SUMMARY:K-8th Chess Lessons
DESCRIPTION:
URL:https://www.bradleybeachnj.gov/event/k-8th-chess-lessons/
LOCATION:Bradley Beach Rec Center\, 39 1/2 Main St\, Bradley Beach\, NJ\, 07720\, United States
CATEGORIES:Recreation Calendar
END:VEVENT
BEGIN:VEVENT
DTSTART;TZID=America/New_York:20240402T100000
DTEND;TZID=America/New_York:20240402T140000
DTSTAMP:20260423T111950
CREATED:20240311T140113Z
LAST-MODIFIED:20240311T140113Z
UID:10001442-1712052000-1712066400@www.bradleybeachnj.gov
SUMMARY:Baseball/Softball Clinic
DESCRIPTION:
URL:https://www.bradleybeachnj.gov/event/baseball-softball-clinic/
LOCATION:Bradley Beach Rec Center\, 39 1/2 Main St\, Bradley Beach\, NJ\, 07720\, United States
CATEGORIES:Recreation Calendar
END:VEVENT
BEGIN:VEVENT
DTSTART;TZID=America/New_York:20240327T120000
DTEND;TZID=America/New_York:20240327T150000
DTSTAMP:20260423T111950
CREATED:20240126T135820Z
LAST-MODIFIED:20240126T135820Z
UID:10001593-1711540800-1711551600@www.bradleybeachnj.gov
SUMMARY:Senior Club Meeting
DESCRIPTION:
URL:https://www.bradleybeachnj.gov/event/senior-club-meeting-4/
CATEGORIES:Recreation Calendar
END:VEVENT
BEGIN:VEVENT
DTSTART;TZID=America/New_York:20240305T120000
DTEND;TZID=America/New_York:20240305T143000
DTSTAMP:20260423T111950
CREATED:20240315T200023Z
LAST-MODIFIED:20240315T200023Z
UID:10001655-1709640000-1709649000@www.bradleybeachnj.gov
SUMMARY:Mah Jongg Open Play
DESCRIPTION:
URL:https://www.bradleybeachnj.gov/event/mah-jongg-open-play-2/
LOCATION:Bradley Beach Rec Center\, 39 1/2 Main St\, Bradley Beach\, NJ\, 07720\, United States
CATEGORIES:Recreation Calendar
END:VEVENT
BEGIN:VEVENT
DTSTART;TZID=America/New_York:20240228T120000
DTEND;TZID=America/New_York:20240228T150000
DTSTAMP:20260423T111950
CREATED:20240126T135731Z
LAST-MODIFIED:20240126T135731Z
UID:10001592-1709121600-1709132400@www.bradleybeachnj.gov
SUMMARY:Senior Club Meeting
DESCRIPTION:
URL:https://www.bradleybeachnj.gov/event/senior-club-meeting-3/
CATEGORIES:Recreation Calendar
END:VEVENT
BEGIN:VEVENT
DTSTART;TZID=America/New_York:20240216T120000
DTEND;TZID=America/New_York:20240216T133000
DTSTAMP:20260423T111950
CREATED:20231219T190120Z
LAST-MODIFIED:20231219T190120Z
UID:10001556-1708084800-1708090200@www.bradleybeachnj.gov
SUMMARY:Mah Jongg Lessons
DESCRIPTION:
URL:https://www.bradleybeachnj.gov/event/mah-jongg-lessons-4/
LOCATION:Bradley Beach Rec Center\, 39 1/2 Main St\, Bradley Beach\, NJ\, 07720\, United States
CATEGORIES:Recreation Calendar
END:VEVENT
END:VCALENDAR