BEGIN:VCALENDAR
VERSION:2.0
PRODID:-//Bradley Beach - ECPv6.15.18//NONSGML v1.0//EN
CALSCALE:GREGORIAN
METHOD:PUBLISH
X-ORIGINAL-URL:https://www.bradleybeachnj.gov
X-WR-CALDESC:Events for Bradley Beach
REFRESH-INTERVAL;VALUE=DURATION:PT1H
X-Robots-Tag:noindex
X-PUBLISHED-TTL:PT1H
BEGIN:VTIMEZONE
TZID:America/New_York
BEGIN:DAYLIGHT
TZOFFSETFROM:-0500
TZOFFSETTO:-0400
TZNAME:EDT
DTSTART:20220313T070000
END:DAYLIGHT
BEGIN:STANDARD
TZOFFSETFROM:-0400
TZOFFSETTO:-0500
TZNAME:EST
DTSTART:20221106T060000
END:STANDARD
BEGIN:DAYLIGHT
TZOFFSETFROM:-0500
TZOFFSETTO:-0400
TZNAME:EDT
DTSTART:20230312T070000
END:DAYLIGHT
BEGIN:STANDARD
TZOFFSETFROM:-0400
TZOFFSETTO:-0500
TZNAME:EST
DTSTART:20231105T060000
END:STANDARD
BEGIN:DAYLIGHT
TZOFFSETFROM:-0500
TZOFFSETTO:-0400
TZNAME:EDT
DTSTART:20240310T070000
END:DAYLIGHT
BEGIN:STANDARD
TZOFFSETFROM:-0400
TZOFFSETTO:-0500
TZNAME:EST
DTSTART:20241103T060000
END:STANDARD
END:VTIMEZONE
BEGIN:VEVENT
DTSTART;TZID=America/New_York:20230228T100000
DTEND;TZID=America/New_York:20230228T110000
DTSTAMP:20260423T232921
CREATED:20230202T164153Z
LAST-MODIFIED:20230228T170940Z
UID:10001124-1677578400-1677582000@www.bradleybeachnj.gov
SUMMARY:Crosswords and Coffee
DESCRIPTION:
URL:https://www.bradleybeachnj.gov/event/crosswords-and-coffee-6/2023-02-28/
LOCATION:Bradley Beach Rec Center\, 39 1/2 Main St\, Bradley Beach\, NJ\, 07720\, United States
CATEGORIES:Recreation Calendar
END:VEVENT
BEGIN:VEVENT
DTSTART;TZID=America/New_York:20230225T100000
DTEND;TZID=America/New_York:20230225T110000
DTSTAMP:20260423T232921
CREATED:20230202T171150Z
LAST-MODIFIED:20230202T171150Z
UID:10001328-1677319200-1677322800@www.bradleybeachnj.gov
SUMMARY:Zumba
DESCRIPTION:
URL:https://www.bradleybeachnj.gov/event/zumba-4/
LOCATION:Bradley Beach Rec Center\, 39 1/2 Main St\, Bradley Beach\, NJ\, 07720\, United States
CATEGORIES:Recreation Calendar
END:VEVENT
BEGIN:VEVENT
DTSTART;TZID=America/New_York:20230221T100000
DTEND;TZID=America/New_York:20230221T110000
DTSTAMP:20260423T232921
CREATED:20230202T163946Z
LAST-MODIFIED:20230202T163946Z
UID:10001122-1676973600-1676977200@www.bradleybeachnj.gov
SUMMARY:Crosswords and Coffee
DESCRIPTION:
URL:https://www.bradleybeachnj.gov/event/crosswords-and-coffee-5/
LOCATION:Bradley Beach Rec Center\, 39 1/2 Main St\, Bradley Beach\, NJ\, 07720\, United States
CATEGORIES:Recreation Calendar
END:VEVENT
BEGIN:VEVENT
DTSTART;TZID=America/New_York:20230218T100000
DTEND;TZID=America/New_York:20230218T110000
DTSTAMP:20260423T232921
CREATED:20230202T171029Z
LAST-MODIFIED:20230202T171029Z
UID:10001327-1676714400-1676718000@www.bradleybeachnj.gov
SUMMARY:Zumba
DESCRIPTION:
URL:https://www.bradleybeachnj.gov/event/zumba-3/
LOCATION:Bradley Beach Rec Center\, 39 1/2 Main St\, Bradley Beach\, NJ\, 07720\, United States
CATEGORIES:Recreation Calendar
END:VEVENT
BEGIN:VEVENT
DTSTART;TZID=America/New_York:20230217T183000
DTEND;TZID=America/New_York:20230217T203000
DTSTAMP:20260423T232921
CREATED:20230202T164949Z
LAST-MODIFIED:20230202T164949Z
UID:10001137-1676658600-1676665800@www.bradleybeachnj.gov
SUMMARY:Tweenhearts Dance
DESCRIPTION:
URL:https://www.bradleybeachnj.gov/event/tweenhearts-dance/
LOCATION:Bradley Beach Rec Center\, 39 1/2 Main St\, Bradley Beach\, NJ\, 07720\, United States
CATEGORIES:Recreation Calendar
END:VEVENT
BEGIN:VEVENT
DTSTART;TZID=America/New_York:20230214T100000
DTEND;TZID=America/New_York:20230214T110000
DTSTAMP:20260423T232921
CREATED:20230202T163424Z
LAST-MODIFIED:20230202T163424Z
UID:10001121-1676368800-1676372400@www.bradleybeachnj.gov
SUMMARY:Crosswords and Coffee
DESCRIPTION:
URL:https://www.bradleybeachnj.gov/event/crosswords-and-coffee-4/
LOCATION:Bradley Beach Rec Center\, 39 1/2 Main St\, Bradley Beach\, NJ\, 07720\, United States
CATEGORIES:Recreation Calendar
END:VEVENT
BEGIN:VEVENT
DTSTART;TZID=America/New_York:20230212T130000
DTEND;TZID=America/New_York:20230212T170000
DTSTAMP:20260423T232921
CREATED:20230202T164650Z
LAST-MODIFIED:20230202T164650Z
UID:10001135-1676206800-1676221200@www.bradleybeachnj.gov
SUMMARY:Core Health: Heart Forgiveness
DESCRIPTION:
URL:https://www.bradleybeachnj.gov/event/core-health-heart-forgiveness/
LOCATION:Bradley Beach Rec Center\, 39 1/2 Main St\, Bradley Beach\, NJ\, 07720\, United States
CATEGORIES:Recreation Calendar
END:VEVENT
BEGIN:VEVENT
DTSTART;TZID=America/New_York:20230211T100000
DTEND;TZID=America/New_York:20230211T110000
DTSTAMP:20260423T232921
CREATED:20230202T170913Z
LAST-MODIFIED:20230202T170913Z
UID:10001326-1676109600-1676113200@www.bradleybeachnj.gov
SUMMARY:Zumba
DESCRIPTION:
URL:https://www.bradleybeachnj.gov/event/zumba-2/
LOCATION:Bradley Beach Rec Center\, 39 1/2 Main St\, Bradley Beach\, NJ\, 07720\, United States
CATEGORIES:Recreation Calendar
END:VEVENT
BEGIN:VEVENT
DTSTART;TZID=America/New_York:20230207T100000
DTEND;TZID=America/New_York:20230207T110000
DTSTAMP:20260423T232921
CREATED:20230202T163106Z
LAST-MODIFIED:20230202T163106Z
UID:10001120-1675764000-1675767600@www.bradleybeachnj.gov
SUMMARY:Crosswords and Coffee
DESCRIPTION:
URL:https://www.bradleybeachnj.gov/event/crosswords-and-coffee-3/
LOCATION:Bradley Beach Rec Center\, 39 1/2 Main St\, Bradley Beach\, NJ\, 07720\, United States
CATEGORIES:Recreation Calendar
END:VEVENT
BEGIN:VEVENT
DTSTART;TZID=America/New_York:20230204T100000
DTEND;TZID=America/New_York:20230204T110000
DTSTAMP:20260423T232921
CREATED:20230202T165637Z
LAST-MODIFIED:20230202T165637Z
UID:10001140-1675504800-1675508400@www.bradleybeachnj.gov
SUMMARY:Zumba
DESCRIPTION:
URL:https://www.bradleybeachnj.gov/event/zumba/
LOCATION:Bradley Beach Rec Center\, 39 1/2 Main St\, Bradley Beach\, NJ\, 07720\, United States
CATEGORIES:Recreation Calendar
END:VEVENT
BEGIN:VEVENT
DTSTART;TZID=America/New_York:20230131T100000
DTEND;TZID=America/New_York:20230131T110000
DTSTAMP:20260423T232921
CREATED:20230202T162630Z
LAST-MODIFIED:20230202T162837Z
UID:10001119-1675159200-1675162800@www.bradleybeachnj.gov
SUMMARY:Crosswords and Coffee
DESCRIPTION:
URL:https://www.bradleybeachnj.gov/event/crosswords-and-coffee-2/
LOCATION:Bradley Beach Rec Center\, 39 1/2 Main St\, Bradley Beach\, NJ\, 07720\, United States
CATEGORIES:Recreation Calendar
END:VEVENT
BEGIN:VEVENT
DTSTART;TZID=America/New_York:20230124T100000
DTEND;TZID=America/New_York:20230124T110000
DTSTAMP:20260423T232921
CREATED:20230202T161235Z
LAST-MODIFIED:20230202T172312Z
UID:10001118-1674554400-1674558000@www.bradleybeachnj.gov
SUMMARY:Crosswords and Coffee
DESCRIPTION:
URL:https://www.bradleybeachnj.gov/event/crosswords-and-coffee/2023-01-24/
LOCATION:Bradley Beach Rec Center\, 39 1/2 Main St\, Bradley Beach\, NJ\, 07720\, United States
END:VEVENT
END:VCALENDAR