BEGIN:VCALENDAR
VERSION:2.0
PRODID:-//Bradley Beach - ECPv6.15.18//NONSGML v1.0//EN
CALSCALE:GREGORIAN
METHOD:PUBLISH
X-WR-CALNAME:Bradley Beach
X-ORIGINAL-URL:https://www.bradleybeachnj.gov
X-WR-CALDESC:Events for Bradley Beach
REFRESH-INTERVAL;VALUE=DURATION:PT1H
X-Robots-Tag:noindex
X-PUBLISHED-TTL:PT1H
BEGIN:VTIMEZONE
TZID:America/New_York
BEGIN:DAYLIGHT
TZOFFSETFROM:-0500
TZOFFSETTO:-0400
TZNAME:EDT
DTSTART:20240310T070000
END:DAYLIGHT
BEGIN:STANDARD
TZOFFSETFROM:-0400
TZOFFSETTO:-0500
TZNAME:EST
DTSTART:20241103T060000
END:STANDARD
BEGIN:DAYLIGHT
TZOFFSETFROM:-0500
TZOFFSETTO:-0400
TZNAME:EDT
DTSTART:20250309T070000
END:DAYLIGHT
BEGIN:STANDARD
TZOFFSETFROM:-0400
TZOFFSETTO:-0500
TZNAME:EST
DTSTART:20251102T060000
END:STANDARD
BEGIN:DAYLIGHT
TZOFFSETFROM:-0500
TZOFFSETTO:-0400
TZNAME:EDT
DTSTART:20260308T070000
END:DAYLIGHT
BEGIN:STANDARD
TZOFFSETFROM:-0400
TZOFFSETTO:-0500
TZNAME:EST
DTSTART:20261101T060000
END:STANDARD
END:VTIMEZONE
BEGIN:VEVENT
DTSTART;TZID=America/New_York:20250912T130000
DTEND;TZID=America/New_York:20250912T150000
DTSTAMP:20260423T064436
CREATED:20250409T133333Z
LAST-MODIFIED:20250409T133333Z
UID:10001835-1757682000-1757689200@www.bradleybeachnj.gov
SUMMARY:Mah Jong Open Play
DESCRIPTION:
URL:https://www.bradleybeachnj.gov/event/mah-jong-open-play/2025-09-12/
LOCATION:Carmen Biase Center\, 719 Main St\, Bradley Beach\, NJ\, 07720\, United States
CATEGORIES:Recreation Calendar
END:VEVENT
BEGIN:VEVENT
DTSTART;TZID=America/New_York:20250905T130000
DTEND;TZID=America/New_York:20250905T150000
DTSTAMP:20260423T064436
CREATED:20250409T133333Z
LAST-MODIFIED:20250409T133333Z
UID:10001834-1757077200-1757084400@www.bradleybeachnj.gov
SUMMARY:Mah Jong Open Play
DESCRIPTION:
URL:https://www.bradleybeachnj.gov/event/mah-jong-open-play/2025-09-05/
LOCATION:Carmen Biase Center\, 719 Main St\, Bradley Beach\, NJ\, 07720\, United States
CATEGORIES:Recreation Calendar
END:VEVENT
BEGIN:VEVENT
DTSTART;TZID=America/New_York:20250829T130000
DTEND;TZID=America/New_York:20250829T150000
DTSTAMP:20260423T064436
CREATED:20250409T133333Z
LAST-MODIFIED:20250409T133333Z
UID:10001833-1756472400-1756479600@www.bradleybeachnj.gov
SUMMARY:Mah Jong Open Play
DESCRIPTION:
URL:https://www.bradleybeachnj.gov/event/mah-jong-open-play/2025-08-29/
LOCATION:Carmen Biase Center\, 719 Main St\, Bradley Beach\, NJ\, 07720\, United States
CATEGORIES:Recreation Calendar
END:VEVENT
BEGIN:VEVENT
DTSTART;TZID=America/New_York:20250822T130000
DTEND;TZID=America/New_York:20250822T150000
DTSTAMP:20260423T064436
CREATED:20250409T133333Z
LAST-MODIFIED:20250409T133333Z
UID:10001832-1755867600-1755874800@www.bradleybeachnj.gov
SUMMARY:Mah Jong Open Play
DESCRIPTION:
URL:https://www.bradleybeachnj.gov/event/mah-jong-open-play/2025-08-22/
LOCATION:Carmen Biase Center\, 719 Main St\, Bradley Beach\, NJ\, 07720\, United States
CATEGORIES:Recreation Calendar
END:VEVENT
BEGIN:VEVENT
DTSTART;TZID=America/New_York:20250815T130000
DTEND;TZID=America/New_York:20250815T150000
DTSTAMP:20260423T064436
CREATED:20250409T133333Z
LAST-MODIFIED:20250409T133333Z
UID:10001831-1755262800-1755270000@www.bradleybeachnj.gov
SUMMARY:Mah Jong Open Play
DESCRIPTION:
URL:https://www.bradleybeachnj.gov/event/mah-jong-open-play/2025-08-15/
LOCATION:Carmen Biase Center\, 719 Main St\, Bradley Beach\, NJ\, 07720\, United States
CATEGORIES:Recreation Calendar
END:VEVENT
BEGIN:VEVENT
DTSTART;TZID=America/New_York:20250808T130000
DTEND;TZID=America/New_York:20250808T150000
DTSTAMP:20260423T064436
CREATED:20250409T133333Z
LAST-MODIFIED:20250409T133333Z
UID:10001830-1754658000-1754665200@www.bradleybeachnj.gov
SUMMARY:Mah Jong Open Play
DESCRIPTION:
URL:https://www.bradleybeachnj.gov/event/mah-jong-open-play/2025-08-08/
LOCATION:Carmen Biase Center\, 719 Main St\, Bradley Beach\, NJ\, 07720\, United States
CATEGORIES:Recreation Calendar
END:VEVENT
BEGIN:VEVENT
DTSTART;TZID=America/New_York:20250801T130000
DTEND;TZID=America/New_York:20250801T150000
DTSTAMP:20260423T064436
CREATED:20250409T133333Z
LAST-MODIFIED:20250409T133333Z
UID:10001829-1754053200-1754060400@www.bradleybeachnj.gov
SUMMARY:Mah Jong Open Play
DESCRIPTION:
URL:https://www.bradleybeachnj.gov/event/mah-jong-open-play/2025-08-01/
LOCATION:Carmen Biase Center\, 719 Main St\, Bradley Beach\, NJ\, 07720\, United States
CATEGORIES:Recreation Calendar
END:VEVENT
BEGIN:VEVENT
DTSTART;TZID=America/New_York:20250725T130000
DTEND;TZID=America/New_York:20250725T150000
DTSTAMP:20260423T064436
CREATED:20250409T133333Z
LAST-MODIFIED:20250409T133333Z
UID:10001828-1753448400-1753455600@www.bradleybeachnj.gov
SUMMARY:Mah Jong Open Play
DESCRIPTION:
URL:https://www.bradleybeachnj.gov/event/mah-jong-open-play/2025-07-25/
LOCATION:Carmen Biase Center\, 719 Main St\, Bradley Beach\, NJ\, 07720\, United States
CATEGORIES:Recreation Calendar
END:VEVENT
BEGIN:VEVENT
DTSTART;TZID=America/New_York:20250718T130000
DTEND;TZID=America/New_York:20250718T150000
DTSTAMP:20260423T064436
CREATED:20250409T133333Z
LAST-MODIFIED:20250409T133333Z
UID:10001827-1752843600-1752850800@www.bradleybeachnj.gov
SUMMARY:Mah Jong Open Play
DESCRIPTION:
URL:https://www.bradleybeachnj.gov/event/mah-jong-open-play/2025-07-18/
LOCATION:Carmen Biase Center\, 719 Main St\, Bradley Beach\, NJ\, 07720\, United States
CATEGORIES:Recreation Calendar
END:VEVENT
BEGIN:VEVENT
DTSTART;TZID=America/New_York:20250711T130000
DTEND;TZID=America/New_York:20250711T150000
DTSTAMP:20260423T064436
CREATED:20250409T133333Z
LAST-MODIFIED:20250409T133333Z
UID:10001826-1752238800-1752246000@www.bradleybeachnj.gov
SUMMARY:Mah Jong Open Play
DESCRIPTION:
URL:https://www.bradleybeachnj.gov/event/mah-jong-open-play/2025-07-11/
LOCATION:Carmen Biase Center\, 719 Main St\, Bradley Beach\, NJ\, 07720\, United States
CATEGORIES:Recreation Calendar
END:VEVENT
BEGIN:VEVENT
DTSTART;TZID=America/New_York:20250704T130000
DTEND;TZID=America/New_York:20250704T150000
DTSTAMP:20260423T064436
CREATED:20250409T133333Z
LAST-MODIFIED:20250409T133333Z
UID:10001825-1751634000-1751641200@www.bradleybeachnj.gov
SUMMARY:Mah Jong Open Play
DESCRIPTION:
URL:https://www.bradleybeachnj.gov/event/mah-jong-open-play/2025-07-04/
LOCATION:Carmen Biase Center\, 719 Main St\, Bradley Beach\, NJ\, 07720\, United States
CATEGORIES:Recreation Calendar
END:VEVENT
BEGIN:VEVENT
DTSTART;TZID=America/New_York:20250627T130000
DTEND;TZID=America/New_York:20250627T150000
DTSTAMP:20260423T064436
CREATED:20250409T133333Z
LAST-MODIFIED:20250409T133333Z
UID:10001824-1751029200-1751036400@www.bradleybeachnj.gov
SUMMARY:Mah Jong Open Play
DESCRIPTION:
URL:https://www.bradleybeachnj.gov/event/mah-jong-open-play/2025-06-27/
LOCATION:Carmen Biase Center\, 719 Main St\, Bradley Beach\, NJ\, 07720\, United States
CATEGORIES:Recreation Calendar
END:VEVENT
BEGIN:VEVENT
DTSTART;TZID=America/New_York:20250625T120000
DTEND;TZID=America/New_York:20250625T150000
DTSTAMP:20260423T064436
CREATED:20250409T133626Z
LAST-MODIFIED:20250409T133626Z
UID:10001852-1750852800-1750863600@www.bradleybeachnj.gov
SUMMARY:Senior Club Meeting
DESCRIPTION:
URL:https://www.bradleybeachnj.gov/event/senior-club-meeting-12/
LOCATION:Carmen Biase Center\, 719 Main St\, Bradley Beach\, NJ\, 07720\, United States
CATEGORIES:Recreation Calendar
END:VEVENT
BEGIN:VEVENT
DTSTART;TZID=America/New_York:20250620T130000
DTEND;TZID=America/New_York:20250620T150000
DTSTAMP:20260423T064436
CREATED:20250409T133333Z
LAST-MODIFIED:20250409T133333Z
UID:10001823-1750424400-1750431600@www.bradleybeachnj.gov
SUMMARY:Mah Jong Open Play
DESCRIPTION:
URL:https://www.bradleybeachnj.gov/event/mah-jong-open-play/2025-06-20/
LOCATION:Carmen Biase Center\, 719 Main St\, Bradley Beach\, NJ\, 07720\, United States
CATEGORIES:Recreation Calendar
END:VEVENT
BEGIN:VEVENT
DTSTART;TZID=America/New_York:20250613T130000
DTEND;TZID=America/New_York:20250613T150000
DTSTAMP:20260423T064436
CREATED:20250409T133333Z
LAST-MODIFIED:20250409T133333Z
UID:10001822-1749819600-1749826800@www.bradleybeachnj.gov
SUMMARY:Mah Jong Open Play
DESCRIPTION:
URL:https://www.bradleybeachnj.gov/event/mah-jong-open-play/2025-06-13/
LOCATION:Carmen Biase Center\, 719 Main St\, Bradley Beach\, NJ\, 07720\, United States
CATEGORIES:Recreation Calendar
END:VEVENT
BEGIN:VEVENT
DTSTART;TZID=America/New_York:20250606T130000
DTEND;TZID=America/New_York:20250606T150000
DTSTAMP:20260423T064436
CREATED:20250409T133333Z
LAST-MODIFIED:20250409T133333Z
UID:10001821-1749214800-1749222000@www.bradleybeachnj.gov
SUMMARY:Mah Jong Open Play
DESCRIPTION:
URL:https://www.bradleybeachnj.gov/event/mah-jong-open-play/2025-06-06/
LOCATION:Carmen Biase Center\, 719 Main St\, Bradley Beach\, NJ\, 07720\, United States
CATEGORIES:Recreation Calendar
END:VEVENT
BEGIN:VEVENT
DTSTART;TZID=America/New_York:20250530T130000
DTEND;TZID=America/New_York:20250530T150000
DTSTAMP:20260423T064436
CREATED:20250409T133333Z
LAST-MODIFIED:20250409T133333Z
UID:10001820-1748610000-1748617200@www.bradleybeachnj.gov
SUMMARY:Mah Jong Open Play
DESCRIPTION:
URL:https://www.bradleybeachnj.gov/event/mah-jong-open-play/2025-05-30/
LOCATION:Carmen Biase Center\, 719 Main St\, Bradley Beach\, NJ\, 07720\, United States
CATEGORIES:Recreation Calendar
END:VEVENT
BEGIN:VEVENT
DTSTART;TZID=America/New_York:20250523T130000
DTEND;TZID=America/New_York:20250523T150000
DTSTAMP:20260423T064436
CREATED:20250409T133333Z
LAST-MODIFIED:20250409T133333Z
UID:10001819-1748005200-1748012400@www.bradleybeachnj.gov
SUMMARY:Mah Jong Open Play
DESCRIPTION:
URL:https://www.bradleybeachnj.gov/event/mah-jong-open-play/2025-05-23/
LOCATION:Carmen Biase Center\, 719 Main St\, Bradley Beach\, NJ\, 07720\, United States
CATEGORIES:Recreation Calendar
END:VEVENT
BEGIN:VEVENT
DTSTART;TZID=America/New_York:20250521T120000
DTEND;TZID=America/New_York:20250521T150000
DTSTAMP:20260423T064436
CREATED:20250409T133532Z
LAST-MODIFIED:20250409T133532Z
UID:10001851-1747828800-1747839600@www.bradleybeachnj.gov
SUMMARY:Senior Club Meeting
DESCRIPTION:
URL:https://www.bradleybeachnj.gov/event/senior-club-meeting-11/
LOCATION:Carmen Biase Center\, 719 Main St\, Bradley Beach\, NJ\, 07720\, United States
CATEGORIES:Recreation Calendar
END:VEVENT
BEGIN:VEVENT
DTSTART;TZID=America/New_York:20250516T130000
DTEND;TZID=America/New_York:20250516T150000
DTSTAMP:20260423T064436
CREATED:20250409T133333Z
LAST-MODIFIED:20250409T133333Z
UID:10001818-1747400400-1747407600@www.bradleybeachnj.gov
SUMMARY:Mah Jong Open Play
DESCRIPTION:
URL:https://www.bradleybeachnj.gov/event/mah-jong-open-play/2025-05-16/
LOCATION:Carmen Biase Center\, 719 Main St\, Bradley Beach\, NJ\, 07720\, United States
CATEGORIES:Recreation Calendar
END:VEVENT
BEGIN:VEVENT
DTSTART;TZID=America/New_York:20250509T130000
DTEND;TZID=America/New_York:20250509T150000
DTSTAMP:20260423T064436
CREATED:20250409T133333Z
LAST-MODIFIED:20250409T133333Z
UID:10001817-1746795600-1746802800@www.bradleybeachnj.gov
SUMMARY:Mah Jong Open Play
DESCRIPTION:
URL:https://www.bradleybeachnj.gov/event/mah-jong-open-play/2025-05-09/
LOCATION:Carmen Biase Center\, 719 Main St\, Bradley Beach\, NJ\, 07720\, United States
CATEGORIES:Recreation Calendar
END:VEVENT
BEGIN:VEVENT
DTSTART;TZID=America/New_York:20250502T130000
DTEND;TZID=America/New_York:20250502T150000
DTSTAMP:20260423T064436
CREATED:20250409T133333Z
LAST-MODIFIED:20250409T133333Z
UID:10001816-1746190800-1746198000@www.bradleybeachnj.gov
SUMMARY:Mah Jong Open Play
DESCRIPTION:
URL:https://www.bradleybeachnj.gov/event/mah-jong-open-play/2025-05-02/
LOCATION:Carmen Biase Center\, 719 Main St\, Bradley Beach\, NJ\, 07720\, United States
CATEGORIES:Recreation Calendar
END:VEVENT
BEGIN:VEVENT
DTSTART;TZID=America/New_York:20250425T130000
DTEND;TZID=America/New_York:20250425T150000
DTSTAMP:20260423T064436
CREATED:20250409T133333Z
LAST-MODIFIED:20250409T133333Z
UID:10001815-1745586000-1745593200@www.bradleybeachnj.gov
SUMMARY:Mah Jong Open Play
DESCRIPTION:
URL:https://www.bradleybeachnj.gov/event/mah-jong-open-play/2025-04-25/
LOCATION:Carmen Biase Center\, 719 Main St\, Bradley Beach\, NJ\, 07720\, United States
CATEGORIES:Recreation Calendar
END:VEVENT
BEGIN:VEVENT
DTSTART;TZID=America/New_York:20250423T120000
DTEND;TZID=America/New_York:20250423T150000
DTSTAMP:20260423T064436
CREATED:20250409T133438Z
LAST-MODIFIED:20250409T133438Z
UID:10001850-1745409600-1745420400@www.bradleybeachnj.gov
SUMMARY:Senior Club Meeting
DESCRIPTION:
URL:https://www.bradleybeachnj.gov/event/senior-club-meeting-10/
LOCATION:Carmen Biase Center\, 719 Main St\, Bradley Beach\, NJ\, 07720\, United States
CATEGORIES:Recreation Calendar
END:VEVENT
BEGIN:VEVENT
DTSTART;TZID=America/New_York:20250418T130000
DTEND;TZID=America/New_York:20250418T150000
DTSTAMP:20260423T064436
CREATED:20250409T133333Z
LAST-MODIFIED:20250409T133333Z
UID:10001814-1744981200-1744988400@www.bradleybeachnj.gov
SUMMARY:Mah Jong Open Play
DESCRIPTION:
URL:https://www.bradleybeachnj.gov/event/mah-jong-open-play/2025-04-18/
LOCATION:Carmen Biase Center\, 719 Main St\, Bradley Beach\, NJ\, 07720\, United States
CATEGORIES:Recreation Calendar
END:VEVENT
BEGIN:VEVENT
DTSTART;TZID=America/New_York:20250411T130000
DTEND;TZID=America/New_York:20250411T150000
DTSTAMP:20260423T064436
CREATED:20250409T133333Z
LAST-MODIFIED:20250409T133333Z
UID:10001813-1744376400-1744383600@www.bradleybeachnj.gov
SUMMARY:Mah Jong Open Play
DESCRIPTION:
URL:https://www.bradleybeachnj.gov/event/mah-jong-open-play/2025-04-11/
LOCATION:Carmen Biase Center\, 719 Main St\, Bradley Beach\, NJ\, 07720\, United States
CATEGORIES:Recreation Calendar
END:VEVENT
END:VCALENDAR