BEGIN:VCALENDAR
VERSION:2.0
PRODID:-//Bradley Beach - ECPv6.15.18//NONSGML v1.0//EN
CALSCALE:GREGORIAN
METHOD:PUBLISH
X-WR-CALNAME:Bradley Beach
X-ORIGINAL-URL:https://www.bradleybeachnj.gov
X-WR-CALDESC:Events for Bradley Beach
REFRESH-INTERVAL;VALUE=DURATION:PT1H
X-Robots-Tag:noindex
X-PUBLISHED-TTL:PT1H
BEGIN:VTIMEZONE
TZID:America/New_York
BEGIN:DAYLIGHT
TZOFFSETFROM:-0500
TZOFFSETTO:-0400
TZNAME:EDT
DTSTART:20220313T070000
END:DAYLIGHT
BEGIN:STANDARD
TZOFFSETFROM:-0400
TZOFFSETTO:-0500
TZNAME:EST
DTSTART:20221106T060000
END:STANDARD
BEGIN:DAYLIGHT
TZOFFSETFROM:-0500
TZOFFSETTO:-0400
TZNAME:EDT
DTSTART:20230312T070000
END:DAYLIGHT
BEGIN:STANDARD
TZOFFSETFROM:-0400
TZOFFSETTO:-0500
TZNAME:EST
DTSTART:20231105T060000
END:STANDARD
BEGIN:DAYLIGHT
TZOFFSETFROM:-0500
TZOFFSETTO:-0400
TZNAME:EDT
DTSTART:20240310T070000
END:DAYLIGHT
BEGIN:STANDARD
TZOFFSETFROM:-0400
TZOFFSETTO:-0500
TZNAME:EST
DTSTART:20241103T060000
END:STANDARD
END:VTIMEZONE
BEGIN:VEVENT
DTSTART;TZID=America/New_York:20230803T190000
DTEND;TZID=America/New_York:20230803T200000
DTSTAMP:20260423T234729
CREATED:20230531T154533Z
LAST-MODIFIED:20230531T154602Z
UID:10001169-1691089200-1691092800@www.bradleybeachnj.gov
SUMMARY:Sunset Yoga w/ Salted Soul
DESCRIPTION:
URL:https://www.bradleybeachnj.gov/event/sunset-yoga-w-salted-soul/2023-08-03/
LOCATION:LaReine Ave Beach
CATEGORIES:Recreation Calendar
END:VEVENT
BEGIN:VEVENT
DTSTART;TZID=America/New_York:20230731T190000
DTEND;TZID=America/New_York:20230731T194500
DTSTAMP:20260423T234729
CREATED:20230531T170349Z
LAST-MODIFIED:20230531T170349Z
UID:10001262-1690830000-1690832700@www.bradleybeachnj.gov
SUMMARY:Yin w/Salted Soul
DESCRIPTION:
URL:https://www.bradleybeachnj.gov/event/yin-w-salted-soul/2023-07-31/
LOCATION:LaReine Ave Beach
CATEGORIES:Recreation Calendar
END:VEVENT
BEGIN:VEVENT
DTSTART;TZID=America/New_York:20230731T080000
DTEND;TZID=America/New_York:20230731T083000
DTSTAMP:20260423T234729
CREATED:20230531T170147Z
LAST-MODIFIED:20230531T170147Z
UID:10001246-1690790400-1690792200@www.bradleybeachnj.gov
SUMMARY:Morning Meditation w/ Salted Soul
DESCRIPTION:
URL:https://www.bradleybeachnj.gov/event/morning-meditation-w-salted-soul/2023-07-31/
LOCATION:LaReine Ave Beach
CATEGORIES:Recreation Calendar
END:VEVENT
BEGIN:VEVENT
DTSTART;TZID=America/New_York:20230731T070000
DTEND;TZID=America/New_York:20230731T080000
DTSTAMP:20260423T234729
CREATED:20230531T170024Z
LAST-MODIFIED:20230531T170024Z
UID:10001228-1690786800-1690790400@www.bradleybeachnj.gov
SUMMARY:Sunrise Yoga w/ Salted Soul
DESCRIPTION:
URL:https://www.bradleybeachnj.gov/event/sunrise-yoga-w-salted-soul-3/2023-07-31/
LOCATION:LaReine Ave Beach
CATEGORIES:Recreation Calendar
END:VEVENT
BEGIN:VEVENT
DTSTART;TZID=America/New_York:20230729T080000
DTEND;TZID=America/New_York:20230729T090000
DTSTAMP:20260423T234729
CREATED:20230531T154824Z
LAST-MODIFIED:20230531T154946Z
UID:10001193-1690617600-1690621200@www.bradleybeachnj.gov
SUMMARY:Sunrise Yoga w/ Salted Soul
DESCRIPTION:
URL:https://www.bradleybeachnj.gov/event/sunrise-yoga-w-salted-soul/2023-07-29/
LOCATION:LaReine Ave Beach
CATEGORIES:Recreation Calendar
END:VEVENT
BEGIN:VEVENT
DTSTART;TZID=America/New_York:20230728T080000
DTEND;TZID=America/New_York:20230728T090000
DTSTAMP:20260423T234729
CREATED:20230531T165715Z
LAST-MODIFIED:20230531T165715Z
UID:10001217-1690531200-1690534800@www.bradleybeachnj.gov
SUMMARY:Sunrise Yoga w/ Salted Soul
DESCRIPTION:
URL:https://www.bradleybeachnj.gov/event/sunrise-yoga-w-salted-soul-2/2023-07-28/
LOCATION:LaReine Ave Beach
CATEGORIES:Recreation Calendar
END:VEVENT
BEGIN:VEVENT
DTSTART;TZID=America/New_York:20230727T190000
DTEND;TZID=America/New_York:20230727T200000
DTSTAMP:20260423T234729
CREATED:20230531T154533Z
LAST-MODIFIED:20230531T154602Z
UID:10001168-1690484400-1690488000@www.bradleybeachnj.gov
SUMMARY:Sunset Yoga w/ Salted Soul
DESCRIPTION:
URL:https://www.bradleybeachnj.gov/event/sunset-yoga-w-salted-soul/2023-07-27/
LOCATION:LaReine Ave Beach
CATEGORIES:Recreation Calendar
END:VEVENT
BEGIN:VEVENT
DTSTART;TZID=America/New_York:20230724T190000
DTEND;TZID=America/New_York:20230724T194500
DTSTAMP:20260423T234729
CREATED:20230531T170349Z
LAST-MODIFIED:20230531T170349Z
UID:10001261-1690225200-1690227900@www.bradleybeachnj.gov
SUMMARY:Yin w/Salted Soul
DESCRIPTION:
URL:https://www.bradleybeachnj.gov/event/yin-w-salted-soul/2023-07-24/
LOCATION:LaReine Ave Beach
CATEGORIES:Recreation Calendar
END:VEVENT
BEGIN:VEVENT
DTSTART;TZID=America/New_York:20230724T080000
DTEND;TZID=America/New_York:20230724T083000
DTSTAMP:20260423T234729
CREATED:20230531T170147Z
LAST-MODIFIED:20230531T170147Z
UID:10001245-1690185600-1690187400@www.bradleybeachnj.gov
SUMMARY:Morning Meditation w/ Salted Soul
DESCRIPTION:
URL:https://www.bradleybeachnj.gov/event/morning-meditation-w-salted-soul/2023-07-24/
LOCATION:LaReine Ave Beach
CATEGORIES:Recreation Calendar
END:VEVENT
BEGIN:VEVENT
DTSTART;TZID=America/New_York:20230724T070000
DTEND;TZID=America/New_York:20230724T080000
DTSTAMP:20260423T234729
CREATED:20230531T170024Z
LAST-MODIFIED:20230531T170024Z
UID:10001227-1690182000-1690185600@www.bradleybeachnj.gov
SUMMARY:Sunrise Yoga w/ Salted Soul
DESCRIPTION:
URL:https://www.bradleybeachnj.gov/event/sunrise-yoga-w-salted-soul-3/2023-07-24/
LOCATION:LaReine Ave Beach
CATEGORIES:Recreation Calendar
END:VEVENT
BEGIN:VEVENT
DTSTART;TZID=America/New_York:20230722T080000
DTEND;TZID=America/New_York:20230722T090000
DTSTAMP:20260423T234729
CREATED:20230531T154824Z
LAST-MODIFIED:20230531T154946Z
UID:10001192-1690012800-1690016400@www.bradleybeachnj.gov
SUMMARY:Sunrise Yoga w/ Salted Soul
DESCRIPTION:
URL:https://www.bradleybeachnj.gov/event/sunrise-yoga-w-salted-soul/2023-07-22/
LOCATION:LaReine Ave Beach
CATEGORIES:Recreation Calendar
END:VEVENT
BEGIN:VEVENT
DTSTART;TZID=America/New_York:20230721T080000
DTEND;TZID=America/New_York:20230721T090000
DTSTAMP:20260423T234729
CREATED:20230531T165715Z
LAST-MODIFIED:20230531T165715Z
UID:10001216-1689926400-1689930000@www.bradleybeachnj.gov
SUMMARY:Sunrise Yoga w/ Salted Soul
DESCRIPTION:
URL:https://www.bradleybeachnj.gov/event/sunrise-yoga-w-salted-soul-2/2023-07-21/
LOCATION:LaReine Ave Beach
CATEGORIES:Recreation Calendar
END:VEVENT
BEGIN:VEVENT
DTSTART;TZID=America/New_York:20230720T190000
DTEND;TZID=America/New_York:20230720T200000
DTSTAMP:20260423T234729
CREATED:20230531T154533Z
LAST-MODIFIED:20230531T154602Z
UID:10001167-1689879600-1689883200@www.bradleybeachnj.gov
SUMMARY:Sunset Yoga w/ Salted Soul
DESCRIPTION:
URL:https://www.bradleybeachnj.gov/event/sunset-yoga-w-salted-soul/2023-07-20/
LOCATION:LaReine Ave Beach
CATEGORIES:Recreation Calendar
END:VEVENT
BEGIN:VEVENT
DTSTART;TZID=America/New_York:20230717T190000
DTEND;TZID=America/New_York:20230717T194500
DTSTAMP:20260423T234729
CREATED:20230531T170349Z
LAST-MODIFIED:20230531T170349Z
UID:10001260-1689620400-1689623100@www.bradleybeachnj.gov
SUMMARY:Yin w/Salted Soul
DESCRIPTION:
URL:https://www.bradleybeachnj.gov/event/yin-w-salted-soul/2023-07-17/
LOCATION:LaReine Ave Beach
CATEGORIES:Recreation Calendar
END:VEVENT
BEGIN:VEVENT
DTSTART;TZID=America/New_York:20230717T080000
DTEND;TZID=America/New_York:20230717T083000
DTSTAMP:20260423T234729
CREATED:20230531T170147Z
LAST-MODIFIED:20230531T170147Z
UID:10001244-1689580800-1689582600@www.bradleybeachnj.gov
SUMMARY:Morning Meditation w/ Salted Soul
DESCRIPTION:
URL:https://www.bradleybeachnj.gov/event/morning-meditation-w-salted-soul/2023-07-17/
LOCATION:LaReine Ave Beach
CATEGORIES:Recreation Calendar
END:VEVENT
BEGIN:VEVENT
DTSTART;TZID=America/New_York:20230717T070000
DTEND;TZID=America/New_York:20230717T080000
DTSTAMP:20260423T234729
CREATED:20230531T170024Z
LAST-MODIFIED:20230531T170024Z
UID:10001226-1689577200-1689580800@www.bradleybeachnj.gov
SUMMARY:Sunrise Yoga w/ Salted Soul
DESCRIPTION:
URL:https://www.bradleybeachnj.gov/event/sunrise-yoga-w-salted-soul-3/2023-07-17/
LOCATION:LaReine Ave Beach
CATEGORIES:Recreation Calendar
END:VEVENT
BEGIN:VEVENT
DTSTART;TZID=America/New_York:20230715T080000
DTEND;TZID=America/New_York:20230715T090000
DTSTAMP:20260423T234729
CREATED:20230531T154824Z
LAST-MODIFIED:20230531T154946Z
UID:10001191-1689408000-1689411600@www.bradleybeachnj.gov
SUMMARY:Sunrise Yoga w/ Salted Soul
DESCRIPTION:
URL:https://www.bradleybeachnj.gov/event/sunrise-yoga-w-salted-soul/2023-07-15/
LOCATION:LaReine Ave Beach
CATEGORIES:Recreation Calendar
END:VEVENT
BEGIN:VEVENT
DTSTART;TZID=America/New_York:20230714T080000
DTEND;TZID=America/New_York:20230714T090000
DTSTAMP:20260423T234729
CREATED:20230531T165715Z
LAST-MODIFIED:20230531T165715Z
UID:10001215-1689321600-1689325200@www.bradleybeachnj.gov
SUMMARY:Sunrise Yoga w/ Salted Soul
DESCRIPTION:
URL:https://www.bradleybeachnj.gov/event/sunrise-yoga-w-salted-soul-2/2023-07-14/
LOCATION:LaReine Ave Beach
CATEGORIES:Recreation Calendar
END:VEVENT
BEGIN:VEVENT
DTSTART;TZID=America/New_York:20230713T190000
DTEND;TZID=America/New_York:20230713T200000
DTSTAMP:20260423T234729
CREATED:20230531T154533Z
LAST-MODIFIED:20230531T154602Z
UID:10001166-1689274800-1689278400@www.bradleybeachnj.gov
SUMMARY:Sunset Yoga w/ Salted Soul
DESCRIPTION:
URL:https://www.bradleybeachnj.gov/event/sunset-yoga-w-salted-soul/2023-07-13/
LOCATION:LaReine Ave Beach
CATEGORIES:Recreation Calendar
END:VEVENT
BEGIN:VEVENT
DTSTART;TZID=America/New_York:20230710T190000
DTEND;TZID=America/New_York:20230710T194500
DTSTAMP:20260423T234729
CREATED:20230531T170349Z
LAST-MODIFIED:20230531T170349Z
UID:10001259-1689015600-1689018300@www.bradleybeachnj.gov
SUMMARY:Yin w/Salted Soul
DESCRIPTION:
URL:https://www.bradleybeachnj.gov/event/yin-w-salted-soul/2023-07-10/
LOCATION:LaReine Ave Beach
CATEGORIES:Recreation Calendar
END:VEVENT
BEGIN:VEVENT
DTSTART;TZID=America/New_York:20230710T080000
DTEND;TZID=America/New_York:20230710T083000
DTSTAMP:20260423T234729
CREATED:20230531T170147Z
LAST-MODIFIED:20230531T170147Z
UID:10001243-1688976000-1688977800@www.bradleybeachnj.gov
SUMMARY:Morning Meditation w/ Salted Soul
DESCRIPTION:
URL:https://www.bradleybeachnj.gov/event/morning-meditation-w-salted-soul/2023-07-10/
LOCATION:LaReine Ave Beach
CATEGORIES:Recreation Calendar
END:VEVENT
BEGIN:VEVENT
DTSTART;TZID=America/New_York:20230710T070000
DTEND;TZID=America/New_York:20230710T080000
DTSTAMP:20260423T234729
CREATED:20230531T170024Z
LAST-MODIFIED:20230531T170024Z
UID:10001225-1688972400-1688976000@www.bradleybeachnj.gov
SUMMARY:Sunrise Yoga w/ Salted Soul
DESCRIPTION:
URL:https://www.bradleybeachnj.gov/event/sunrise-yoga-w-salted-soul-3/2023-07-10/
LOCATION:LaReine Ave Beach
CATEGORIES:Recreation Calendar
END:VEVENT
BEGIN:VEVENT
DTSTART;TZID=America/New_York:20230708T080000
DTEND;TZID=America/New_York:20230708T090000
DTSTAMP:20260423T234729
CREATED:20230531T154824Z
LAST-MODIFIED:20230531T154946Z
UID:10001190-1688803200-1688806800@www.bradleybeachnj.gov
SUMMARY:Sunrise Yoga w/ Salted Soul
DESCRIPTION:
URL:https://www.bradleybeachnj.gov/event/sunrise-yoga-w-salted-soul/2023-07-08/
LOCATION:LaReine Ave Beach
CATEGORIES:Recreation Calendar
END:VEVENT
BEGIN:VEVENT
DTSTART;TZID=America/New_York:20230707T080000
DTEND;TZID=America/New_York:20230707T090000
DTSTAMP:20260423T234729
CREATED:20230531T165715Z
LAST-MODIFIED:20230531T165715Z
UID:10001214-1688716800-1688720400@www.bradleybeachnj.gov
SUMMARY:Sunrise Yoga w/ Salted Soul
DESCRIPTION:
URL:https://www.bradleybeachnj.gov/event/sunrise-yoga-w-salted-soul-2/2023-07-07/
LOCATION:LaReine Ave Beach
CATEGORIES:Recreation Calendar
END:VEVENT
BEGIN:VEVENT
DTSTART;TZID=America/New_York:20230706T190000
DTEND;TZID=America/New_York:20230706T200000
DTSTAMP:20260423T234729
CREATED:20230531T154533Z
LAST-MODIFIED:20230531T154602Z
UID:10001165-1688670000-1688673600@www.bradleybeachnj.gov
SUMMARY:Sunset Yoga w/ Salted Soul
DESCRIPTION:
URL:https://www.bradleybeachnj.gov/event/sunset-yoga-w-salted-soul/2023-07-06/
LOCATION:LaReine Ave Beach
CATEGORIES:Recreation Calendar
END:VEVENT
BEGIN:VEVENT
DTSTART;TZID=America/New_York:20230703T080000
DTEND;TZID=America/New_York:20230703T083000
DTSTAMP:20260423T234729
CREATED:20230531T170147Z
LAST-MODIFIED:20230531T170147Z
UID:10001242-1688371200-1688373000@www.bradleybeachnj.gov
SUMMARY:Morning Meditation w/ Salted Soul
DESCRIPTION:
URL:https://www.bradleybeachnj.gov/event/morning-meditation-w-salted-soul/2023-07-03/
LOCATION:LaReine Ave Beach
CATEGORIES:Recreation Calendar
END:VEVENT
BEGIN:VEVENT
DTSTART;TZID=America/New_York:20230703T070000
DTEND;TZID=America/New_York:20230703T080000
DTSTAMP:20260423T234729
CREATED:20230531T170024Z
LAST-MODIFIED:20230531T170024Z
UID:10001224-1688367600-1688371200@www.bradleybeachnj.gov
SUMMARY:Sunrise Yoga w/ Salted Soul
DESCRIPTION:
URL:https://www.bradleybeachnj.gov/event/sunrise-yoga-w-salted-soul-3/2023-07-03/
LOCATION:LaReine Ave Beach
CATEGORIES:Recreation Calendar
END:VEVENT
BEGIN:VEVENT
DTSTART;TZID=America/New_York:20230701T080000
DTEND;TZID=America/New_York:20230701T090000
DTSTAMP:20260423T234729
CREATED:20230531T154824Z
LAST-MODIFIED:20230531T154946Z
UID:10001189-1688198400-1688202000@www.bradleybeachnj.gov
SUMMARY:Sunrise Yoga w/ Salted Soul
DESCRIPTION:
URL:https://www.bradleybeachnj.gov/event/sunrise-yoga-w-salted-soul/2023-07-01/
LOCATION:LaReine Ave Beach
CATEGORIES:Recreation Calendar
END:VEVENT
BEGIN:VEVENT
DTSTART;TZID=America/New_York:20230629T190000
DTEND;TZID=America/New_York:20230629T200000
DTSTAMP:20260423T234729
CREATED:20230531T154533Z
LAST-MODIFIED:20230531T154602Z
UID:10001164-1688065200-1688068800@www.bradleybeachnj.gov
SUMMARY:Sunset Yoga w/ Salted Soul
DESCRIPTION:
URL:https://www.bradleybeachnj.gov/event/sunset-yoga-w-salted-soul/2023-06-29/
LOCATION:LaReine Ave Beach
CATEGORIES:Recreation Calendar
END:VEVENT
BEGIN:VEVENT
DTSTART;TZID=America/New_York:20230626T190000
DTEND;TZID=America/New_York:20230626T194500
DTSTAMP:20260423T234729
CREATED:20230531T155844Z
LAST-MODIFIED:20230531T155844Z
UID:10001209-1687806000-1687808700@www.bradleybeachnj.gov
SUMMARY:Mellow Movement & Meditation w/ Salted Soul
DESCRIPTION:
URL:https://www.bradleybeachnj.gov/event/mellow-movement-meditation-w-salted-soul/2023-06-26/
LOCATION:LaReine Ave Beach
CATEGORIES:Recreation Calendar
END:VEVENT
END:VCALENDAR