BEGIN:VCALENDAR
VERSION:2.0
PRODID:-//Bradley Beach - ECPv6.15.18//NONSGML v1.0//EN
CALSCALE:GREGORIAN
METHOD:PUBLISH
X-ORIGINAL-URL:https://www.bradleybeachnj.gov
X-WR-CALDESC:Events for Bradley Beach
REFRESH-INTERVAL;VALUE=DURATION:PT1H
X-Robots-Tag:noindex
X-PUBLISHED-TTL:PT1H
BEGIN:VTIMEZONE
TZID:America/New_York
BEGIN:DAYLIGHT
TZOFFSETFROM:-0500
TZOFFSETTO:-0400
TZNAME:EDT
DTSTART:20240310T070000
END:DAYLIGHT
BEGIN:STANDARD
TZOFFSETFROM:-0400
TZOFFSETTO:-0500
TZNAME:EST
DTSTART:20241103T060000
END:STANDARD
BEGIN:DAYLIGHT
TZOFFSETFROM:-0500
TZOFFSETTO:-0400
TZNAME:EDT
DTSTART:20250309T070000
END:DAYLIGHT
BEGIN:STANDARD
TZOFFSETFROM:-0400
TZOFFSETTO:-0500
TZNAME:EST
DTSTART:20251102T060000
END:STANDARD
BEGIN:DAYLIGHT
TZOFFSETFROM:-0500
TZOFFSETTO:-0400
TZNAME:EDT
DTSTART:20260308T070000
END:DAYLIGHT
BEGIN:STANDARD
TZOFFSETFROM:-0400
TZOFFSETTO:-0500
TZNAME:EST
DTSTART:20261101T060000
END:STANDARD
BEGIN:DAYLIGHT
TZOFFSETFROM:-0500
TZOFFSETTO:-0400
TZNAME:EDT
DTSTART:20270314T070000
END:DAYLIGHT
BEGIN:STANDARD
TZOFFSETFROM:-0400
TZOFFSETTO:-0500
TZNAME:EST
DTSTART:20271107T060000
END:STANDARD
END:VTIMEZONE
BEGIN:VEVENT
DTSTART;TZID=America/New_York:20260328T120000
DTEND;TZID=America/New_York:20260328T130000
DTSTAMP:20260423T032835
CREATED:20260317T161038Z
LAST-MODIFIED:20260317T161038Z
UID:10002341-1774699200-1774702800@www.bradleybeachnj.gov
SUMMARY:Bradley Beach Fire Departments Annual Easter Egg Hunt
DESCRIPTION:
URL:https://www.bradleybeachnj.gov/event/bradley-beach-fire-departments-annual-easter-egg-hunt/
LOCATION:Newark Ave Beach
CATEGORIES:Community Events Calendar
ATTACH;FMTTYPE=image/png:https://www.bradleybeachnj.gov/wp-content/uploads/2026/03/March-28th.png
END:VEVENT
BEGIN:VEVENT
DTSTART;TZID=America/New_York:20250710T190000
DTEND;TZID=America/New_York:20250710T210000
DTSTAMP:20260423T032835
CREATED:20250708T015428Z
LAST-MODIFIED:20250708T015428Z
UID:10001884-1752174000-1752181200@www.bradleybeachnj.gov
SUMMARY:Brookdale Concert Series
DESCRIPTION:
URL:https://www.bradleybeachnj.gov/event/brookdale-concert-series-8/
LOCATION:Newark Ave Beach
CATEGORIES:Community Events Calendar,Tourism Event Calendar
ATTACH;FMTTYPE=image/png:https://www.bradleybeachnj.gov/wp-content/uploads/2025/07/Screenshot-2025-07-03-at-10.52.53 AM.png
END:VEVENT
END:VCALENDAR