BEGIN:VCALENDAR
VERSION:2.0
PRODID:-//Bradley Beach - ECPv6.15.18//NONSGML v1.0//EN
CALSCALE:GREGORIAN
METHOD:PUBLISH
X-WR-CALNAME:Bradley Beach
X-ORIGINAL-URL:https://www.bradleybeachnj.gov
X-WR-CALDESC:Events for Bradley Beach
REFRESH-INTERVAL;VALUE=DURATION:PT1H
X-Robots-Tag:noindex
X-PUBLISHED-TTL:PT1H
BEGIN:VTIMEZONE
TZID:America/New_York
BEGIN:DAYLIGHT
TZOFFSETFROM:-0500
TZOFFSETTO:-0400
TZNAME:EDT
DTSTART:20230312T070000
END:DAYLIGHT
BEGIN:STANDARD
TZOFFSETFROM:-0400
TZOFFSETTO:-0500
TZNAME:EST
DTSTART:20231105T060000
END:STANDARD
BEGIN:DAYLIGHT
TZOFFSETFROM:-0500
TZOFFSETTO:-0400
TZNAME:EDT
DTSTART:20240310T070000
END:DAYLIGHT
BEGIN:STANDARD
TZOFFSETFROM:-0400
TZOFFSETTO:-0500
TZNAME:EST
DTSTART:20241103T060000
END:STANDARD
BEGIN:DAYLIGHT
TZOFFSETFROM:-0500
TZOFFSETTO:-0400
TZNAME:EDT
DTSTART:20250309T070000
END:DAYLIGHT
BEGIN:STANDARD
TZOFFSETFROM:-0400
TZOFFSETTO:-0500
TZNAME:EST
DTSTART:20251102T060000
END:STANDARD
BEGIN:DAYLIGHT
TZOFFSETFROM:-0500
TZOFFSETTO:-0400
TZNAME:EDT
DTSTART:20260308T070000
END:DAYLIGHT
BEGIN:STANDARD
TZOFFSETFROM:-0400
TZOFFSETTO:-0500
TZNAME:EST
DTSTART:20261101T060000
END:STANDARD
END:VTIMEZONE
BEGIN:VEVENT
DTSTART;TZID=America/New_York:20250709T190000
DTEND;TZID=America/New_York:20250709T210000
DTSTAMP:20260423T112853
CREATED:20250616T121038Z
LAST-MODIFIED:20250616T121038Z
UID:10001610-1752087600-1752094800@www.bradleybeachnj.gov
SUMMARY:Summer Jazz Series
DESCRIPTION:Bradley Beach Tourism Commission presents its 2025 event series! Click here for more information and full schedule! 
URL:https://www.bradleybeachnj.gov/event/summer-jazz-series/2025-07-09/
LOCATION:Riley Park
CATEGORIES:Community Events Calendar,Tourism Event Calendar
ATTACH;FMTTYPE=image/png:https://www.bradleybeachnj.gov/wp-content/uploads/2025/06/Screenshot-2025-03-18-at-8.51.08 AM.png
END:VEVENT
BEGIN:VEVENT
DTSTART;TZID=America/New_York:20250707T190000
DTEND;TZID=America/New_York:20250707T210000
DTSTAMP:20260423T112853
CREATED:20250616T121038Z
LAST-MODIFIED:20250616T121038Z
UID:10001609-1751914800-1751922000@www.bradleybeachnj.gov
SUMMARY:Summer Jazz Series
DESCRIPTION:Bradley Beach Tourism Commission presents its 2025 event series! Click here for more information and full schedule! 
URL:https://www.bradleybeachnj.gov/event/summer-jazz-series/2025-07-07/
LOCATION:Riley Park
CATEGORIES:Community Events Calendar,Tourism Event Calendar
ATTACH;FMTTYPE=image/png:https://www.bradleybeachnj.gov/wp-content/uploads/2025/06/Screenshot-2025-03-18-at-8.51.08 AM.png
END:VEVENT
BEGIN:VEVENT
DTSTART;TZID=America/New_York:20250703T180000
DTEND;TZID=America/New_York:20250703T200000
DTSTAMP:20260423T112853
CREATED:20250528T182329Z
LAST-MODIFIED:20250528T182329Z
UID:10001875-1751565600-1751572800@www.bradleybeachnj.gov
SUMMARY:63rd Army Band in Riley Park
DESCRIPTION:
URL:https://www.bradleybeachnj.gov/event/63rd-army-band-in-riley-park/
LOCATION:Riley Park
END:VEVENT
BEGIN:VEVENT
DTSTART;TZID=America/New_York:20250702T190000
DTEND;TZID=America/New_York:20250702T210000
DTSTAMP:20260423T112853
CREATED:20250616T121038Z
LAST-MODIFIED:20250616T121038Z
UID:10001608-1751482800-1751490000@www.bradleybeachnj.gov
SUMMARY:Summer Jazz Series
DESCRIPTION:Bradley Beach Tourism Commission presents its 2025 event series! Click here for more information and full schedule! 
URL:https://www.bradleybeachnj.gov/event/summer-jazz-series/2025-07-02/
LOCATION:Riley Park
CATEGORIES:Community Events Calendar,Tourism Event Calendar
ATTACH;FMTTYPE=image/png:https://www.bradleybeachnj.gov/wp-content/uploads/2025/06/Screenshot-2025-03-18-at-8.51.08 AM.png
END:VEVENT
BEGIN:VEVENT
DTSTART;TZID=America/New_York:20250630T190000
DTEND;TZID=America/New_York:20250630T210000
DTSTAMP:20260423T112853
CREATED:20250616T121038Z
LAST-MODIFIED:20250616T121038Z
UID:10001607-1751310000-1751317200@www.bradleybeachnj.gov
SUMMARY:Summer Jazz Series
DESCRIPTION:Bradley Beach Tourism Commission presents its 2025 event series! Click here for more information and full schedule! 
URL:https://www.bradleybeachnj.gov/event/summer-jazz-series/2025-06-30/
LOCATION:Riley Park
CATEGORIES:Community Events Calendar,Tourism Event Calendar
ATTACH;FMTTYPE=image/png:https://www.bradleybeachnj.gov/wp-content/uploads/2025/06/Screenshot-2025-03-18-at-8.51.08 AM.png
END:VEVENT
BEGIN:VEVENT
DTSTART;TZID=America/New_York:20250625T190000
DTEND;TZID=America/New_York:20250625T210000
DTSTAMP:20260423T112853
CREATED:20250616T121038Z
LAST-MODIFIED:20250616T121038Z
UID:10001606-1750878000-1750885200@www.bradleybeachnj.gov
SUMMARY:Summer Jazz Series
DESCRIPTION:Bradley Beach Tourism Commission presents its 2025 event series! Click here for more information and full schedule! 
URL:https://www.bradleybeachnj.gov/event/summer-jazz-series/2025-06-25/
LOCATION:Riley Park
CATEGORIES:Community Events Calendar,Tourism Event Calendar
ATTACH;FMTTYPE=image/png:https://www.bradleybeachnj.gov/wp-content/uploads/2025/06/Screenshot-2025-03-18-at-8.51.08 AM.png
END:VEVENT
BEGIN:VEVENT
DTSTART;TZID=America/New_York:20250625T190000
DTEND;TZID=America/New_York:20250625T210000
DTSTAMP:20260423T112853
CREATED:20250616T120101Z
LAST-MODIFIED:20250616T120437Z
UID:10001877-1750878000-1750885200@www.bradleybeachnj.gov
SUMMARY:Beatles Concert
DESCRIPTION:Bradley Beach Tourism Commission presents its 2025 event series! Click here for more information and full schedule! 
URL:https://www.bradleybeachnj.gov/event/beatles-concert/
LOCATION:Riley Park
CATEGORIES:Community Events Calendar,Tourism Event Calendar
ATTACH;FMTTYPE=image/jpeg:https://www.bradleybeachnj.gov/wp-content/uploads/2025/06/493257359_1107178664787303_48204932084954713_n.jpg
END:VEVENT
BEGIN:VEVENT
DTSTART;TZID=America/New_York:20250623T190000
DTEND;TZID=America/New_York:20250623T210000
DTSTAMP:20260423T112853
CREATED:20250616T121038Z
LAST-MODIFIED:20250616T121038Z
UID:10001605-1750705200-1750712400@www.bradleybeachnj.gov
SUMMARY:Summer Jazz Series
DESCRIPTION:Bradley Beach Tourism Commission presents its 2025 event series! Click here for more information and full schedule! 
URL:https://www.bradleybeachnj.gov/event/summer-jazz-series/2025-06-23/
LOCATION:Riley Park
CATEGORIES:Community Events Calendar,Tourism Event Calendar
ATTACH;FMTTYPE=image/png:https://www.bradleybeachnj.gov/wp-content/uploads/2025/06/Screenshot-2025-03-18-at-8.51.08 AM.png
END:VEVENT
BEGIN:VEVENT
DTSTART;TZID=America/New_York:20250618T190000
DTEND;TZID=America/New_York:20250618T210000
DTSTAMP:20260423T112853
CREATED:20250616T121038Z
LAST-MODIFIED:20250616T121038Z
UID:10001604-1750273200-1750280400@www.bradleybeachnj.gov
SUMMARY:Summer Jazz Series
DESCRIPTION:Bradley Beach Tourism Commission presents its 2025 event series! Click here for more information and full schedule! 
URL:https://www.bradleybeachnj.gov/event/summer-jazz-series/2025-06-18/
LOCATION:Riley Park
CATEGORIES:Community Events Calendar,Tourism Event Calendar
ATTACH;FMTTYPE=image/png:https://www.bradleybeachnj.gov/wp-content/uploads/2025/06/Screenshot-2025-03-18-at-8.51.08 AM.png
END:VEVENT
BEGIN:VEVENT
DTSTART;TZID=America/New_York:20250616T190000
DTEND;TZID=America/New_York:20250616T210000
DTSTAMP:20260423T112853
CREATED:20250616T121038Z
LAST-MODIFIED:20250616T121038Z
UID:10001603-1750100400-1750107600@www.bradleybeachnj.gov
SUMMARY:Summer Jazz Series
DESCRIPTION:Bradley Beach Tourism Commission presents its 2025 event series! Click here for more information and full schedule! 
URL:https://www.bradleybeachnj.gov/event/summer-jazz-series/2025-06-16/
LOCATION:Riley Park
CATEGORIES:Community Events Calendar,Tourism Event Calendar
ATTACH;FMTTYPE=image/png:https://www.bradleybeachnj.gov/wp-content/uploads/2025/06/Screenshot-2025-03-18-at-8.51.08 AM.png
END:VEVENT
BEGIN:VEVENT
DTSTART;TZID=America/New_York:20250504T120000
DTEND;TZID=America/New_York:20250504T160000
DTSTAMP:20260423T112853
CREATED:20250410T131658Z
LAST-MODIFIED:20250410T131658Z
UID:10001865-1746360000-1746374400@www.bradleybeachnj.gov
SUMMARY:5th Annual Green Fair
DESCRIPTION:The Bradley Beach Green Fair is a free family-friendly event that promotes a healthy and sustainable lifestyle. The Green Fair will introduce sustainability to all members of the community\, help educate them about the difference that conscious efforts in conservation and recycling can make and provide them with tools that they can take home and use.\n\nThis free event for the whole family will provide information and activities to help residents learn about the small steps they can take at home\, work and in the community to improve our environment and make Bradley Beach a greener and healthier place to live.\n\nInterested vendors can email: tourism@bradleybeachnj.gov
URL:https://www.bradleybeachnj.gov/event/5th-annual-green-fair/
LOCATION:Riley Park
CATEGORIES:Borough Calendar,Community Events Calendar
ATTACH;FMTTYPE=image/jpeg:https://www.bradleybeachnj.gov/wp-content/uploads/2025/02/475307961_1036027781902392_8357339044880181851_n.jpg
END:VEVENT
BEGIN:VEVENT
DTSTART;TZID=America/New_York:20241201T160000
DTEND;TZID=America/New_York:20241201T180000
DTSTAMP:20260423T112853
CREATED:20241017T175847Z
LAST-MODIFIED:20241017T175847Z
UID:10001729-1733068800-1733076000@www.bradleybeachnj.gov
SUMMARY:Bradley Beach Tree Lighting
DESCRIPTION:
URL:https://www.bradleybeachnj.gov/event/bradley-beach-tree-lighting/
LOCATION:Riley Park
CATEGORIES:Community Events Calendar
END:VEVENT
BEGIN:VEVENT
DTSTART;TZID=America/New_York:20241018T180000
DTEND;TZID=America/New_York:20241018T200000
DTSTAMP:20260423T112853
CREATED:20240923T154146Z
LAST-MODIFIED:20240923T155530Z
UID:10001512-1729274400-1729281600@www.bradleybeachnj.gov
SUMMARY:Halloween Movie in Riley Park
DESCRIPTION:
URL:https://www.bradleybeachnj.gov/event/halloween-movie-in-riley-park/
LOCATION:Riley Park
CATEGORIES:Community Events Calendar
END:VEVENT
BEGIN:VEVENT
DTSTART;TZID=America/New_York:20240914T140000
DTEND;TZID=America/New_York:20240914T200000
DTSTAMP:20260423T112853
CREATED:20240826T152051Z
LAST-MODIFIED:20240826T152051Z
UID:10001726-1726322400-1726344000@www.bradleybeachnj.gov
SUMMARY:VIVA Bradley Beach
DESCRIPTION:
URL:https://www.bradleybeachnj.gov/event/viva-bradley-beach/
LOCATION:Riley Park
CATEGORIES:Community Events Calendar
END:VEVENT
BEGIN:VEVENT
DTSTART;TZID=America/New_York:20240907T170000
DTEND;TZID=America/New_York:20240907T190000
DTSTAMP:20260423T112853
CREATED:20240415T171645Z
LAST-MODIFIED:20240415T171645Z
UID:10001471-1725728400-1725735600@www.bradleybeachnj.gov
SUMMARY:Saturday in the Park Concert Series- Jump Back
DESCRIPTION:
URL:https://www.bradleybeachnj.gov/event/saturday-in-the-park-concert-series-jump-back/
LOCATION:Riley Park
CATEGORIES:Community Events Calendar
END:VEVENT
BEGIN:VEVENT
DTSTART;TZID=America/New_York:20240831T170000
DTEND;TZID=America/New_York:20240831T190000
DTSTAMP:20260423T112853
CREATED:20240415T171559Z
LAST-MODIFIED:20240415T171559Z
UID:10001469-1725123600-1725130800@www.bradleybeachnj.gov
SUMMARY:Saturday in the Park Concert Series- Eddie Testa Band
DESCRIPTION:
URL:https://www.bradleybeachnj.gov/event/saturday-in-the-park-concert-series-eddie-testa-band/
LOCATION:Riley Park
CATEGORIES:Community Events Calendar
END:VEVENT
BEGIN:VEVENT
DTSTART;TZID=America/New_York:20240828T180000
DTEND;TZID=America/New_York:20240828T200000
DTSTAMP:20260423T112853
CREATED:20240820T130701Z
LAST-MODIFIED:20240820T130701Z
UID:10001724-1724868000-1724875200@www.bradleybeachnj.gov
SUMMARY:Concert in Riley Park: The Ruckus
DESCRIPTION:
URL:https://www.bradleybeachnj.gov/event/concert-in-riley-park-the-ruckus/
LOCATION:Riley Park
CATEGORIES:Community Events Calendar
END:VEVENT
BEGIN:VEVENT
DTSTART;TZID=America/New_York:20240824T170000
DTEND;TZID=America/New_York:20240824T190000
DTSTAMP:20260423T112853
CREATED:20240415T171524Z
LAST-MODIFIED:20240415T171524Z
UID:10001679-1724518800-1724526000@www.bradleybeachnj.gov
SUMMARY:Saturday in the Park Concert Series- El Boro Bandits
DESCRIPTION:
URL:https://www.bradleybeachnj.gov/event/saturday-in-the-park-concert-series-el-boro-bandits/
LOCATION:Riley Park
CATEGORIES:Community Events Calendar
END:VEVENT
BEGIN:VEVENT
DTSTART;TZID=America/New_York:20240817T170000
DTEND;TZID=America/New_York:20240817T190000
DTSTAMP:20260423T112853
CREATED:20240415T171439Z
LAST-MODIFIED:20240415T171439Z
UID:10001678-1723914000-1723921200@www.bradleybeachnj.gov
SUMMARY:Saturday in the Park Concert Series- The Verdict
DESCRIPTION:
URL:https://www.bradleybeachnj.gov/event/saturday-in-the-park-concert-series-the-verdict/
LOCATION:Riley Park
CATEGORIES:Community Events Calendar
END:VEVENT
BEGIN:VEVENT
DTSTART;TZID=America/New_York:20240816T190000
DTEND;TZID=America/New_York:20240816T210000
DTSTAMP:20260423T112853
CREATED:20240807T141945Z
LAST-MODIFIED:20240807T141945Z
UID:10001706-1723834800-1723842000@www.bradleybeachnj.gov
SUMMARY:Jimmy Buffet Review Concert
DESCRIPTION:
URL:https://www.bradleybeachnj.gov/event/jimmy-buffet-review-concert-2/
LOCATION:Riley Park
CATEGORIES:Community Events Calendar
END:VEVENT
BEGIN:VEVENT
DTSTART;TZID=America/New_York:20240814T200000
DTEND;TZID=America/New_York:20240814T220000
DTSTAMP:20260423T112853
CREATED:20240415T172012Z
LAST-MODIFIED:20240712T192710Z
UID:10001479-1723665600-1723672800@www.bradleybeachnj.gov
SUMMARY:Movie in the Park - "The Goonies"
DESCRIPTION:
URL:https://www.bradleybeachnj.gov/event/movie-in-the-park-3/
LOCATION:Riley Park
CATEGORIES:Community Events Calendar
END:VEVENT
BEGIN:VEVENT
DTSTART;TZID=America/New_York:20240810T170000
DTEND;TZID=America/New_York:20240810T190000
DTSTAMP:20260423T112853
CREATED:20240415T171348Z
LAST-MODIFIED:20240806T140350Z
UID:10001677-1723309200-1723316400@www.bradleybeachnj.gov
SUMMARY:CANCELED - Saturday in the Park Concert Series- The Ruckus
DESCRIPTION:This concert has been canceled due to weather. 
URL:https://www.bradleybeachnj.gov/event/saturday-in-the-park-concert-series-the-ruckus/
LOCATION:Riley Park
CATEGORIES:Community Events Calendar
END:VEVENT
BEGIN:VEVENT
DTSTART;TZID=America/New_York:20240807T190000
DTEND;TZID=America/New_York:20240807T210000
DTSTAMP:20260423T112853
CREATED:20240806T181310Z
LAST-MODIFIED:20240807T141834Z
UID:10001705-1723057200-1723064400@www.bradleybeachnj.gov
SUMMARY:Jimmy Buffet Review Concert RESCHEDULED to 8/16/24
DESCRIPTION:
URL:https://www.bradleybeachnj.gov/event/jimmy-buffet-review-concert/
LOCATION:Riley Park
CATEGORIES:Community Events Calendar
END:VEVENT
BEGIN:VEVENT
DTSTART;TZID=America/New_York:20240803T170000
DTEND;TZID=America/New_York:20240803T190000
DTSTAMP:20260423T112853
CREATED:20240415T171300Z
LAST-MODIFIED:20240415T171300Z
UID:10001676-1722704400-1722711600@www.bradleybeachnj.gov
SUMMARY:Saturday in the Park Concert Series- 5 Wheel Drive
DESCRIPTION:
URL:https://www.bradleybeachnj.gov/event/saturday-in-the-park-concert-series-5-wheel-drive/
LOCATION:Riley Park
CATEGORIES:Community Events Calendar
END:VEVENT
BEGIN:VEVENT
DTSTART;TZID=America/New_York:20240727T170000
DTEND;TZID=America/New_York:20240727T190000
DTSTAMP:20260423T112853
CREATED:20240415T171221Z
LAST-MODIFIED:20240415T171221Z
UID:10001675-1722099600-1722106800@www.bradleybeachnj.gov
SUMMARY:Saturday in the Park Concert Series- The Moroccan Sheepherders
DESCRIPTION:
URL:https://www.bradleybeachnj.gov/event/saturday-in-the-park-concert-series-the-moroccan-sheepherders/
LOCATION:Riley Park
CATEGORIES:Community Events Calendar
END:VEVENT
BEGIN:VEVENT
DTSTART;TZID=America/New_York:20240720T170000
DTEND;TZID=America/New_York:20240720T190000
DTSTAMP:20260423T112853
CREATED:20240415T171130Z
LAST-MODIFIED:20240415T171130Z
UID:10001674-1721494800-1721502000@www.bradleybeachnj.gov
SUMMARY:Saturday in the Park Concert Series- Little x Little
DESCRIPTION:
URL:https://www.bradleybeachnj.gov/event/saturday-in-the-park-concert-series-little-x-little/
LOCATION:Riley Park
CATEGORIES:Community Events Calendar
END:VEVENT
BEGIN:VEVENT
DTSTART;TZID=America/New_York:20240717T200000
DTEND;TZID=America/New_York:20240717T220000
DTSTAMP:20260423T112853
CREATED:20240415T171927Z
LAST-MODIFIED:20240712T192503Z
UID:10001477-1721246400-1721253600@www.bradleybeachnj.gov
SUMMARY:Movie in the Park -"My Big Fat Greek Wedding"
DESCRIPTION:
URL:https://www.bradleybeachnj.gov/event/movie-in-the-park-2/
LOCATION:Riley Park
CATEGORIES:Community Events Calendar
END:VEVENT
BEGIN:VEVENT
DTSTART;TZID=America/New_York:20240713T170000
DTEND;TZID=America/New_York:20240713T190000
DTSTAMP:20260423T112853
CREATED:20240415T170948Z
LAST-MODIFIED:20240415T171042Z
UID:10001673-1720890000-1720897200@www.bradleybeachnj.gov
SUMMARY:Saturday in the Park Concert Series- Pat Roddy Band
DESCRIPTION:
URL:https://www.bradleybeachnj.gov/event/saturday-in-the-park-concert-series-pat-roddy-band/
LOCATION:Riley Park
CATEGORIES:Community Events Calendar
END:VEVENT
BEGIN:VEVENT
DTSTART;TZID=America/New_York:20240706T170000
DTEND;TZID=America/New_York:20240706T190000
DTSTAMP:20260423T112853
CREATED:20240415T170855Z
LAST-MODIFIED:20240415T171017Z
UID:10001672-1720285200-1720292400@www.bradleybeachnj.gov
SUMMARY:Saturday in the Park Concert Series - Kenny K & The Way
DESCRIPTION:
URL:https://www.bradleybeachnj.gov/event/saturday-in-the-park-concert-series-kenny-k-the-way/
LOCATION:Riley Park
CATEGORIES:Community Events Calendar
END:VEVENT
BEGIN:VEVENT
DTSTART;TZID=America/New_York:20240703T180000
DTEND;TZID=America/New_York:20240703T180000
DTSTAMP:20260423T112853
CREATED:20240529T182216Z
LAST-MODIFIED:20240529T182216Z
UID:10001684-1720029600-1720029600@www.bradleybeachnj.gov
SUMMARY:NEW JERSEY ARMY NATIONAL GUARD 63RD ARMY BAND
DESCRIPTION:
URL:https://www.bradleybeachnj.gov/event/new-jersey-army-national-guard-63rd-army-band/
LOCATION:Riley Park
CATEGORIES:Borough Calendar
END:VEVENT
END:VCALENDAR